BEGIN:VCALENDAR
VERSION:2.0
PRODID:-//Anderson County - ECPv6.15.20//NONSGML v1.0//EN
CALSCALE:GREGORIAN
METHOD:PUBLISH
X-WR-CALNAME:Anderson County
X-ORIGINAL-URL:https://www.andersoncountysc.org
X-WR-CALDESC:Events for Anderson County
REFRESH-INTERVAL;VALUE=DURATION:PT1H
X-Robots-Tag:noindex
X-PUBLISHED-TTL:PT1H
BEGIN:VTIMEZONE
TZID:UTC
BEGIN:STANDARD
TZOFFSETFROM:+0000
TZOFFSETTO:+0000
TZNAME:UTC
DTSTART:20230101T000000
END:STANDARD
END:VTIMEZONE
BEGIN:VEVENT
DTSTART;VALUE=DATE:20240502
DTEND;VALUE=DATE:20240513
DTSTAMP:20260419T145210
CREATED:20240501T140906Z
LAST-MODIFIED:20240501T141114Z
UID:10001257-1714608000-1715558399@www.andersoncountysc.org
SUMMARY:The Great Anderson County Fair
DESCRIPTION:The Great Anderson County Fair🎡🏰🎠 \nFor more Fair information.\nFair Brochure\nThe Great Anderson County Fair \nHOURS:\nMonday – Thursday Hours: 4 PM – 10 PM\nFriday Hours: 4 PM – 11 PM\nSaturday Hours: 11 PM – 11 PM\nSunday Hours: 12:30 PM – 10 PM
URL:https://www.andersoncountysc.org/event/the-great-anderson-county-fair-2/
LOCATION:ASEC | Anderson Sports & Entertainment Center\, 3027 Martin Luther King Jr. Boulevard\, Anderson\, SC\, 29625\, United States
CATEGORIES:Community Event
ATTACH;FMTTYPE=image/jpeg:https://www.andersoncountysc.org/wp-content/uploads/2024/05/Fair-Web.jpg
END:VEVENT
BEGIN:VEVENT
DTSTART;TZID=UTC:20240504T090000
DTEND;TZID=UTC:20240504T140000
DTSTAMP:20260419T145210
CREATED:20240329T191958Z
LAST-MODIFIED:20240329T192554Z
UID:10001243-1714813200-1714831200@www.andersoncountysc.org
SUMMARY:Anderson County Spring Market
DESCRIPTION:The Anderson County Farmers Market is located in downtown Anderson\, SC and is open to local vendors selling fresh produce\, baked good & crafts. Open 9 am-2 pm Saturdays only in May.
URL:https://www.andersoncountysc.org/event/anderson-county-spring-market-2/
LOCATION:Farmers Market\, 402 N. Murray Avenue\, Anderson\, SC\, 29625\, United States
CATEGORIES:Community Event
END:VEVENT
BEGIN:VEVENT
DTSTART;TZID=UTC:20240504T100000
DTEND;TZID=UTC:20240504T140000
DTSTAMP:20260419T145210
CREATED:20240306T230349Z
LAST-MODIFIED:20240306T230446Z
UID:10001175-1714816800-1714831200@www.andersoncountysc.org
SUMMARY:Belton Shred Day
DESCRIPTION:Free Paper Shredding Event\n\n*Shredding Event is for residential customers only*
URL:https://www.andersoncountysc.org/event/belton-shred-day/
LOCATION:SC
CATEGORIES:Community Event
ATTACH;FMTTYPE=image/jpeg:https://www.andersoncountysc.org/wp-content/uploads/2024/03/Shred-Day-Flyer-BELTON-e1709766187391.jpg
END:VEVENT
BEGIN:VEVENT
DTSTART;TZID=UTC:20240507T180000
DTEND;TZID=UTC:20240507T193000
DTSTAMP:20260419T145210
CREATED:20240329T180828Z
LAST-MODIFIED:20240503T205312Z
UID:10001183-1715104800-1715110200@www.andersoncountysc.org
SUMMARY:County Council Meeting
DESCRIPTION:The Anderson County Council will meet on Tuesday\, May 7\, 2024\, in the Council Chambers\, Historic Courthouse\, 101 S. Main St.\, Anderson\, SC 29624. \nSpecial Presentations at 6 p.m.\nCouncil Meeting at 6:30 p.m. \nAgenda
URL:https://www.andersoncountysc.org/event/county-council-meeting-51/
LOCATION:Historic Courthouse\, 101 S. Main Street\, Anderson\, SC\, 29624\, United States
CATEGORIES:County Council Meeting
ATTACH;FMTTYPE=image/jpeg:https://www.andersoncountysc.org/wp-content/uploads/2022/01/AC-Seal-Color-e1675270283402.jpg
ORGANIZER;CN="Renee Watts":MAILTO:rdwatts@andersoncountysc.org
END:VEVENT
BEGIN:VEVENT
DTSTART;TZID=UTC:20240509T130000
DTEND;TZID=UTC:20240509T140000
DTSTAMP:20260419T145210
CREATED:20240506T152148Z
LAST-MODIFIED:20240506T152148Z
UID:10001258-1715259600-1715263200@www.andersoncountysc.org
SUMMARY:Convention & Visitors Bureau Meeting
DESCRIPTION:Convention & Visitors Bureau Board of Directors Regular Meeting on Thursday\, May 9th\, 2024 at 1:00 PM in the Visit Anderson Office\, 110 Federal Street\, Anderson\, SC. \nAGENDA
URL:https://www.andersoncountysc.org/event/convention-visitors-bureau-meeting/
LOCATION:Visit Anderson\, 110 Federal Street\, Anderson\, SC\, 29621\, United States
CATEGORIES:Committee Meetings
END:VEVENT
BEGIN:VEVENT
DTSTART;TZID=UTC:20240511T090000
DTEND;TZID=UTC:20240511T140000
DTSTAMP:20260419T145210
CREATED:20240329T192155Z
LAST-MODIFIED:20240329T192635Z
UID:10001244-1715418000-1715436000@www.andersoncountysc.org
SUMMARY:Anderson County Spring Market
DESCRIPTION:The Anderson County Farmers Market is located in downtown Anderson\, SC and is open to local vendors selling fresh produce\, baked good & crafts. Open 9 am-2 pm Saturdays only in May.
URL:https://www.andersoncountysc.org/event/anderson-county-spring-market-3/
LOCATION:Farmers Market\, 402 N. Murray Avenue\, Anderson\, SC\, 29625\, United States
CATEGORIES:Community Event
END:VEVENT
BEGIN:VEVENT
DTSTART;TZID=UTC:20240514T080000
DTEND;TZID=UTC:20240514T170000
DTSTAMP:20260419T145210
CREATED:20240514T154859Z
LAST-MODIFIED:20240514T155011Z
UID:10001260-1715673600-1715706000@www.andersoncountysc.org
SUMMARY:Applicant has requested that the Application for Dixon Road Amendment be removed from the agenda until further notice.
DESCRIPTION:
URL:https://www.andersoncountysc.org/event/applicant-has-requested-that-the-application-for-dixon-road-amendment-be-removed-from-the-agenda-until-further-notice/
LOCATION:SC
END:VEVENT
BEGIN:VEVENT
DTSTART;TZID=UTC:20240514T180000
DTEND;TZID=UTC:20240514T190000
DTSTAMP:20260419T145210
CREATED:20240404T143218Z
LAST-MODIFIED:20240426T172058Z
UID:10001250-1715709600-1715713200@www.andersoncountysc.org
SUMMARY:Planning Commission Meeting
DESCRIPTION:The Anderson County Planning Commission is scheduled to hold its next meeting on Tuesday\, May 14\, 2024\, at 6:00 PM at the Historic Courthouse\, located at 101 South Main Street\, Anderson\, SC 29624. \nAGENDA PACKET
URL:https://www.andersoncountysc.org/event/planning-commission-meeting-34/
LOCATION:Historic Courthouse\, 101 S. Main Street\, Anderson\, SC\, 29624\, United States
CATEGORIES:Planning Events
END:VEVENT
BEGIN:VEVENT
DTSTART;VALUE=DATE:20240516
DTEND;VALUE=DATE:20240519
DTSTAMP:20260419T145210
CREATED:20231114T173927Z
LAST-MODIFIED:20231114T173927Z
UID:10001129-1715817600-1716076799@www.andersoncountysc.org
SUMMARY:National Professional Fishing League
DESCRIPTION:The 2024 NPFL schedule is here with stops in Alabama\, South Carolina\, Tennessee\, Michigan\, Florida\, and Missouri. \nWILKESVILLE\, OH — The National Professional Fishing League (NPFL) announces its 2024 season that kicks off in early February with a stop in Alabama at Lake Logan Martin. The schedule brings anglers to new venues as well as some constants for the NPFL. \nWith stops ranging from Alabama to South Carolina\, and Tennessee to Michigan and Florida\, as well as a trip to the Midwest\, the League is excited to continue to expand its reach in the fishing industry. \nSaid Brad Fuller\, President of the NPFL. “We dedicated tremendous effort to preserving the essence and identity of The National Professional Fishing League in our 2024 schedule. This is a truly diverse schedule that covers the full spectrum of bass fishing throughout the entire year and the angler who secures the title of Angler of the Year will undoubtedly prove themselves as the most consistently well-rounded contender on our circuit. We’re thrilled to revisit some of the cherished stops from our history while also exploring exciting new venues. It’s of utmost importance that we leverage our schedule to continually expand the League’s brand and introduce ‘The League’ to bass havens around the country.” \nStop number one kicks off in February on Alabama’s Lake Logan Martin where the anglers get the season started on the Coosa River. The 49-mile playing field features over 26 square miles of Spotted and Largemouth bass-filled waters. \nFollowing stop one\, the 2024 season pauses briefly for the 2023 NPFL championship. Lake Amistad and the City of Del Rio\, Texas\, play host to the top anglers from the 2023 Progressive Angler of the Year race on March 7-9. With a $200\,000 total purse and a $100\,000 first-place prize\, the event in Texas will make for a fun tournament. \n“The City of Del Rio\, Texas is excited to host the quantity and quality of people coming in with the NPFL Championship next spring\,” said Blanca Larson\, Executive Director of Explore Del Rio Amistad Oasis. “In addition to the financial impact on the local economy\, we look forward to the NPFL showcasing all that Del Rio has to offer\, on and off the water. We are excited to showcase the value of coming to Del Rio\, TX to fish historic Lake Amistad.” \nAfter the 2023 NPFL championship in March\, the season resumes\, and the anglers return to Anderson\, South Carolina for stop number two\, and the second trip to Lake Hartwell for ‘The League\,’ on May 16 through 18. In 2022\, Drew Six took the victory with a three-day total of 51 pounds\, 5 ounces\, edging out Patrick Walters who weighed 46 pounds\, 14 ounces. \n“We are thrilled to welcome the NPFL back to Anderson County’s Green Pond Landing and Lake Hartwell! The leadership of Anderson County has provided us with the necessary resources to bring high-level events to our facilities that create an economic impact in our community\, and the NPFL delivers\,” said Neil Paul\, TMP\, Executive Director of Visit Anderson. “From their Angler Roundtables\, their Community Spotlights\, and their Community Service Projects\, they go above and beyond in leaving their mark on a host community\, and we’re looking forward to the opportunity to welcome them back to Anderson County in 2024!” \nFrom South Carolina\, stop three brings the anglers and their families back to the Tennessee River and Pickwick Lake. The City of Counce\, Tennessee plays host July 11 – 13\, and this marks the third trip to the Tennessee River in four seasons. In 2021\, Brandon Perkins took the victory with 55 pounds\, 11 ounces. To begin this season\, Perkins also took a win on Pickwick with a total of 66 pounds\, 3 ounces. \nFor stop four\, the league returns to the North to Bay City\, Michigan\, and the big water of Lake Huron\, on August 29 – 31. This will mark the third consecutive trip to Bay City for the NPFL with Gray Adkins taking the victory in 2022 with 51 pounds\, 13 ounces\, and this season\, Trent Palmer claimed the victory with 62 pounds\, 12 ounces. \n“Bay City is excited to welcome back The National Professional Fishing League in 2024\,” said Ed Clements\, Bay City Fishing Committee. “The end of August should provide an excellent event for competitors and fans; weights should be close and the winner will come right down to the wire. Look for largemouth to play a bigger role than ever on Saginaw Bay and river.” \nAfter the trip to the North\, the anglers will head South to none only than the St. Johns River. The City of Deland\, Florida plays host for stop five on the famed river in the early fall\, September 26-28. The NPFL returns to Florida for the third time in four years for the 2024 season. In 2021\, the league visited the Harris Chain of Lakes in June with John Soukup winning his second trophy of the season with a total weight of 61 pounds\, 15 ounces. In 2022\, Taylor Watkins took the victory on the Kissimmee Chain of Lakes in November with 69 pounds\, 14 ounces. \nThe season finale of the NPFL season brings the anglers and their families to the Midwest on October 24-26 for a Lake of the Ozarks showdown. Hosted by Central Missouri’s Tri-Country Lodging Association\, the Chompers Bait Company National Professional Fishing League Stop Six at Lake of the Ozarks is sure to be a great way to end the season. \n“The Lake of the Ozarks is thrilled to partner with The National Professional Fishing League for a fall 2024 event\,” says Lagina Fitzpatrick\, Executive Director of Central Missouri’s Tri-County Lodging. “We are blessed with one of the best fisheries in the county and enjoy welcoming new events and anglers to our little piece of paradise. We know everyone will enjoy their time here and can’t wait to welcome all next fall.” \n2024 National Professional Fishing League Schedule:\nStop 1 – Lake Logan Martin: Oxford\, Alabama\, February 1 – 3\n2023 NPFL Championship – Lake Amistad: Del Rio\, Texas\, March 7-9\nStop 2 – Lake Hartwell: Anderson\, South Carolina\, May 16 – 18 \nStop 3 – Pickwick Lake: Counce\, Tennessee\, July 11 – 13\nStop 4 – Saginaw Bay: Bay City\, Michigan\, August 29 – 31\nStop 5 – St. Johns River\, Deland\, Florida\, September 26-28\nStop 6 – Lake of the Ozarks\, Osage Beach\, Missouri\, October24-26 \nLearn more about the NPFL\, here. \n-###- \nAbout the National Professional Fishing League\nThe NPFL was designed to bring simplicity back to professional bass fishing – one lake\, the full field fishing all three days\, and the heaviest combined three-day weight winning. The goal of the NPFL is to put the anglers first and build a trail that gets back to what the founders of bass fishing intended it to be.
URL:https://www.andersoncountysc.org/event/national-professional-fishing-league/
LOCATION:Green Pond Landing & Event Center\, 470 Green Pond Road\, Anderson\, SC\, 29626\, United States
CATEGORIES:Parks Dept & Visit Anderson Event
ATTACH;FMTTYPE=image/jpeg:https://www.andersoncountysc.org/wp-content/uploads/2023/10/TEMPLATE_FB_Box-1.jpg
END:VEVENT
BEGIN:VEVENT
DTSTART;TZID=UTC:20240518T090000
DTEND;TZID=UTC:20240518T120000
DTSTAMP:20260419T145210
CREATED:20240306T231036Z
LAST-MODIFIED:20240306T231117Z
UID:10001176-1716022800-1716033600@www.andersoncountysc.org
SUMMARY:Honea Path Shred Day
DESCRIPTION:Free Paper Shredding Event\n*Shredding Event is for residential customers only*
URL:https://www.andersoncountysc.org/event/honea-path-shred-day/
LOCATION:Town of Honea Path | Town Hall\, 204 S. Main St.\, Honea Path\, SC\, 29654
CATEGORIES:Community Event
ATTACH;FMTTYPE=image/jpeg:https://www.andersoncountysc.org/wp-content/uploads/2024/03/Shred-Day-Flyer-HONEA-PATH-e1709766540851.jpg
END:VEVENT
BEGIN:VEVENT
DTSTART;TZID=UTC:20240518T090000
DTEND;TZID=UTC:20240518T140000
DTSTAMP:20260419T145210
CREATED:20240329T192356Z
LAST-MODIFIED:20240329T192356Z
UID:10001245-1716022800-1716040800@www.andersoncountysc.org
SUMMARY:Anderson County Spring Market
DESCRIPTION:The Anderson County Farmers Market is located in downtown Anderson\, SC and is open to local vendors selling fresh produce\, baked good & crafts. Open 9 am-2 pm Saturdays only in May.
URL:https://www.andersoncountysc.org/event/anderson-county-spring-market-4/
LOCATION:Farmers Market\, 402 N. Murray Avenue\, Anderson\, SC\, 29625\, United States
CATEGORIES:Community Event
END:VEVENT
BEGIN:VEVENT
DTSTART;TZID=UTC:20240519T130000
DTEND;TZID=UTC:20240519T200000
DTSTAMP:20260419T145210
CREATED:20240425T103830Z
LAST-MODIFIED:20240502T214956Z
UID:10001255-1716123600-1716148800@www.andersoncountysc.org
SUMMARY:Rhythm on the River
DESCRIPTION:Get ready for an exciting day by the river as we present the AnMed Rhythm on the River 2024 Music Festival hosted by Connect Powdersville.\n\n Date: May 19\, 2024 Time: 1 PM – 8 PM Location: MJ “Dolly” Cooper Park\n\n\nHere’s what we have in store for you: Over 15 Food Trucks: Savor a variety of delicious treats 30+ Craft Makers: Explore unique crafts and creations Entertainment Galore: Fun activities for all ages 6 Bands: Enjoy live music performed by Andrew Crawford & Brandi Colt\, James Tucker\, The Fortunate Sons\, and Gritty Flyright\, along with the Powdersville High School Jazz Band & the Sweet Potato Pie Kids that will have you dancing all day!\n🚲KidsZone ensuring a fun-filled day for the entire family!\n\n#ROTRPVL is a celebration of our Powdersville community spirit. So\, bring your friends\, family & coworkers and let’s make memories @ Dolly Cooper Park down by the river!\nLooking forward to seeing you there for a day of fun\, food\, and fantastic music\, all for you\, Powdersville!\n\n—Thank you to our Sponsors for supporting #ROTRPVL and the opportunity for our community to gather.\nTitle Sponsor: AnMedKidsZone Sponsor: Tiger PediatricsHospitality Sponsor: Fred Anderson ChevroletCommunity Partner: Anderson CountyCommunity Sponsors:Duke EnergyPark National BankREWABradley K. Richardson P.C.Blue Ridge Electric Co-opIssaqueena Pediatric Dentistry & OrthodonticsPlumblineCenterwell Senior Primary CareServPro Team HarloeAcentria InsuranceKudzu StaffingJohnny Harvin State FarmCindy Fox Miller & AssociatesNeedlestack Digital MarketingConnect Powdersville\nSpecial thank you to Anderson County\, ECO Waste Services & TTI for providing essential services and Raffle Gifts\, without which this event would not be possible!
URL:https://www.andersoncountysc.org/event/rhythm-on-the-river-3/
LOCATION:MJ “Dolly” Cooper Park\, 170 Spearman Circle\, Greenville\, SC\, 29611\, United States
CATEGORIES:Community Event
END:VEVENT
BEGIN:VEVENT
DTSTART;TZID=UTC:20240521T180000
DTEND;TZID=UTC:20240521T193000
DTSTAMP:20260419T145210
CREATED:20240329T181111Z
LAST-MODIFIED:20240517T190511Z
UID:10001184-1716314400-1716319800@www.andersoncountysc.org
SUMMARY:County Council Meeting
DESCRIPTION:The Anderson County Council will meet on Tuesday\, May 21\, 2024\, in the Council Chambers\, Historic Courthouse\, 101 S. Main St.\, Anderson\, SC 29624. \nSpecial Presentations at 6 p.m.\nCouncil Meeting at 6:30 p.m. \nAGENDA
URL:https://www.andersoncountysc.org/event/county-council-meeting-52/
LOCATION:Historic Courthouse\, 101 S. Main Street\, Anderson\, SC\, 29624\, United States
CATEGORIES:County Council Meeting
ATTACH;FMTTYPE=image/jpeg:https://www.andersoncountysc.org/wp-content/uploads/2022/01/AC-Seal-Color-e1675270283402.jpg
ORGANIZER;CN="Renee Watts":MAILTO:rdwatts@andersoncountysc.org
END:VEVENT
BEGIN:VEVENT
DTSTART;TZID=UTC:20240522T103000
DTEND;TZID=UTC:20240522T110000
DTSTAMP:20260419T145210
CREATED:20240521T194501Z
LAST-MODIFIED:20240521T201543Z
UID:10001263-1716373800-1716375600@www.andersoncountysc.org
SUMMARY:Announcement: Restoration & Redevelopment of the Historic Chiquola Mill Site
DESCRIPTION:CHIQUOLA MILL SITE\n410 Chiquola Avenue\, Honea Path\n(Northeast Corner of Chiquola Avenue & Carolina Avenue) \nHonea Path and Anderson County Announce a $2.6 Million Grant for the Restoration and Redevelopment of the Historic Chiquola Mill Site | FULL RELEASE
URL:https://www.andersoncountysc.org/event/chiquola-mill-site-announcement/
LOCATION:SC
CATEGORIES:Community Event
ATTACH;FMTTYPE=image/jpeg:https://www.andersoncountysc.org/wp-content/uploads/2024/05/Chiquola-Mill_Redevelopment-Plans-1-e1716322059299.jpg
END:VEVENT
BEGIN:VEVENT
DTSTART;TZID=UTC:20240525T090000
DTEND;TZID=UTC:20240525T140000
DTSTAMP:20260419T145210
CREATED:20240329T192513Z
LAST-MODIFIED:20240329T192513Z
UID:10001246-1716627600-1716645600@www.andersoncountysc.org
SUMMARY:Anderson County Spring Market
DESCRIPTION:The Anderson County Farmers Market is located in downtown Anderson\, SC and is open to local vendors selling fresh produce\, baked good & crafts. Open 9 am-2 pm Saturdays only in May.
URL:https://www.andersoncountysc.org/event/anderson-county-spring-market-5/
LOCATION:Farmers Market\, 402 N. Murray Avenue\, Anderson\, SC\, 29625\, United States
CATEGORIES:Community Event
END:VEVENT
BEGIN:VEVENT
DTSTART;TZID=UTC:20240528T090000
DTEND;TZID=UTC:20240528T150000
DTSTAMP:20260419T145210
CREATED:20240515T213035Z
LAST-MODIFIED:20240523T144123Z
UID:10001261-1716886800-1716908400@www.andersoncountysc.org
SUMMARY:Veterans Workshop and Claims Clinic
DESCRIPTION:Connecting our veterans with local resources in Anderson County: healthcare\, Senior Services\, Financial Assistance\, Claims Assistance\, and more. Tuesday\, May 28th\, 2024\, from 9 a.m. to 3 p.m. at the Anderson Civic Center. Call Anderson County Veterans Affairs at 864.260.4036 for more info.\n\n\n\nAny veteran needing a Will or Power Attorney should contact the Anderson County Veterans Affairs Office at 864.260.4036 to schedule a meeting with an attorney at the Veterans Clinic.\n\n  \n 
URL:https://www.andersoncountysc.org/event/veterans-workshop-and-claims-clinic/
LOCATION:Civic Center\, 3027 Martin Luther King Jr Blvd\, Anderson\, SC\, 29625\, United States
CATEGORIES:Community Event
ATTACH;FMTTYPE=image/png:https://www.andersoncountysc.org/wp-content/uploads/2024/05/Vets-Clinic-e1716475275571.png
ORGANIZER;CN="Veterans Affairs Office":MAILTO:camartin@andersoncountysc.org
END:VEVENT
BEGIN:VEVENT
DTSTART;TZID=UTC:20240529T080000
DTEND;TZID=UTC:20240529T170000
DTSTAMP:20260419T145210
CREATED:20240529T154328Z
LAST-MODIFIED:20240529T154834Z
UID:10001265-1716969600-1717002000@www.andersoncountysc.org
SUMMARY:Piedmont Area Plan
DESCRIPTION:ThePiedmontAreaPlan
URL:https://www.andersoncountysc.org/event/piedmont-area-plan/
LOCATION:SC
END:VEVENT
BEGIN:VEVENT
DTSTART;TZID=UTC:20240531T103000
DTEND;TZID=UTC:20240531T113000
DTSTAMP:20260419T145210
CREATED:20240523T143859Z
LAST-MODIFIED:20240523T143859Z
UID:10001264-1717151400-1717155000@www.andersoncountysc.org
SUMMARY:SC Farm Bureau Grain Elevator Groundbreaking Ceremony
DESCRIPTION:Join us for a Groundbreaking Ceremony – South Carolina Farm Bureau Grain Elevator. \nLocation: 1306 Whitehall Rd\, Anderson\, SC 29625
URL:https://www.andersoncountysc.org/event/sc-farm-bureau-grain-elevator-groundbreaking-ceremony/
LOCATION:SC
CATEGORIES:Community Event
ATTACH;FMTTYPE=image/jpeg:https://www.andersoncountysc.org/wp-content/uploads/2024/05/Farm-Bureau-Groundbreaking_5.31.2024.jpg
END:VEVENT
END:VCALENDAR