BEGIN:VCALENDAR
VERSION:2.0
PRODID:-//Anderson County - ECPv6.15.20//NONSGML v1.0//EN
CALSCALE:GREGORIAN
METHOD:PUBLISH
X-ORIGINAL-URL:https://www.andersoncountysc.org
X-WR-CALDESC:Events for Anderson County
REFRESH-INTERVAL;VALUE=DURATION:PT1H
X-Robots-Tag:noindex
X-PUBLISHED-TTL:PT1H
BEGIN:VTIMEZONE
TZID:UTC
BEGIN:STANDARD
TZOFFSETFROM:+0000
TZOFFSETTO:+0000
TZNAME:UTC
DTSTART:20230101T000000
END:STANDARD
END:VTIMEZONE
BEGIN:VEVENT
DTSTART;TZID=UTC:20240604T180000
DTEND;TZID=UTC:20240604T193000
DTSTAMP:20260419T164827
CREATED:20240423T153249Z
LAST-MODIFIED:20240601T010046Z
UID:10001252-1717524000-1717529400@www.andersoncountysc.org
SUMMARY:County Council Meeting
DESCRIPTION:The Anderson County Council will meet on Tuesday\, June 4\, 2024\, in the Council Chambers\, of the Historic Courthouse\, 101 S. Main St.\, Anderson\, SC 29624. \nSpecial Presentations at 6 p.m.\nCouncil Meeting at 6:30 p.m. \nAGENDA \nThe meeting agenda is posted at www.andersoncountysc.org/county-council.
URL:https://www.andersoncountysc.org/event/county-council-meeting-53/
LOCATION:Historic Courthouse\, 101 S. Main Street\, Anderson\, SC\, 29624\, United States
CATEGORIES:County Council Meeting
ATTACH;FMTTYPE=image/jpeg:https://www.andersoncountysc.org/wp-content/uploads/2022/01/AC-Seal-Color-e1675270283402.jpg
ORGANIZER;CN="Renee Watts":MAILTO:rdwatts@andersoncountysc.org
END:VEVENT
BEGIN:VEVENT
DTSTART;TZID=UTC:20240611T180000
DTEND;TZID=UTC:20240611T190000
DTSTAMP:20260419T164827
CREATED:20240605T152936Z
LAST-MODIFIED:20240605T153215Z
UID:10001266-1718128800-1718132400@www.andersoncountysc.org
SUMMARY:Planning Commission Meeting
DESCRIPTION:The Anderson County Planning Commission is scheduled to hold its next meeting on Tuesday\, June 11\, 2024\, at 6:00 PM at the Historic Courthouse\, 101 South Main Street\, Anderson\, SC 29624. \nAGENDA PACKET
URL:https://www.andersoncountysc.org/event/planning-commission-meeting-33/
LOCATION:Historic Courthouse\, 101 S. Main Street\, Anderson\, SC\, 29624\, United States
CATEGORIES:Committee Meetings,Community Meeting
END:VEVENT
BEGIN:VEVENT
DTSTART;TZID=UTC:20240613T171500
DTEND;TZID=UTC:20240613T180000
DTSTAMP:20260419T164827
CREATED:20240606T141118Z
LAST-MODIFIED:20240606T141904Z
UID:10001267-1718298900-1718301600@www.andersoncountysc.org
SUMMARY:Board of Zoning Appeals Meeting
DESCRIPTION:The Board of Zoning Appeals will meet on Thursday\, June 13\, 2024\, at 5:15 pm at the Historic Courthouse. The agenda and packet are on the Board of Zoning Appeals webpage. \nAGENDA PACKET
URL:https://www.andersoncountysc.org/event/board-of-zoning-appeals-4/
LOCATION:Historic Courthouse\, 101 S. Main Street\, Anderson\, SC\, 29624\, United States
CATEGORIES:Community Meeting
END:VEVENT
BEGIN:VEVENT
DTSTART;TZID=UTC:20240617T103000
DTEND;TZID=UTC:20240617T113000
DTSTAMP:20260419T164827
CREATED:20240614T164803Z
LAST-MODIFIED:20240614T164803Z
UID:10001268-1718620200-1718623800@www.andersoncountysc.org
SUMMARY:Finance Committee Meeting
DESCRIPTION:The County Council’s Finance Committee will meet on Monday\, June 17\, 2024\, at 10:30 AM in the Historic Courthouse\, 101 South Main Street\, Anderson\, SC 29624. \nAGENDA
URL:https://www.andersoncountysc.org/event/finance-committee-meeting-11/
LOCATION:Historic Courthouse\, 101 S. Main Street\, Anderson\, SC\, 29624\, United States
CATEGORIES:Council Committee Meeting
ATTACH;FMTTYPE=image/jpeg:https://www.andersoncountysc.org/wp-content/uploads/2022/01/AC-Seal-Color-e1675270283402.jpg
ORGANIZER;CN="Renee Watts":MAILTO:rdwatts@andersoncountysc.org
END:VEVENT
BEGIN:VEVENT
DTSTART;TZID=UTC:20240618T180000
DTEND;TZID=UTC:20240618T193000
DTSTAMP:20260419T164827
CREATED:20240423T153540Z
LAST-MODIFIED:20240614T223042Z
UID:10001253-1718733600-1718739000@www.andersoncountysc.org
SUMMARY:County Council Meeting
DESCRIPTION:The Anderson County Council will meet on Tuesday\, June 18\, 2024\, in the Council Chambers of the Historic Courthouse\, 101 S. Main St.\, Anderson\, SC 29624. \nSpecial Presentations at 6 p.m.\nCouncil Meeting at 6:30 p.m. \nAgenda
URL:https://www.andersoncountysc.org/event/county-council-meeting-54/
LOCATION:Historic Courthouse\, 101 S. Main Street\, Anderson\, SC\, 29624\, United States
CATEGORIES:County Council Meeting
ATTACH;FMTTYPE=image/jpeg:https://www.andersoncountysc.org/wp-content/uploads/2022/01/AC-Seal-Color-e1675270283402.jpg
ORGANIZER;CN="Renee Watts":MAILTO:rdwatts@andersoncountysc.org
END:VEVENT
BEGIN:VEVENT
DTSTART;VALUE=DATE:20240619
DTEND;VALUE=DATE:20240623
DTSTAMP:20260419T164827
CREATED:20240613T144542Z
LAST-MODIFIED:20240614T225301Z
UID:10001269-1718755200-1719100799@www.andersoncountysc.org
SUMMARY:15th Annual High School Fishing World Finals & National Championship
DESCRIPTION:Pinnacle High School Event In The World Offers Millions In Scholarships & Prizes.\n15th Annual High School Fishing World Finals & National Championship heads to Anderson\, SC\, June 19-22 on Lake Hartwell \nThe world’s premier High School Fishing event is headed to Anderson\, South Carolina\, on Lake Hartwell June 19-22. The fifteenth annual High School Fishing World Finals and National Championship dual event already have over 400 teams from around the world signed up for this wildly popular event. SAF member teams from most US States and multiple foreign countries such as Canada\, Zimbabwe\, and South Africa are expected to attend and compete for a share of the richest prize pool in all of bass fishing\, which will offer up an eye-popping 3 million dollars plus total in prizes and scholarships all done with NO entry fees. \nPress Release
URL:https://www.andersoncountysc.org/event/15th-annual-high-school-fishing-world-finals-national-championship/
LOCATION:Green Pond Landing & Event Center\, 470 Green Pond Road\, Anderson\, SC\, 29626\, United States
CATEGORIES:Community Event
ATTACH;FMTTYPE=image/jpeg:https://www.andersoncountysc.org/wp-content/uploads/2024/06/HS-Fishing-World-Finals.jpg
ORGANIZER;CN="Matt Schell":MAILTO:mschell@andersoncountysc.org
END:VEVENT
BEGIN:VEVENT
DTSTART;TZID=UTC:20240620T171500
DTEND;TZID=UTC:20240620T180000
DTSTAMP:20260419T164827
CREATED:20240619T155009Z
LAST-MODIFIED:20240619T160431Z
UID:10001271-1718903700-1718906400@www.andersoncountysc.org
SUMMARY:County Council's Public Safety Committee Meeting
DESCRIPTION:The Anderson County Council’s Public Safety Committee will meet on Thursday\, June 20\, 2024\, at 5:15 pm\, at the Historic Courthouse\, 101 South Main Street\, Anderson\, SC. AGENDA
URL:https://www.andersoncountysc.org/event/councils-public-safety-committee-meeting/
LOCATION:Historic Courthouse\, 101 S. Main Street\, Anderson\, SC\, 29624\, United States
CATEGORIES:Council Committee Meeting
ATTACH;FMTTYPE=image/jpeg:https://www.andersoncountysc.org/wp-content/uploads/2022/01/AC-Seal-Color-e1675270283402.jpg
ORGANIZER;CN="Renee Watts":MAILTO:rdwatts@andersoncountysc.org
END:VEVENT
BEGIN:VEVENT
DTSTART;TZID=UTC:20240620T180000
DTEND;TZID=UTC:20240620T183000
DTSTAMP:20260419T164827
CREATED:20240619T154912Z
LAST-MODIFIED:20240619T154912Z
UID:10001272-1718906400-1718908200@www.andersoncountysc.org
SUMMARY:County Council Special Called Meeting
DESCRIPTION:The Anderson County Council Special Called meeting is on Thursday\, June 20\, 2024\, at 6 o’clock in the evening at the Historic Courthouse\, 101 South Main Street\, Anderson\, SC. AGENDA
URL:https://www.andersoncountysc.org/event/county-council-special-called-meeting-4/
LOCATION:SC
CATEGORIES:County Council Meeting
ATTACH;FMTTYPE=image/jpeg:https://www.andersoncountysc.org/wp-content/uploads/2022/01/AC-Seal-Color-e1675270283402.jpg
ORGANIZER;CN="Renee Watts":MAILTO:rdwatts@andersoncountysc.org
END:VEVENT
BEGIN:VEVENT
DTSTART;TZID=UTC:20240625T160000
DTEND;TZID=UTC:20240625T170000
DTSTAMP:20260419T164827
CREATED:20240516T171910Z
LAST-MODIFIED:20240626T154408Z
UID:10001262-1719331200-1719334800@www.andersoncountysc.org
SUMMARY:Anderson County Legislative Delegation Meeting
DESCRIPTION:Representative Anne J. Thayer\, Chairman of the Anderson County Legislative Delegation\, has called a Delegation Meeting to be held on Tuesday\, June 25\, 2024\, at 4:00 P.M.\, at the Ronald Townsend Government Building\, 2404 N. Main St.\, Anderson\, S.C. \nAGENDA
URL:https://www.andersoncountysc.org/event/anderson-county-legislative-delegation-meeting/
LOCATION:Ronald P. Townsend Building\, 2404 N. Main Street\, Anderson\, SC\, 29621\, United States
CATEGORIES:Legislative Delegation
ATTACH;FMTTYPE=image/jpeg:https://www.andersoncountysc.org/wp-content/uploads/2022/03/275120680_326791379480590_1553020834931961463_n-e1763512677483.jpg
ORGANIZER;CN="Caroline Piaso":MAILTO:cpiasio@andersoncountysc.org
END:VEVENT
BEGIN:VEVENT
DTSTART;TZID=UTC:20240628T100000
DTEND;TZID=UTC:20240628T110000
DTSTAMP:20260419T164827
CREATED:20240618T123907Z
LAST-MODIFIED:20240620T133505Z
UID:10001270-1719568800-1719572400@www.andersoncountysc.org
SUMMARY:RunVirt Ribbon Cutting Ceremony
DESCRIPTION:The purpose of this is to gather community members\, elected officials\, and business partners to celebrate the ribbon-cutting ceremony of RunVirt LLC\, a participant identification company that specializes in the running event industry. They are the first start-up business to occupy space in the Anderson County Economic Development Incubator space and move out on their own as a successful company. \nRunVirt is a printing company specializing in producing many different items related to the running event industry. They offer various services\, including race bibs\, signage\, promotional products\, RFID\, Fulfillment\, Direct Mail\, and E-commerce. \nMEDIA CONTACT: Tyler McGraw (Owner/Founder) – 864-305-9437 – tyler@runvirt.com\nWebsite: www.runvirt.com\nLinkedIn: https://www.linkedin.com/in/tyler-mcgraw-204951118/ \n###
URL:https://www.andersoncountysc.org/event/runvirt-ribbon-cutting-ceremony/
LOCATION:SC
CATEGORIES:Community Event
ATTACH;FMTTYPE=image/jpeg:https://www.andersoncountysc.org/wp-content/uploads/2024/06/TEMPLATE_FB_Box.jpg
END:VEVENT
BEGIN:VEVENT
DTSTART;TZID=UTC:20240628T110000
DTEND;TZID=UTC:20240628T120000
DTSTAMP:20260419T164827
CREATED:20240627T132333Z
LAST-MODIFIED:20240627T132333Z
UID:10001275-1719572400-1719576000@www.andersoncountysc.org
SUMMARY:County Council Special Called Meeting
DESCRIPTION:The Anderson County Council will hold a Special Called Meeting on Friday\, June 28\, 2024\, at 11:00 a.m.\nHistoric Courthouse\, 101 S. Main Street\, Anderson\, SC 29624. \nAGENDA
URL:https://www.andersoncountysc.org/event/county-council-special-called-meeting-5/
LOCATION:Historic Courthouse\, 101 S. Main Street\, Anderson\, SC\, 29624\, United States
CATEGORIES:County Council Meeting
ATTACH;FMTTYPE=image/jpeg:https://www.andersoncountysc.org/wp-content/uploads/2022/01/AC-Seal-Color-e1675270283402.jpg
ORGANIZER;CN="Renee Watts":MAILTO:rdwatts@andersoncountysc.org
END:VEVENT
END:VCALENDAR