BEGIN:VCALENDAR
VERSION:2.0
PRODID:-//Anderson County - ECPv6.15.20//NONSGML v1.0//EN
CALSCALE:GREGORIAN
METHOD:PUBLISH
X-ORIGINAL-URL:https://www.andersoncountysc.org
X-WR-CALDESC:Events for Anderson County
REFRESH-INTERVAL;VALUE=DURATION:PT1H
X-Robots-Tag:noindex
X-PUBLISHED-TTL:PT1H
BEGIN:VTIMEZONE
TZID:UTC
BEGIN:STANDARD
TZOFFSETFROM:+0000
TZOFFSETTO:+0000
TZNAME:UTC
DTSTART:20230101T000000
END:STANDARD
END:VTIMEZONE
BEGIN:VEVENT
DTSTART;TZID=UTC:20240806T180000
DTEND;TZID=UTC:20240806T193000
DTSTAMP:20260419T201640
CREATED:20240702T125640Z
LAST-MODIFIED:20240802T192747Z
UID:10001278-1722967200-1722972600@www.andersoncountysc.org
SUMMARY:County Council Meeting
DESCRIPTION:The Anderson County Council will meet on Tuesday\, August 6\, 2024\, in the Council Chambers of the Historic Courthouse\, 101 S. Main St.\, Anderson\, SC 29624. \nSpecial Presentations at 6 p.m.\nCouncil Meeting at 6:30 p.m. \nAGENDA
URL:https://www.andersoncountysc.org/event/30503/
LOCATION:Historic Courthouse\, 101 S. Main Street\, Anderson\, SC\, 29624\, United States
CATEGORIES:County Council Meeting
ATTACH;FMTTYPE=image/jpeg:https://www.andersoncountysc.org/wp-content/uploads/2022/01/AC-Seal-Color-e1675270283402.jpg
ORGANIZER;CN="Renee Watts":MAILTO:rdwatts@andersoncountysc.org
END:VEVENT
BEGIN:VEVENT
DTSTART;TZID=UTC:20240807T080000
DTEND;TZID=UTC:20240807T170000
DTSTAMP:20260419T201640
CREATED:20240807T194428Z
LAST-MODIFIED:20240807T194600Z
UID:10001289-1723017600-1723050000@www.andersoncountysc.org
SUMMARY:County Council Special Called Meeting
DESCRIPTION:The Anderson County Council will have a special called meeting on Thursday\, August 8\, 2024\, at 5:30 pm at the Historic Courthouse\, 101 S. Main Street\, Anderson\, South Carolina.   AGENDA
URL:https://www.andersoncountysc.org/event/county-council-special-called-meeting-7/
LOCATION:Historic Courthouse\, 101 S. Main Street\, Anderson\, SC\, 29624\, United States
CATEGORIES:County Council Meeting
ATTACH;FMTTYPE=image/jpeg:https://www.andersoncountysc.org/wp-content/uploads/2022/01/AC-Seal-Color-e1675270283402.jpg
ORGANIZER;CN="Renee Watts":MAILTO:rdwatts@andersoncountysc.org
END:VEVENT
BEGIN:VEVENT
DTSTART;TZID=UTC:20240812T160000
DTEND;TZID=UTC:20240812T170000
DTSTAMP:20260419T201640
CREATED:20240507T205936Z
LAST-MODIFIED:20240507T205936Z
UID:10001259-1723478400-1723482000@www.andersoncountysc.org
SUMMARY:ACTC Meeting
DESCRIPTION:The Anderson County Transportation Committee will meet on Monday\, August 12\, 2024\, at 4 o’clock. This meeting is open to the Public at the Anderson County Complex\, 1428 Pearman Dairy Road\, Anderson. \nAn agenda will be posted to the ACTC webpage at www.andersoncountysc.org/actc
URL:https://www.andersoncountysc.org/event/actc-meeting-11/
LOCATION:1428 County Complex\, 1428 Pearman Dairy Road\, Anderson\, 29625\, United States
CATEGORIES:Committee Meetings
ATTACH;FMTTYPE=image/png:https://www.andersoncountysc.org/wp-content/uploads/2021/04/Screen-Shot-2021-04-19-at-11.27.19-AM.png
ORGANIZER;CN="Brittany Burdette":MAILTO:bnburdette@andersoncountysc.org
END:VEVENT
BEGIN:VEVENT
DTSTART;TZID=UTC:20240812T173000
DTEND;TZID=UTC:20240812T183000
DTSTAMP:20260419T201640
CREATED:20240809T180717Z
LAST-MODIFIED:20240809T180854Z
UID:10001290-1723483800-1723487400@www.andersoncountysc.org
SUMMARY:County Council Special Called Meeting | 8.12.2024
DESCRIPTION:The Anderson County Council will have a special called meeting on Monday\, August 12\, 2024\, at 5:30 pm at the Historic Courthouse\, 101 S. Main Street\, Anderson\, South Carolina. \nAGENDA
URL:https://www.andersoncountysc.org/event/county-council-special-called-meeting-8-12-2024/
LOCATION:Historic Courthouse\, 101 S. Main Street\, Anderson\, SC\, 29624\, United States
CATEGORIES:County Council Meeting
ATTACH;FMTTYPE=image/jpeg:https://www.andersoncountysc.org/wp-content/uploads/2022/01/AC-Seal-Color-e1675270283402.jpg
ORGANIZER;CN="Renee Watts":MAILTO:rdwatts@andersoncountysc.org
END:VEVENT
BEGIN:VEVENT
DTSTART;TZID=UTC:20240813T180000
DTEND;TZID=UTC:20240813T190000
DTSTAMP:20260419T201640
CREATED:20240802T195329Z
LAST-MODIFIED:20240813T153020Z
UID:10001288-1723572000-1723575600@www.andersoncountysc.org
SUMMARY:Planning Commission Meeting
DESCRIPTION:The Anderson County Planning Commission is scheduled to hold its next meeting on Tuesday\, August 13\, 2024\, at 6:00 PM at the Historic Courthouse\, 101 South Main Street\, Anderson\, SC 29624. \nAGENDA PACKET \n***NOTICE***\nThe Agnew and Craytonville sites will be closed from August 21st through September 27th for a concrete pad to be placed on the backside of the sites due to drainage issues. \n 
URL:https://www.andersoncountysc.org/event/planning-commission-meeting-36/
LOCATION:Historic Courthouse\, 101 S. Main Street\, Anderson\, SC\, 29624\, United States
CATEGORIES:Committee Meetings
END:VEVENT
BEGIN:VEVENT
DTSTART;TZID=UTC:20240816T110000
DTEND;TZID=UTC:20240816T120000
DTSTAMP:20260419T201640
CREATED:20240819T160144Z
LAST-MODIFIED:20240819T160144Z
UID:10001293-1723806000-1723809600@www.andersoncountysc.org
SUMMARY:Detention Center Groundbreaking
DESCRIPTION:Groundbreaking of the new Anderson County Detention Center | Friday\, August 16\, 2024 at 11 AM at the corner of Matthews and Martin Luther King – adjacent to the current Anderson County Detention Center.\n\n\n\nA groundbreaking ceremony will bring the Anderson County community one-step closer to a state-of-the-art detention center. Following strategic preparation and planning\, an outdated jail built in the 1950s will be replaced with a modernized facility. The new facility will not increase taxes.\n\n\n\nWe look forward to providing a safe environment for inmates and staff and mental health\, addiction resources\, and other services that will positively impact these prisoners well beyond their time served.\n\n\n\nPROJECT INFORMATION: Anderson County Council and the Anderson County Detention Facilities Corporation began designing the new facility in Fall 2022. Construction is tentatively scheduled for completion in December 2026.\n\n\n\nProject Team\n• Moseley Architects: architecture; engineering; interior design; operations and transition planning\n• Vannoy Construction: Construction Manager at Risk\n\n\n\nFacility facts:\n• 140\,000 square feet\n• 640 beds\n• Up to 1\,000 inmates
URL:https://www.andersoncountysc.org/event/detention-center-groundbreaking/
LOCATION:SC
CATEGORIES:Community Event
ATTACH;FMTTYPE=image/jpeg:https://www.andersoncountysc.org/wp-content/uploads/2024/08/Anderson_Cam1_Day-scaled.jpg
END:VEVENT
BEGIN:VEVENT
DTSTART;TZID=UTC:20240819T173000
DTEND;TZID=UTC:20240819T183000
DTSTAMP:20260419T201640
CREATED:20240816T213449Z
LAST-MODIFIED:20240816T213449Z
UID:10001291-1724088600-1724092200@www.andersoncountysc.org
SUMMARY:County Council Special Called Meeting
DESCRIPTION:The Anderson County Council will have a special called meeting on Monday\, August 19\, 2024\, at 5:30 pm at the Historic Courthouse\, 101 S. Main Street\, Anderson\, South Carolina. AGENDA
URL:https://www.andersoncountysc.org/event/county-council-special-called-meeting-8/
LOCATION:Historic Courthouse\, 101 S. Main Street\, Anderson\, SC\, 29624\, United States
CATEGORIES:County Council Meeting
ATTACH;FMTTYPE=image/jpeg:https://www.andersoncountysc.org/wp-content/uploads/2022/01/AC-Seal-Color-e1675270283402.jpg
ORGANIZER;CN="Renee Watts":MAILTO:rdwatts@andersoncountysc.org
END:VEVENT
BEGIN:VEVENT
DTSTART;TZID=UTC:20240820T173000
DTEND;TZID=UTC:20240820T180000
DTSTAMP:20260419T201640
CREATED:20240819T151106Z
LAST-MODIFIED:20240819T155216Z
UID:10001292-1724175000-1724176800@www.andersoncountysc.org
SUMMARY:Council Personnel Committee Meeting
DESCRIPTION:The Anderson County Council will have a Personnel Committee Meeting on Monday\, August 20\, 2024\, at 5:30 pm at the Historic Courthouse\, 101 S. Main Street\, Anderson\, South Carolina. AGENDA
URL:https://www.andersoncountysc.org/event/council-personnel-committee-meeting-2/
LOCATION:Historic Courthouse\, 101 S. Main Street\, Anderson\, SC\, 29624\, United States
CATEGORIES:Council Committee Meeting
ATTACH;FMTTYPE=image/jpeg:https://www.andersoncountysc.org/wp-content/uploads/2022/01/AC-Seal-Color-e1675270283402.jpg
ORGANIZER;CN="Renee Watts":MAILTO:rdwatts@andersoncountysc.org
END:VEVENT
BEGIN:VEVENT
DTSTART;TZID=UTC:20240820T180000
DTEND;TZID=UTC:20240820T193000
DTSTAMP:20260419T201640
CREATED:20240702T130736Z
LAST-MODIFIED:20240816T213638Z
UID:10001279-1724176800-1724182200@www.andersoncountysc.org
SUMMARY:County Council Meeting
DESCRIPTION:The Anderson County Council meets on the first and third Tuesday of each month in the Council Chambers\, Historic Courthouse\, 101 S. Main St.\, Anderson\, SC 29624. The next regularly scheduled meeting is August 20\,  2024. AGENDA \nSpecial Presentations at 6 p.m.\nCouncil Meeting at 6:30 p.m. \nThe meeting agenda will be posted at www.andersoncountysc.org/county-council.
URL:https://www.andersoncountysc.org/event/county-council-meeting-56/
LOCATION:Historic Courthouse\, 101 S. Main Street\, Anderson\, SC\, 29624\, United States
CATEGORIES:County Council Meeting
ATTACH;FMTTYPE=image/jpeg:https://www.andersoncountysc.org/wp-content/uploads/2022/01/AC-Seal-Color-e1675270283402.jpg
ORGANIZER;CN="Renee Watts":MAILTO:rdwatts@andersoncountysc.org
END:VEVENT
BEGIN:VEVENT
DTSTART;TZID=UTC:20240827T180000
DTEND;TZID=UTC:20240827T190000
DTSTAMP:20260419T201640
CREATED:20240826T213325Z
LAST-MODIFIED:20240826T213325Z
UID:10001296-1724781600-1724785200@www.andersoncountysc.org
SUMMARY:HRC Meeting
DESCRIPTION:The Anderson County Human Relations Council will meet on August 27\, 2024\, at 6:00 P.M. The meeting will be held at the Historic Courthouse. 101 S. Main St.\, Anderson\, SC 29624. \nAGENDA
URL:https://www.andersoncountysc.org/event/hrc-meeting-18/
LOCATION:Historic Courthouse\, 101 S. Main Street\, Anderson\, SC\, 29624\, United States
CATEGORIES:Community Meeting
ATTACH;FMTTYPE=image/png:https://www.andersoncountysc.org/wp-content/uploads/2021/06/HRC-Logo_Website-1440x600-2-e1664202440957.png
END:VEVENT
BEGIN:VEVENT
DTSTART;TZID=UTC:20240828T100000
DTEND;TZID=UTC:20240828T110000
DTSTAMP:20260419T201640
CREATED:20240819T160959Z
LAST-MODIFIED:20240819T160959Z
UID:10001294-1724839200-1724842800@www.andersoncountysc.org
SUMMARY:Lake Hartwell Partners for Clean Water to Unveil "Trash Tank" Litter Clean-Up Boat
DESCRIPTION:Lake Hartwell Partners for Clean Water to Unveil “Trash Tank” Litter Clean-Up Boat at Ribbon Cutting Event \nThe Legendary Green Pond Landing and Event Center\, August 28\, 2024 – Lake Hartwell Partners for Clean Water is excited to announce the unveiling of the “Trash Tank\,” a new litter clean-up boat designed to keep Lake Hartwell clean and beautiful. The ribbon-cutting event will take place at the Legendary Green Pond Landing and Event Center on August 28th\, 2024\, at 10:00 AM. \nThe “Trash Tank” represents a significant step forward in the ongoing efforts to maintain the pristine condition of Lake Hartwell. This innovative vessel is equipped to efficiently collect and remove litter from the water\, ensuring a healthier ecosystem for wildlife and fisheries and creating a more enjoyable environment for residents and visitors. \nThe ribbon-cutting ceremony will begin at 10:00 AM and feature speeches from key stakeholders\, including representatives from Lake Hartwell Partners for Clean Water\, local government officials\, and environmental advocates. Attendees will also have the opportunity to tour the “Trash Tank” and learn about its capabilities and the positive impact it will have on the lake’s health. \nEvent Details: \n\nDate: August 28\, 2024\nTime: 10:00 – 11:00 AM\nLocation: The Legendary Green Pond Landing and Event Center\, 470 Green Pond Rd\, Anderson\, SC 29625\n\nA message from the LHPCW Board “We are thrilled to introduce the ‘Trash Tank’ to the Lake Hartwell community. This project has been a labor of love\, and we are grateful for the support from our partners\, donors\, and volunteers who have made it possible. The ‘Trash Tank’ will play a crucial role in our mission to protect and preserve this beautiful natural resource.” \nLitter costs our nation $11 billion per year and impacts our local community and prosperity. In a lake system\, litter can severely impact wildlife and release microplastics and other contaminants into our waterways. \nThe event is open to the public\, and all are encouraged to attend. There will be opportunities for media interviews and photo ops following the ceremony. \nFor more information about the event\, please contact info@lakehartwellpcw.com
URL:https://www.andersoncountysc.org/event/lake-hartwell-partners-for-clean-water-to-unveil-trash-tank-litter-clean-up-boat/
LOCATION:Green Pond Landing & Event Center\, 470 Green Pond Road\, Anderson\, SC\, 29626\, United States
CATEGORIES:Community Event
END:VEVENT
BEGIN:VEVENT
DTSTART;TZID=UTC:20240830T103000
DTEND;TZID=UTC:20240830T120000
DTSTAMP:20260419T201640
CREATED:20240819T161632Z
LAST-MODIFIED:20240819T161632Z
UID:10001295-1725013800-1725019200@www.andersoncountysc.org
SUMMARY:Pendleton-Clemson Wastewater Treatment Plant Expansion Groundbreaking
DESCRIPTION:The City of Clemson\, Town of Pendleton\, and Anderson County will hold a groundbreaking ceremony for the Pendleton/Clemson wastewater treatment plant (PCWWTP) at 10:30 am on Friday\, August 30\, 2024. The groundbreaking will take place at the site of the plant on Woodburn Road near Eighteen Mile Creek. \nThe PCWWTP is owned by the Town of Pendleton but is managed by a three-way intergovernmental agreement between the Town of Pendleton\, the City of Clemson\, and Anderson County. In the City of Clemson\, this plant serves the east side of Hwy 93\, which is largely residential. Pendleton’s capacity also primarily consists of traditional housing\, while Anderson County’s capacity is a mix of homes and industry. \nThe guaranteed maximum price for the expansion is $60\,994\,197. The costs will be shared between the three partnering governments. Clemson’s share will be $16\,701\,405\, Pendleton’s share will be $11\,686\,976\, and Anderson County will be responsible for the remaining 21\,705\,816. \nCurrently\, the PCWWTP is an extended aeration\, activated sludge plant with a rated capacity of 2.0 million gallons per 24-hour day (MGD). Treated wastewater effluent discharge currently averages approximately 1.2 MGD\, and the maximum flow was 2.4 MGD. Due to new residential development along Hwy 76 and Hwy 123 as well as industrial growth in Anderson County\, the plant exceeds the allocated capacity for permitted projects and is operating under a “Flow Advancement Agreement from the SC Department of Health and Environmental Control” that was signed in May 2016. This allows the Town of Pendleton\, Anderson County\, and the City of Clemson to permit flows up to 3.0 MGD based on our commitment to expand the wastewater treatment plant. Under this agreement\, the owners of the plant must maintain proper treatment and not exceed the permitted flow. \nThis expansion and upgrade will involve changing the treatment process from an extended air plant to an A²O Process\, which is anaerobic (A)\, anoxic(A)\, and aerobic (O). With this process\, the plant can be expanded to at least 5.0 million gallons per day (MGD) within the existing footprint. \nThe project is anticipated to be completed in July 2026.
URL:https://www.andersoncountysc.org/event/pendleton-clemson-wastewater-treatment-plant-expansion-groundbreaking/
LOCATION:SC
CATEGORIES:Community Event
END:VEVENT
BEGIN:VEVENT
DTSTART;TZID=UTC:20240831T130000
DTEND;TZID=UTC:20240901T213000
DTSTAMP:20260419T201640
CREATED:20240628T001209Z
LAST-MODIFIED:20240802T193359Z
UID:10001276-1725109200-1725226200@www.andersoncountysc.org
SUMMARY:Celebrate Anderson - 25 Anniversary
DESCRIPTION:This year\, in honor of Celebrate Anderson reaching the 25th anniversary milestone\, friends and family can enjoy two big nights of entertainment along with vendors\, food trucks\, and fun for all ages! \n\n\n\nAnderson County\, S.C.\, Whistle 100 WSSL\, and 92.5 WESC are excited to welcome national touring artists Randy Houser on Saturday\, August 31\, and Ashley McBryde on Sunday\, September 1. \n\n\n\nBoth concerts are FREE but do require a free ticket to enter. You can secure your free ticket at: https://www.etix.com/…/celebrate-anderson-2024-anderson… \n\n\n\nLawn tickets are for fans who wish to bring their blankets and chairs to set up on the lawn.\nStanding Room Only tickets are for those who want to stand up close to the stage where chairs are not permitted. \n\n\n\nFans are reminded that securing the free tickets helps organizers best prepare for the event and communicate important information to ticket holders.\n\n\nLawn Tickets are for fans who wish to bring their blankets and chairs to set up on the lawn.\nStanding Room Only Tickets are for those who want to stand up close to the stage where chairs are not permitted.\nFans are reminded that securing the free tickets helps organizers best prepare and communicate important information to ticket holders about the event.\n\nCelebrate Anderson\nWilliam A. Floyd Amphitheater\nSaturday\, August 31 @ 6:30 pm\nSunday\, September 1 @ 6:30 pm
URL:https://www.andersoncountysc.org/event/celebrate-anderson-25-anniversary/
LOCATION:ASEC | Anderson Sports & Entertainment Center\, 3027 Martin Luther King Jr. Boulevard\, Anderson\, SC\, 29625\, United States
CATEGORIES:Community Event
ATTACH;FMTTYPE=image/jpeg:https://www.andersoncountysc.org/wp-content/uploads/2024/06/Celebrate-Anderson-Event-Image-e1719533573535.jpg
END:VEVENT
END:VCALENDAR