BEGIN:VCALENDAR
VERSION:2.0
PRODID:-//Anderson County - ECPv6.15.20//NONSGML v1.0//EN
CALSCALE:GREGORIAN
METHOD:PUBLISH
X-WR-CALNAME:Anderson County
X-ORIGINAL-URL:https://www.andersoncountysc.org
X-WR-CALDESC:Events for Anderson County
REFRESH-INTERVAL;VALUE=DURATION:PT1H
X-Robots-Tag:noindex
X-PUBLISHED-TTL:PT1H
BEGIN:VTIMEZONE
TZID:UTC
BEGIN:STANDARD
TZOFFSETFROM:+0000
TZOFFSETTO:+0000
TZNAME:UTC
DTSTART:20240101T000000
END:STANDARD
END:VTIMEZONE
BEGIN:VEVENT
DTSTART;TZID=UTC:20250304T183000
DTEND;TZID=UTC:20250304T200000
DTSTAMP:20260420T100211
CREATED:20250204T034708Z
LAST-MODIFIED:20250301T025013Z
UID:10001342-1741113000-1741118400@www.andersoncountysc.org
SUMMARY:County Council Meeting
DESCRIPTION:The Anderson County Council will meet on March 4\, 2025\, at the Anderson County Historic Courthouse\, 101 South Main Street\, Anderson\, SC 29624. \n6:00 p.m.   Special Presentation(s) Meeting\n6:30 p.m.   Council Meeting \nAGENDA \nParking is limited at the historic courthouse due to repairs; however\, the parking garage is available. Garage Parking\, 102 N Murray Ave\, Anderson\, SC 29625 \n 
URL:https://www.andersoncountysc.org/event/county-council-meeting-63/
LOCATION:Historic Courthouse\, 101 S. Main Street\, Anderson\, SC\, 29624\, United States
CATEGORIES:County Council Meeting
ATTACH;FMTTYPE=image/jpeg:https://www.andersoncountysc.org/wp-content/uploads/2022/01/AC-Seal-Color-e1675270283402.jpg
ORGANIZER;CN="Renee Watts":MAILTO:rdwatts@andersoncountysc.org
END:VEVENT
BEGIN:VEVENT
DTSTART;TZID=UTC:20250311T180000
DTEND;TZID=UTC:20250311T193000
DTSTAMP:20260420T100211
CREATED:20250305T152631Z
LAST-MODIFIED:20250305T155605Z
UID:10001366-1741716000-1741721400@www.andersoncountysc.org
SUMMARY:Planning Commission Meeting
DESCRIPTION:The Planning Commission will meet at 6:00 PM on Tuesday\, March 11\, 2025\, at the historic courthouse\, 101 S. Main Street\, Anderson\, South Carolina. \nMarch-11-2025-Full-Packet.pdf \nParking is limited at the historic courthouse due to repairs; however\, the parking garage is available. Garage Parking:102 N Murray Ave\, Anderson\, SC 29625
URL:https://www.andersoncountysc.org/event/planning-commission/
LOCATION:Historic Courthouse\, 101 S. Main Street\, Anderson\, SC\, 29624\, United States
CATEGORIES:Committee Meetings
ORGANIZER;CN="Sarah Lyons":MAILTO:slyons@andersoncountysc.org
END:VEVENT
BEGIN:VEVENT
DTSTART;TZID=UTC:20250312T183000
DTEND;TZID=UTC:20250312T183000
DTSTAMP:20260420T100211
CREATED:20250306T211018Z
LAST-MODIFIED:20250306T211609Z
UID:10001372-1741804200-1741804200@www.andersoncountysc.org
SUMMARY:County Council Special Called Meeting
DESCRIPTION:The Anderson County Council will have a special called meeting on Wednesday\, March 12\, 2025\, at 6:30 p.m. at the Historic Courthouse\, 101 S. Main Street\, Anderson\, South Carolina. \nAGENDA \nParking is limited at the Historic Courthouse due to repairs; however\, the parking garage is available. E-Merge at the Garage Parking\, 102 N Murray Ave\, Anderson\, SC 29625.
URL:https://www.andersoncountysc.org/event/county-council-special-called-meeting-11/
LOCATION:Historic Courthouse\, 101 S. Main Street\, Anderson\, SC\, 29624\, United States
CATEGORIES:County Council Meeting
ATTACH;FMTTYPE=image/jpeg:https://www.andersoncountysc.org/wp-content/uploads/2022/01/AC-Seal-Color-e1675270283402.jpg
ORGANIZER;CN="Renee Watts":MAILTO:rdwatts@andersoncountysc.org
END:VEVENT
BEGIN:VEVENT
DTSTART;TZID=UTC:20250313T171500
DTEND;TZID=UTC:20250313T183000
DTSTAMP:20260420T100211
CREATED:20250305T190216Z
LAST-MODIFIED:20250305T190357Z
UID:10001367-1741886100-1741890600@www.andersoncountysc.org
SUMMARY:BZA Meeting
DESCRIPTION:The Board of Zoning and Appeals will meet at 5:15 PM on Thursday\, March 13\, 2025\, at the Historic Courthouse\, 101 S. Main Street\, Anderson\, South Carolina. \nAgenda \nDue to repairs\, parking is limited at the historic courthouse; however\, the garage is available. It is located at 102 N Murray Ave\, Anderson\, SC 29625.
URL:https://www.andersoncountysc.org/event/bza-meeting-2/
LOCATION:Historic Courthouse\, 101 S. Main Street\, Anderson\, SC\, 29624\, United States
CATEGORIES:Committee Meetings
ORGANIZER;CN="Sarah Lyons":MAILTO:slyons@andersoncountysc.org
END:VEVENT
BEGIN:VEVENT
DTSTART;TZID=UTC:20250314T080000
DTEND;TZID=UTC:20250314T170000
DTSTAMP:20260420T100211
CREATED:20250314T195051Z
LAST-MODIFIED:20250314T195051Z
UID:10001374-1741939200-1741971600@www.andersoncountysc.org
SUMMARY:Adoption Event
DESCRIPTION:Anderson B.P.O.E. Lodge #1206 Presents: Anderson Elks Lodge Annual Benefit Car Show \nNo entry fee for spectators. All entries & spectators: please bring a pet food donation to benefit Anderson County PAWS. \nPopular vote car show. Food will be available from the Lodge. Registration is on-site; all cars must be registered by noon. \nAwards: Top 20; Kids Choice; Exalted Ruler Choice at 1:30pm. Owner must be present to receive award. \n 
URL:https://www.andersoncountysc.org/event/adoption-event-7/
LOCATION:Anderson Elks Lodge\, 225 McGee Road\, Anderson\, SC\, 29625\, United States
CATEGORIES:PAWS
ORGANIZER;CN="Meg Greenway":MAILTO:megreenway@andersoncountysc.org
END:VEVENT
BEGIN:VEVENT
DTSTART;TZID=UTC:20250315T080000
DTEND;TZID=UTC:20250315T120000
DTSTAMP:20260420T100211
CREATED:20250204T033704Z
LAST-MODIFIED:20250311T152941Z
UID:10001340-1742025600-1742040000@www.andersoncountysc.org
SUMMARY:Shred Day in Anderson
DESCRIPTION:Shred Day in Anderson is March 15th\, from 8 a.m. to 12 p.m.\, at the Anderson County Complex\, 1428 Pearman Dairy Road\, Anderson!\n♻️Gather your old documents for free paper shredding.📑 \n 
URL:https://www.andersoncountysc.org/event/shred-day-in-anderson/
LOCATION:1428 County Complex\, 1428 Pearman Dairy Road\, Anderson\, 29625\, United States
CATEGORIES:Community Event
ATTACH;FMTTYPE=image/jpeg:https://www.andersoncountysc.org/wp-content/uploads/2025/02/Shred-Day-Flyer-March-15-e1738856014269.jpg
ORGANIZER;CN="Samantha Porter":MAILTO:sbporter@andersoncountysc.org
END:VEVENT
BEGIN:VEVENT
DTSTART;TZID=UTC:20250318T183000
DTEND;TZID=UTC:20250318T200000
DTSTAMP:20260420T100211
CREATED:20250204T034834Z
LAST-MODIFIED:20250314T224553Z
UID:10001343-1742322600-1742328000@www.andersoncountysc.org
SUMMARY:County Council Meeting
DESCRIPTION:The Anderson County Council will meet on March 18\, 2025\, at the Anderson County Historic Courthouse\, 101 South Main Street\,  Anderson\, SC 29624. \nSpecial Presentation at 6:00 p.m.\nBusiness Meeting at 6:30 p.m. \nAGENDA \nParking is limited at the Historic Courthouse due to repairs; however\, the parking garage is available. E-Merge at the Garage Parking\, 102 N Murray Ave\, Anderson\, SC 29625.
URL:https://www.andersoncountysc.org/event/county-council-meeting-64/
LOCATION:Historic Courthouse\, 101 S. Main Street\, Anderson\, SC\, 29624\, United States
CATEGORIES:County Council Meeting
ATTACH;FMTTYPE=image/jpeg:https://www.andersoncountysc.org/wp-content/uploads/2022/01/AC-Seal-Color-e1675270283402.jpg
ORGANIZER;CN="Renee Watts":MAILTO:rdwatts@andersoncountysc.org
END:VEVENT
BEGIN:VEVENT
DTSTART;TZID=UTC:20250320T120000
DTEND;TZID=UTC:20250320T133000
DTSTAMP:20260420T100211
CREATED:20250317T203220Z
LAST-MODIFIED:20250317T203827Z
UID:10001377-1742472000-1742477400@www.andersoncountysc.org
SUMMARY:Planning & Public Works Committee Meeting
DESCRIPTION:The Council’s Planning and Public Works Committee will meet at Noon on Thursday\, March 20\, 2025\, at the Anderson County Historic Courthouse\, 101 South Main Street\, Anderson\, S.C. \n3.20.2025 Agenda Packet PPW Committee
URL:https://www.andersoncountysc.org/event/planning-public-works-committee-meeting-8/
LOCATION:Historic Courthouse\, 101 S. Main Street\, Anderson\, SC\, 29624\, United States
CATEGORIES:Council Committee Meeting
ATTACH;FMTTYPE=image/jpeg:https://www.andersoncountysc.org/wp-content/uploads/2022/01/AC-Seal-Color-e1675270283402.jpg
ORGANIZER;CN="Renee Watts":MAILTO:rdwatts@andersoncountysc.org
END:VEVENT
BEGIN:VEVENT
DTSTART;TZID=UTC:20250322T080000
DTEND;TZID=UTC:20250322T120000
DTSTAMP:20260420T100211
CREATED:20250204T034341Z
LAST-MODIFIED:20250311T152722Z
UID:10001341-1742630400-1742644800@www.andersoncountysc.org
SUMMARY:Shred Day in Honea Path
DESCRIPTION:Shred Day in Honea Path is March 22nd at Town Hall 204 S. Main St. from 8 am until 12 pm!\n♻️Gather your old documents for free paper shredding.📑
URL:https://www.andersoncountysc.org/event/shred-day-in-honea-path/
LOCATION:Town of Honea Path | Town Hall\, 204 S. Main St.\, Honea Path\, SC\, 29654
CATEGORIES:Community Event
ATTACH;FMTTYPE=image/jpeg:https://www.andersoncountysc.org/wp-content/uploads/2025/02/Shred-Day-Flyer-HONEA-PATH-e1738856067204.jpg
ORGANIZER;CN="Samantha Porter":MAILTO:sbporter@andersoncountysc.org
END:VEVENT
BEGIN:VEVENT
DTSTART;TZID=UTC:20250322T120000
DTEND;TZID=UTC:20250322T150000
DTSTAMP:20260420T100211
CREATED:20250304T195550Z
LAST-MODIFIED:20250306T200135Z
UID:10001362-1742644800-1742655600@www.andersoncountysc.org
SUMMARY:Adoption Event
DESCRIPTION:Come join us for a lovely Spring day filled with cute dogs and your favorite brew at Magnetic South Brewery in downtown Anderson!
URL:https://www.andersoncountysc.org/event/adoption-event-4/
LOCATION:Magnetic South Brewery\, 516 N Main St\, Anderson\, SC\, 29621\, United States
CATEGORIES:PAWS
ORGANIZER;CN="Meg Greenway":MAILTO:megreenway@andersoncountysc.org
END:VEVENT
BEGIN:VEVENT
DTSTART;TZID=UTC:20250325T180000
DTEND;TZID=UTC:20250325T190000
DTSTAMP:20260420T100211
CREATED:20250324T210112Z
LAST-MODIFIED:20250324T210112Z
UID:10001380-1742925600-1742929200@www.andersoncountysc.org
SUMMARY:Human Relations Council Meeting
DESCRIPTION:The Anderson County Human Relations Council will meet at 6 o’clock on March 25\, 2025 at the Historic Courthouse\, 101 S. Main Street\, Anderson\, SC 29624. \nAGENDA
URL:https://www.andersoncountysc.org/event/human-relations-council-meeting/
LOCATION:Historic Courthouse\, 101 S. Main Street\, Anderson\, SC\, 29624\, United States
CATEGORIES:Committee Meetings
ATTACH;FMTTYPE=image/png:https://www.andersoncountysc.org/wp-content/uploads/2021/06/HRC-Logo_Website-1440x600-2-e1664202440957.png
END:VEVENT
BEGIN:VEVENT
DTSTART;TZID=UTC:20250325T180000
DTEND;TZID=UTC:20250325T193000
DTSTAMP:20260420T100211
CREATED:20250321T141051Z
LAST-MODIFIED:20250321T141300Z
UID:10001379-1742925600-1742931000@www.andersoncountysc.org
SUMMARY:Council District Six Informational Meeting
DESCRIPTION:Anderson County Councilman Jimmy Davis will host an informational meeting on Tuesday\, March 25th\, at 6:00 PM. The meeting will be held at the Civic Center of Anderson\, 3027 Martin Luther King Jr. Boulevard\, Anderson. \nThe purpose of the meeting is to gain input on emergency services; it will involve discussions with the Anderson County Fire Commission\, Anderson County EMS\, and the Anderson County Sheriff’s Department. No votes will be taken. The public is invited to attend. \nFor further information\, please call 864.260.1036 or email Councilman Jimmy Davis at jdavis@andersoncountysc.org. \nAGENDA
URL:https://www.andersoncountysc.org/event/council-district-six-informational-meeting/
LOCATION:Civic Center\, 3027 Martin Luther King Jr Blvd\, Anderson\, SC\, 29625\, United States
CATEGORIES:Community Meeting,County Council Meeting
ATTACH;FMTTYPE=image/jpeg:https://www.andersoncountysc.org/wp-content/uploads/2022/01/AC-Seal-Color-e1675270283402.jpg
ORGANIZER;CN="Renee Watts":MAILTO:rdwatts@andersoncountysc.org
END:VEVENT
END:VCALENDAR