BEGIN:VCALENDAR
VERSION:2.0
PRODID:-//Anderson County - ECPv6.15.20//NONSGML v1.0//EN
CALSCALE:GREGORIAN
METHOD:PUBLISH
X-ORIGINAL-URL:https://www.andersoncountysc.org
X-WR-CALDESC:Events for Anderson County
REFRESH-INTERVAL;VALUE=DURATION:PT1H
X-Robots-Tag:noindex
X-PUBLISHED-TTL:PT1H
BEGIN:VTIMEZONE
TZID:UTC
BEGIN:STANDARD
TZOFFSETFROM:+0000
TZOFFSETTO:+0000
TZNAME:UTC
DTSTART:20240101T000000
END:STANDARD
END:VTIMEZONE
BEGIN:VEVENT
DTSTART;TZID=UTC:20250401T183000
DTEND;TZID=UTC:20250401T200000
DTSTAMP:20260420T114916
CREATED:20250204T034945Z
LAST-MODIFIED:20250331T134818Z
UID:10001344-1743532200-1743537600@www.andersoncountysc.org
SUMMARY:County Council Meeting
DESCRIPTION:The Anderson County Council will meet on April 1\, 2025\, at 6:30 p.m. at the Anderson County Historic Courthouse\, 101 South Main Street\,  Anderson\, SC 29624. \nAMENDED AGENDA\nAGENDA \nParking is limited at the Historic Courthouse due to repairs; however\, the parking garage is available. E-Merge at the Garage Parking\, 102 N Murray Ave\, Anderson\, SC 29625.
URL:https://www.andersoncountysc.org/event/county-council-meeting-65/
LOCATION:Historic Courthouse\, 101 S. Main Street\, Anderson\, SC\, 29624\, United States
CATEGORIES:County Council Meeting
ORGANIZER;CN="Renee Watts":MAILTO:rdwatts@andersoncountysc.org
END:VEVENT
BEGIN:VEVENT
DTSTART;TZID=UTC:20250403T130000
DTEND;TZID=UTC:20250403T150000
DTSTAMP:20260420T114916
CREATED:20250325T205824Z
LAST-MODIFIED:20250325T210145Z
UID:10001381-1743685200-1743692400@www.andersoncountysc.org
SUMMARY:Adoption Event
DESCRIPTION:Come see us at Grandmarc Apartments in Clemson!
URL:https://www.andersoncountysc.org/event/adoption-event-8/
LOCATION:Grandmarc Clemson\, 125 Anderson Highway\, Clemson\, 29631\, United States
CATEGORIES:PAWS
ORGANIZER;CN="Meg Greenway":MAILTO:megreenway@andersoncountysc.org
END:VEVENT
BEGIN:VEVENT
DTSTART;TZID=UTC:20250403T173000
DTEND;TZID=UTC:20250403T183000
DTSTAMP:20260420T114916
CREATED:20250304T201101Z
LAST-MODIFIED:20250304T201101Z
UID:10001365-1743701400-1743705000@www.andersoncountysc.org
SUMMARY:Foster Orientation
DESCRIPTION:Join us for Foster Orientation\, and have all your foster questions answered! Everyone is welcome: new\, old and potential foster parents!
URL:https://www.andersoncountysc.org/event/foster-orientation-2/
LOCATION:PAWS\, 1320 Hwy. 29 South\, Anderson\, SC\, 29626\, United States
CATEGORIES:PAWS
ORGANIZER;CN="Meg Greenway":MAILTO:megreenway@andersoncountysc.org
END:VEVENT
BEGIN:VEVENT
DTSTART;TZID=UTC:20250405T080000
DTEND;TZID=UTC:20250405T203000
DTSTAMP:20260420T114916
CREATED:20250206T154219Z
LAST-MODIFIED:20250206T183304Z
UID:10001350-1743840000-1743885000@www.andersoncountysc.org
SUMMARY:The GREAT Anderson County Cleanup
DESCRIPTION:Join us this April!\n#GACC2025 \n\nPick up litter any time on your own OR pick up with us on April 5th at 8 AM.\nLitter cleanup supplies can be picked up at 1428 Pearman Dairy Road\, Anderson.\nMonday-Friday 8:30 am-5 pm\nWe will provide safety vests\, gloves\, grabbers & trash bags.\nPlease call 260-1001 or email sbporter@andersoncountysc.org to report your bags after your cleanup and for more information!
URL:https://www.andersoncountysc.org/event/the-great-anderson-county-cleanup/
LOCATION:1428 County Complex\, 1428 Pearman Dairy Road\, Anderson\, 29625\, United States
CATEGORIES:Community Event
ATTACH;FMTTYPE=image/jpeg:https://www.andersoncountysc.org/wp-content/uploads/2025/02/GACC-Flyer-2025-e1738858021586.jpg
ORGANIZER;CN="Samantha Porter":MAILTO:sbporter@andersoncountysc.org
END:VEVENT
BEGIN:VEVENT
DTSTART;TZID=UTC:20250405T110000
DTEND;TZID=UTC:20250405T160000
DTSTAMP:20260420T114916
CREATED:20250304T200028Z
LAST-MODIFIED:20250325T205326Z
UID:10001363-1743850800-1743868800@www.andersoncountysc.org
SUMMARY:Adoption Event
DESCRIPTION:Come join us for an adoption event at Pet Sense in Anderson! Adopt a new furry friend and do your pet supplies shopping all in one go!
URL:https://www.andersoncountysc.org/event/adoption-event-5/
LOCATION:Pet Sense by TSC\, 502 Ann Street\, Suite 1\, Pickens\, South Carolina\, 29671\, United States
CATEGORIES:PAWS
ORGANIZER;CN="Meg Greenway":MAILTO:megreenway@andersoncountysc.org
END:VEVENT
BEGIN:VEVENT
DTSTART;TZID=UTC:20250408T180000
DTEND;TZID=UTC:20250408T193000
DTSTAMP:20260420T114916
CREATED:20250331T143129Z
LAST-MODIFIED:20250331T143216Z
UID:10001383-1744135200-1744140600@www.andersoncountysc.org
SUMMARY:Planning Commission Meeting
DESCRIPTION:The Planning Commission will meet at 6:00 PM on Tuesday\, April 8\, 2025\, at the Historic Courthouse\, 101 S. Main Street\, Anderson\, South Carolina.\nAGENDA\nParking is limited at the historic courthouse due to repairs; however\, the parking garage is available. Garage Parking: 102 N Murray Ave\, Anderson\, SC 29625
URL:https://www.andersoncountysc.org/event/32912/
LOCATION:Historic Courthouse\, 101 S. Main Street\, Anderson\, SC\, 29624\, United States
CATEGORIES:Committee Meetings
ORGANIZER;CN="Sarah Lyons":MAILTO:slyons@andersoncountysc.org
END:VEVENT
BEGIN:VEVENT
DTSTART;TZID=UTC:20250410T180000
DTEND;TZID=UTC:20250410T193000
DTSTAMP:20260420T114916
CREATED:20250407T213114Z
LAST-MODIFIED:20250407T213214Z
UID:10001386-1744308000-1744313400@www.andersoncountysc.org
SUMMARY:County Council Informational Meeting
DESCRIPTION:Anderson County Council will host an informational meeting on Thursday\, April 10th\, at 6:00 PM. The meeting will be held at the Civic Center of Anderson\, 3027 Martin Luther King Jr. Boulevard\, Anderson. \nThe meeting’s purpose is to gain input from Anderson County School Districts 1 – 5 regarding growth in Anderson County. No votes will be taken. \nThe public is invited to attend. \nFor further information\, please call 864.260.1036. \nAGENDA
URL:https://www.andersoncountysc.org/event/county-council-information-meeting/
LOCATION:Civic Center\, 3027 Martin Luther King Jr Blvd\, Anderson\, SC\, 29625\, United States
CATEGORIES:County Council Meeting
ORGANIZER;CN="Renee Watts":MAILTO:rdwatts@andersoncountysc.org
END:VEVENT
BEGIN:VEVENT
DTSTART;TZID=UTC:20250411T120000
DTEND;TZID=UTC:20250411T170000
DTSTAMP:20260420T114916
CREATED:20250409T210410Z
LAST-MODIFIED:20250409T210410Z
UID:10001387-1744372800-1744390800@www.andersoncountysc.org
SUMMARY:Planning & Public Works Committee Meeting
DESCRIPTION:The Council’s Planning and Public Works Committee will meet at Noon on Friday\, April 11\, 2025\, at the Anderson County Historic Courthouse\, 101 South Main Street\, Anderson\, S.C.\n\nParking is limited at the Historic Courthouse due to repairs; however\, the parking garage is available. E-Merge at the Garage Parking\, 102 N Murray Ave\, Anderson\, SC 29625.\n\nAGENDA
URL:https://www.andersoncountysc.org/event/planning-public-works-committee-meeting-9/
LOCATION:Historic Courthouse\, 101 S. Main Street\, Anderson\, SC\, 29624\, United States
CATEGORIES:Council Committee Meeting
ORGANIZER;CN="Renee Watts":MAILTO:rdwatts@andersoncountysc.org
END:VEVENT
BEGIN:VEVENT
DTSTART;TZID=UTC:20250412T090000
DTEND;TZID=UTC:20250412T130000
DTSTAMP:20260420T114916
CREATED:20250304T200540Z
LAST-MODIFIED:20250304T200540Z
UID:10001364-1744448400-1744462800@www.andersoncountysc.org
SUMMARY:Adoption Event
DESCRIPTION:Come join us for an adoption event at Pet Sense in Pickens! Adopt a new furry friend and do your pet supplies shopping all in one go!
URL:https://www.andersoncountysc.org/event/adoption-event-6/
LOCATION:Pet Sense by TSC\, 502 Ann Street\, Suite 1\, Pickens\, South Carolina\, 29671\, United States
CATEGORIES:PAWS
ORGANIZER;CN="Meg Greenway":MAILTO:megreenway@andersoncountysc.org
END:VEVENT
BEGIN:VEVENT
DTSTART;TZID=UTC:20250412T110000
DTEND;TZID=UTC:20250412T130000
DTSTAMP:20260420T114916
CREATED:20250314T225834Z
LAST-MODIFIED:20250314T230553Z
UID:10001375-1744455600-1744462800@www.andersoncountysc.org
SUMMARY:Airport Playground Opening & Touch-A-Truck
DESCRIPTION:Join us as we celebrate the Grand Opening of the new playground at Anderson Regional Airport! After lots of thoughtful planning\, we’re thrilled to bring this exciting new space to the community. Join us on April 12th at 11 AM for the grand opening ceremony and enjoy complimentary coffee from Carita Rose Coffee. We look forward to seeing you!
URL:https://www.andersoncountysc.org/event/airport-playground-opening-touch-a-truck/
LOCATION:Anderson Regional Airport\, 5805 Airport Road\, Anderson\, 29624\, United States
CATEGORIES:Community Event
ATTACH;FMTTYPE=image/jpeg:https://www.andersoncountysc.org/wp-content/uploads/2025/03/483885879_122155075598331215_6245326631177271457_n-e1741993538460.jpg
ORGANIZER;CN="Lori M. Milford":MAILTO:lmmilford@andersoncountysc.org
END:VEVENT
BEGIN:VEVENT
DTSTART;TZID=UTC:20250414T090000
DTEND;TZID=UTC:20250414T160000
DTSTAMP:20260420T114916
CREATED:20250228T160722Z
LAST-MODIFIED:20250228T160722Z
UID:10001361-1744621200-1744646400@www.andersoncountysc.org
SUMMARY:Veterans Workshop & Claims Clinic
DESCRIPTION:Connecting Veterans with local resources in Anderson County Healthcare\, Senior Services\, Education & Employment\, Financial Assistance\, Claims Assistance & More \nVeterans Workshop Flyer 2025 – Update -PDF
URL:https://www.andersoncountysc.org/event/veterans-workshop-claims-clinic/
LOCATION:Civic Center\, 3027 Martin Luther King Jr Blvd\, Anderson\, SC\, 29625\, United States
CATEGORIES:Community Event
END:VEVENT
BEGIN:VEVENT
DTSTART;TZID=UTC:20250415T180000
DTEND;TZID=UTC:20250415T200000
DTSTAMP:20260420T114916
CREATED:20250204T035018Z
LAST-MODIFIED:20250411T200212Z
UID:10001345-1744740000-1744747200@www.andersoncountysc.org
SUMMARY:County Council Meeting
DESCRIPTION:The Anderson County Council will meet on April 15\, 2025\, at 6:00 p.m. at the Anderson County Historic Courthouse\, 101 South Main Street\,  Anderson\, SC 29624. \nAGENDA \nParking is limited at the Historic Courthouse due to repairs; however\, the parking garage is available. E-Merge at the Garage Parking\, 102 N Murray Ave\, Anderson\, SC 29625. \n 
URL:https://www.andersoncountysc.org/event/county-council-meeting-66/
LOCATION:Historic Courthouse\, 101 S. Main Street\, Anderson\, SC\, 29624\, United States
CATEGORIES:County Council Meeting
ORGANIZER;CN="Renee Watts":MAILTO:rdwatts@andersoncountysc.org
END:VEVENT
BEGIN:VEVENT
DTSTART;TZID=UTC:20250419T120000
DTEND;TZID=UTC:20250419T150000
DTSTAMP:20260420T114916
CREATED:20250318T140012Z
LAST-MODIFIED:20250407T175048Z
UID:10001378-1745064000-1745074800@www.andersoncountysc.org
SUMMARY:Paws and Peeps
DESCRIPTION:
URL:https://www.andersoncountysc.org/event/paws-and-peeps/
LOCATION:PAWS\, 1320 Hwy. 29 South\, Anderson\, SC\, 29626\, United States
CATEGORIES:PAWS
ORGANIZER;CN="Hannah Human":MAILTO:ahhuman@andersoncountysc.org
END:VEVENT
BEGIN:VEVENT
DTSTART;TZID=UTC:20250422T183000
DTEND;TZID=UTC:20250422T193000
DTSTAMP:20260420T114916
CREATED:20250211T153258Z
LAST-MODIFIED:20250213T200208Z
UID:10001353-1745346600-1745350200@www.andersoncountysc.org
SUMMARY:District 7 Comprehensive Planning Meeting
DESCRIPTION:APRIL 22\, 2025\,2. WHITEFIELD BAPTIST CHURCH 105 BOWLAN ROAD\, BELTON\, SC AT 6:30PM\n\nANDERSON COUNTY WILL BE UPDATING THEIR (10 YEAR) COMPREHENSIVE PLAN. ALL CITIZENS IN DISTRICT 7 ARE INVITED TO ATTEND TO HEAR ABOUT THE CHANGES THAT HAVE OCCURRED IN ANDERSON COUNTY FROM 2016 TO THE PRESENT IN LAND USE\, POPULATION\, NATURAL RESOURCES\, TRANSPORTATION\, HOUSING\, RESILENCE\, ECONOMIC DEVELOPMENT\, PRIORITY INVESTMENT\, COMMUNITY SERVICES AND FACILITES.  \nFOR MORE IN CONTACT THE ANDERSON COUNTY PLANNING AND COMMUNITY DEVELOPMENT DEPARTMENT AT 864-260-4719. \n 
URL:https://www.andersoncountysc.org/event/district-7-comprehensive-planning-meeting-2/
LOCATION:SC
CATEGORIES:Community Meeting
ORGANIZER;CN="Renee Watts":MAILTO:rdwatts@andersoncountysc.org
END:VEVENT
BEGIN:VEVENT
DTSTART;TZID=UTC:20250426T090000
DTEND;TZID=UTC:20250426T140000
DTSTAMP:20260420T114916
CREATED:20250325T210447Z
LAST-MODIFIED:20250325T210447Z
UID:10001382-1745658000-1745676000@www.andersoncountysc.org
SUMMARY:Anderson Elks Lodge Annual Benefit Car Show
DESCRIPTION:Join us at Anderson Elks Lodge for a fun-filled day of cars and cute\, adoptable dogs!
URL:https://www.andersoncountysc.org/event/anderson-elks-lodge-annual-benefit-car-show/
LOCATION:Anderson Elks Lodge\, 225 McGee Road\, Anderson\, SC\, 29625\, United States
CATEGORIES:PAWS
ORGANIZER;CN="Meg Greenway":MAILTO:megreenway@andersoncountysc.org
END:VEVENT
BEGIN:VEVENT
DTSTART;TZID=UTC:20250427T130000
DTEND;TZID=UTC:20250427T160000
DTSTAMP:20260420T114916
CREATED:20250407T192212Z
LAST-MODIFIED:20250407T192212Z
UID:10001385-1745758800-1745769600@www.andersoncountysc.org
SUMMARY:Boy Scouts Adoption Event
DESCRIPTION:
URL:https://www.andersoncountysc.org/event/boy-scouts-adoption-event/
LOCATION:Petsmart\, 3523 Clemson Blvd\, Anderson\, SC\, 29621\, United States
CATEGORIES:PAWS
ORGANIZER;CN="Meg Greenway":MAILTO:megreenway@andersoncountysc.org
END:VEVENT
BEGIN:VEVENT
DTSTART;TZID=UTC:20250430T130000
DTEND;TZID=UTC:20250430T170000
DTSTAMP:20260420T114916
CREATED:20250429T153849Z
LAST-MODIFIED:20250429T153849Z
UID:10001403-1746018000-1746032400@www.andersoncountysc.org
SUMMARY:Finance Committee Meeting
DESCRIPTION:The Council’s Finance Committee will meet at 1 PM on April 30\, 2025\, at the Anderson County Historic Courthouse\, 101 South Main Street\, Anderson\, SC 29621. \nParking is limited at the Historic Courthouse due to repairs; however\, the parking garage is available. E-Merge at the Garage Parking\, 102 N Murray Ave\, Anderson\, SC 29625. \nAGENDA \n 
URL:https://www.andersoncountysc.org/event/finance-committee-meeting-13/
LOCATION:Historic Courthouse\, 101 S. Main Street\, Anderson\, SC\, 29624\, United States
CATEGORIES:Council Committee Meeting
ORGANIZER;CN="Renee Watts":MAILTO:rdwatts@andersoncountysc.org
END:VEVENT
END:VCALENDAR