BEGIN:VCALENDAR
VERSION:2.0
PRODID:-//Anderson County - ECPv6.15.20//NONSGML v1.0//EN
CALSCALE:GREGORIAN
METHOD:PUBLISH
X-ORIGINAL-URL:https://www.andersoncountysc.org
X-WR-CALDESC:Events for Anderson County
REFRESH-INTERVAL;VALUE=DURATION:PT1H
X-Robots-Tag:noindex
X-PUBLISHED-TTL:PT1H
BEGIN:VTIMEZONE
TZID:UTC
BEGIN:STANDARD
TZOFFSETFROM:+0000
TZOFFSETTO:+0000
TZNAME:UTC
DTSTART:20240101T000000
END:STANDARD
END:VTIMEZONE
BEGIN:VEVENT
DTSTART;TZID=UTC:20250602T180000
DTEND;TZID=UTC:20250602T193000
DTSTAMP:20260420T152255
CREATED:20250515T185327Z
LAST-MODIFIED:20250515T185430Z
UID:10001410-1748887200-1748892600@www.andersoncountysc.org
SUMMARY:County Council Districts 2 & 3: Zoning Informational Meeting
DESCRIPTION:Anderson County Council Districts 2 & 3 and Anderson County Planning & Community Development will host a Zoning Informational Meeting at 6 p.m. on Monday\, June 2\, at Neal’s Creek Baptist Church Family Life Center\, 3204 Amity Road Ext\, Anderson\, SC 29621. \n15% RESIDENTS INITIATED ZONING IN NEALS CREEK VOTING PRECINCT BY PETITION \nThis is to educate the voters of the Neal’s Creek voting precinct regarding the recent certification petition\, the zoning process\, the types of zoning classifications\, zoning regulations\, zoning codes\, and the difference between zoning and land use regulations. \nQuestions: Contact the Anderson County Planning & Community Development Department at 864.260.4719.
URL:https://www.andersoncountysc.org/event/county-council-districts-2-3-zoning-informational-meeting/
LOCATION:SC
CATEGORIES:Community Meeting
END:VEVENT
BEGIN:VEVENT
DTSTART;TZID=UTC:20250603T183000
DTEND;TZID=UTC:20250603T200000
DTSTAMP:20260420T152255
CREATED:20250422T185517Z
LAST-MODIFIED:20250530T201127Z
UID:10001395-1748975400-1748980800@www.andersoncountysc.org
SUMMARY:County Council Meeting
DESCRIPTION:The Anderson County Council will meet on June 3\, 2025\, at 6:30 p.m. at the Anderson County Historic Courthouse\, 101 South Main Street\,  Anderson\, SC 29624. \nParking is limited at the Historic Courthouse due to repairs; however\, the parking garage is available. E-Merge at the Garage Parking\, 102 N Murray Ave\, Anderson\, SC 29625. \nAGENDA
URL:https://www.andersoncountysc.org/event/county-council-meeting-70/
LOCATION:Historic Courthouse\, 101 S. Main Street\, Anderson\, SC\, 29624\, United States
CATEGORIES:County Council Meeting
ORGANIZER;CN="Renee Watts":MAILTO:rdwatts@andersoncountysc.org
END:VEVENT
BEGIN:VEVENT
DTSTART;TZID=UTC:20250604T080000
DTEND;TZID=UTC:20250604T080000
DTSTAMP:20260420T152255
CREATED:20250508T140826Z
LAST-MODIFIED:20250508T141252Z
UID:10001406-1749024000-1749024000@www.andersoncountysc.org
SUMMARY:Farmers Market Senior Vouchers
DESCRIPTION:Wednesday – June 4 at 8 am – Iva Farmers Market \nClick here for Senior Voucher Application
URL:https://www.andersoncountysc.org/event/farmers-market-senior-vouchers/
LOCATION:Iva Farmers Market\, 723 E. Front Street\, Iva\, South Carolina\, 29655
CATEGORIES:Community Event
ATTACH;FMTTYPE=image/jpeg:https://www.andersoncountysc.org/wp-content/uploads/2021/02/senior-citizens-program-logo-1-e1704993052732.jpg
END:VEVENT
BEGIN:VEVENT
DTSTART;TZID=UTC:20250605T080000
DTEND;TZID=UTC:20250605T080000
DTSTAMP:20260420T152255
CREATED:20250508T141525Z
LAST-MODIFIED:20250508T141525Z
UID:10001407-1749110400-1749110400@www.andersoncountysc.org
SUMMARY:Farmers Market Senior Vouchers
DESCRIPTION:Thursday – June 5 at 8 am – Belton Farmers Market \nClick here for Senior Voucher Application
URL:https://www.andersoncountysc.org/event/farmers-market-senior-vouchers-2/
LOCATION:Belton Farmers Market\, North Main Street & Blake Street\, Belton\, South Carolina\, 29627
CATEGORIES:Community Event
ATTACH;FMTTYPE=image/jpeg:https://www.andersoncountysc.org/wp-content/uploads/2021/02/senior-citizens-program-logo-1-e1704993052732.jpg
END:VEVENT
BEGIN:VEVENT
DTSTART;TZID=UTC:20250605T090000
DTEND;TZID=UTC:20250605T100000
DTSTAMP:20260420T152255
CREATED:20250604T161556Z
LAST-MODIFIED:20250604T161556Z
UID:10001422-1749114000-1749117600@www.andersoncountysc.org
SUMMARY:Comprehensive Safety Action Plan Meeting
DESCRIPTION:Please visit us at the following locations and times to share your ideas for safer streets for all! \nLocation: Piedmont Community Center\, 3 Main Street\, Piedmont\, SC 29673
URL:https://www.andersoncountysc.org/event/comprehensive-safety-action-plan-meeting/
LOCATION:SC
CATEGORIES:Community Meeting
ORGANIZER;CN="Brittany McAbee":MAILTO:bdmcabee@andersoncountysc.org
END:VEVENT
BEGIN:VEVENT
DTSTART;TZID=UTC:20250605T103000
DTEND;TZID=UTC:20250605T113000
DTSTAMP:20260420T152255
CREATED:20250604T162238Z
LAST-MODIFIED:20250605T145736Z
UID:10001423-1749119400-1749123000@www.andersoncountysc.org
SUMMARY:CANCELLED | Comprehensive Safety Action Plan Meeting
DESCRIPTION:CANCELED \nPlease visit us at the following locations and times to share your ideas for safer streets for all! \nLocation: Pelzer | Lebby Street\, Main Street\, and Hwy 20 Intersection
URL:https://www.andersoncountysc.org/event/comprehensive-safety-action-plan-meeting-2/
LOCATION:SC
CATEGORIES:Community Meeting
ORGANIZER;CN="Brittany McAbee":MAILTO:bdmcabee@andersoncountysc.org
END:VEVENT
BEGIN:VEVENT
DTSTART;TZID=UTC:20250605T130000
DTEND;TZID=UTC:20250605T140000
DTSTAMP:20260420T152255
CREATED:20250604T162431Z
LAST-MODIFIED:20250605T145710Z
UID:10001424-1749128400-1749132000@www.andersoncountysc.org
SUMMARY:CANCELLED | Comprehensive Safety Action Plan Meeting
DESCRIPTION:CANCELED \nPlease visit us at the following locations and times to share your ideas for safer streets for all! \nLocation: Belton | Ingles Market\, 426 S. Main Street\, Belton\, SC 29627
URL:https://www.andersoncountysc.org/event/comprehensive-safety-action-plan-meeting-3/
LOCATION:SC
CATEGORIES:Community Meeting
ORGANIZER;CN="Brittany McAbee":MAILTO:bdmcabee@andersoncountysc.org
END:VEVENT
BEGIN:VEVENT
DTSTART;TZID=UTC:20250606T080000
DTEND;TZID=UTC:20250606T080000
DTSTAMP:20260420T152255
CREATED:20250508T141641Z
LAST-MODIFIED:20250508T141641Z
UID:10001408-1749196800-1749196800@www.andersoncountysc.org
SUMMARY:Farmers Market Senior Vouchers
DESCRIPTION:Friday – June 6 at 8 am – Anderson County Farmers Market \nClick here for Senior Voucher Application
URL:https://www.andersoncountysc.org/event/farmers-market-senior-vouchers-3/
LOCATION:Farmers Market\, 402 N. Murray Avenue\, Anderson\, SC\, 29625\, United States
CATEGORIES:Community Event
ATTACH;FMTTYPE=image/jpeg:https://www.andersoncountysc.org/wp-content/uploads/2021/02/senior-citizens-program-logo-1-e1704993052732.jpg
END:VEVENT
BEGIN:VEVENT
DTSTART;TZID=UTC:20250607T080000
DTEND;TZID=UTC:20250607T130000
DTSTAMP:20260420T152255
CREATED:20250423T144554Z
LAST-MODIFIED:20250512T185058Z
UID:10001398-1749283200-1749301200@www.andersoncountysc.org
SUMMARY:Saluda River Rally
DESCRIPTION:The SALUDA RIVER RALLY on the first Saturday in June is always a FUN time at Dolly Cooper Park. This year is going to be even BETTER! Anderson County\, S.C. is partnering with Connect Powdersville for Rhythm on the River on June 7th at Dolly Cooper Park. \n\n\nAfter you paddle\, hang around for live music\, food and beverage trucks\, craft vendors\, and kids’ activities! Make plans to spend the whole day with us!\nSaluda River Rally 8 am – 1 pm\nRhythm on the River 1 pm – 8 pm\n15th Annual Saluda River Rally Tickets\, Sat\, Jun 7\, 2025 at 8:00 AM | Eventbrite\nAnMed Rhythm on the River is a free event.\n\n15th Annual Saluda River Rally is a fundraiser supporting Area 14-Anderson County SC Special Olympics Athletes!!! \n\n\nSee you at the Rally!
URL:https://www.andersoncountysc.org/event/saluda-river-rally-2/
LOCATION:SC
CATEGORIES:Community Event
ATTACH;FMTTYPE=image/jpeg:https://www.andersoncountysc.org/wp-content/uploads/2025/04/Rhythm-on-the-River-2025_web-1-e1745877799462.jpg
END:VEVENT
BEGIN:VEVENT
DTSTART;TZID=UTC:20250607T100000
DTEND;TZID=UTC:20250607T140000
DTSTAMP:20260420T152255
CREATED:20250529T204423Z
LAST-MODIFIED:20250529T204423Z
UID:10001416-1749290400-1749304800@www.andersoncountysc.org
SUMMARY:Town of West Pelzer's Dog Show
DESCRIPTION:Come enjoy a celebration of adorable dogs in Chapman Park on Saturday\, June 7th. There will be raffle prizes\, food and ice cream! Not to mention super cute adoptable pups looking for their forever homes! Hope to see you there!
URL:https://www.andersoncountysc.org/event/town-of-west-pelzers-dog-show/
LOCATION:Chapman park\, 30 Main Street\, Pelzer\, SC\, 29669\, United States
CATEGORIES:PAWS
ORGANIZER;CN="Meg Greenway":MAILTO:megreenway@andersoncountysc.org
END:VEVENT
BEGIN:VEVENT
DTSTART;TZID=UTC:20250607T110000
DTEND;TZID=UTC:20250607T170000
DTSTAMP:20260420T152255
CREATED:20250528T204441Z
LAST-MODIFIED:20250528T204441Z
UID:10001415-1749294000-1749315600@www.andersoncountysc.org
SUMMARY:Ahoy\, Anderson! The Lost City Regatta Sets Sail on June 7 at The Shores of Asbury\, Lake Hartwell
DESCRIPTION:Ahoy\, Anderson! The Lost City Regatta Sets Sail on June 7 at The Shores of Asbury\, Lake Hartwell \nSaturday\, June 7 | 11:00 AM – 5:00 PM \n1600 Asbury Park Rd\, Anderson\, SC 29625 \nAnderson County\, S.C. (May 28\, 2025) – Get ready for a day of swashbuckling fun as The Lost City Regatta takes to the waters of Lake Hartwell on Saturday\, June 7\, 2025\, from 11:00 AM to 5:00 PM at The Shores of Asbury. This exciting\, family-friendly event is free and promises a day full of adventure\, community spirit\, and creative challenges. \nOriginally scheduled for earlier this year\, the Lost City Regatta was rescheduled due to weather\, but the fun is back and bigger than ever! This unique celebration features a cardboard boat race where participants can showcase their creativity and teamwork by building and racing their very own boats. Competing teams will vie for the coveted title of Regatta Champion\, as well as bragging rights and fabulous prizes. It’s a race like no other\, combining craftsmanship\, friendly competition\, and community pride. \nBut the fun doesn’t stop there. Attendees can enjoy: \nLive Music from the Time Pirates\,  Pirate Costume Contest with prizes for the best dressed swashbuckler\, Family Fun Zone with interactive experiences along the water’s edge\, Delicious food from El Arriero at the Shores\, offering both Hispanic and American dishes perfect for a lakeside feast\, and Prizes and Giveaways throughout the event. \nPresented By: \n\n\nAnderson County\, South Carolina \n\n\nThe Shores of Asbury \n\n\nThe Peoples Bank \n\n\nEl Arriero at The Shores \n\n\nLeadership Anderson Class 40 \n\n\nVets Helping Vets Anderson (VHVA) “This isn’t just a race; it’s a community celebration\,” said Gary Cooper\, Director of Marketing and Events for VHVA. “We’re excited to bring the community together to support our local veterans while having a blast with family and friends. It’s a day you won’t want to miss!” \nAdmission is free\, and everyone is invited to bring their family\, friends\, and pirate spirit to the shores of Lake Hartwell for an unforgettable day of fun\, competition\, and community camaraderie. \nRegister Now! \nAvoid the last-minute rush and sign up today! Registration ends on June 5\, 2025. Build your boat\, assemble your crew\, and race to victory for a chance to win legendary treasures! \nFor more information and to register\, visit: https://vhva.org/lost-city-regatta-2025 \nAbout VHVA\nVets Helping Vets Anderson (VHVA) is a nonprofit organization dedicated to supporting local veterans and their families through advocacy\, events\, and partnerships that strengthen the Anderson County community.
URL:https://www.andersoncountysc.org/event/ahoy-anderson-the-lost-city-regatta-sets-sail-on-june-7-at-the-shores-of-asbury-lake-hartwell/
LOCATION:SC
CATEGORIES:Community Event
END:VEVENT
BEGIN:VEVENT
DTSTART;TZID=UTC:20250607T130000
DTEND;TZID=UTC:20250607T200000
DTSTAMP:20260420T152255
CREATED:20250422T191655Z
LAST-MODIFIED:20250602T145219Z
UID:10001397-1749301200-1749326400@www.andersoncountysc.org
SUMMARY:AnMed Rhythm on the River
DESCRIPTION: Get ready for Powdersville’s biggest day of the year!Join us for the 4th Annual AnMed Rhythm on the River 2025—a FREE family-friendly outdoor music festival at the beautiful Dolly Cooper Park!\n 1 PM – 8 PM: Festivities begin with:•  Live music all day long!•  Headliner Performance: James Tucker followed by EagleWing\, Connor Chase\, and more!• Food\, dessert\, and beer trucks serving up your favorites• Local artisan makers market• The ever-popular KidsZone is loaded with fun• Golf cart shuttle service provided for convenience\n Admission & Parking are FREE!\nSponsored By: AnMed Health\nFollow this event page & our Facebook page for band announcements\, vendor features\, schedules\, and more updates as we countdown to June 7th!\n Tag your friends & family—let’s make June 7th unforgettable!
URL:https://www.andersoncountysc.org/event/anmed-rhythm-on-the-river/
LOCATION:MJ “Dolly” Cooper Park\, 170 Spearman Circle\, Greenville\, SC\, 29611\, United States
CATEGORIES:Community Event
ATTACH;FMTTYPE=image/jpeg:https://www.andersoncountysc.org/wp-content/uploads/2025/04/Rhythm-on-the-River-2025_web-1-e1745877799462.jpg
ORGANIZER;CN="Matt Schell":MAILTO:mschell@andersoncountysc.org
END:VEVENT
BEGIN:VEVENT
DTSTART;TZID=UTC:20250610T080000
DTEND;TZID=UTC:20250610T170000
DTSTAMP:20260420T152255
CREATED:20250602T145831Z
LAST-MODIFIED:20250602T150304Z
UID:10001417-1749542400-1749574800@www.andersoncountysc.org
SUMMARY:Planning Commission Meeting
DESCRIPTION:The Planning Commission will meet at 6:00 PM on Tuesday\, June 10\, 2025\, at the Historic Courthouse\, 101 S. Main Street\, Anderson\, South Carolina. \nAGENDA \nParking is limited at the historic courthouse due to repairs; however\, the parking garage is available. Garage Parking: 102 N Murray Ave\, Anderson\, SC 29625
URL:https://www.andersoncountysc.org/event/planning-commission-meeting-44/
LOCATION:Historic Courthouse\, 101 S. Main Street\, Anderson\, SC\, 29624\, United States
CATEGORIES:Planning Events
END:VEVENT
BEGIN:VEVENT
DTSTART;TZID=UTC:20250610T180000
DTEND;TZID=UTC:20250610T200000
DTSTAMP:20260420T152255
CREATED:20250609T152458Z
LAST-MODIFIED:20250609T153207Z
UID:10001425-1749578400-1749585600@www.andersoncountysc.org
SUMMARY:Hurricane Helene Disaster | Recovery Action Plan Input Meeting
DESCRIPTION:SC Office of Resilience will host the Public Input Meeting.\n⏰ Tuesday\, June 10 from 6 – 8 PM\n📍 Westside Community Center
URL:https://www.andersoncountysc.org/event/hurricane-helene-disaster-recovery-action-plan-input-meeting/
LOCATION:Westside Community Center\, 1100 W. Franklin Street\, Anderson\, SC\, 29624\, United States
CATEGORIES:Community Meeting
ATTACH;FMTTYPE=image/png:https://www.andersoncountysc.org/wp-content/uploads/2025/06/Helene-CDBG-DR-Meeting-Anderson-e1749483117473.png
END:VEVENT
BEGIN:VEVENT
DTSTART;TZID=UTC:20250612T171500
DTEND;TZID=UTC:20250612T183000
DTSTAMP:20260420T152255
CREATED:20250602T150217Z
LAST-MODIFIED:20250602T150217Z
UID:10001418-1749748500-1749753000@www.andersoncountysc.org
SUMMARY:BZA Meeting
DESCRIPTION:The Board of Zoning and Appeals will meet at 5:15 PM on Thursday\, June 12\, 2025\, at the Historic Courthouse\, 101 S. Main Street\, Anderson\, South Carolina. \nAgenda \nDue to repairs\, parking is limited at the historic courthouse; however\, the garage is available. It is located at 102 N Murray Ave\, Anderson\, SC 29625. \n 
URL:https://www.andersoncountysc.org/event/bza-meeting-3/
LOCATION:Historic Courthouse\, 101 S. Main Street\, Anderson\, SC\, 29624\, United States
CATEGORIES:Committee Meetings
END:VEVENT
BEGIN:VEVENT
DTSTART;TZID=UTC:20250613T090000
DTEND;TZID=UTC:20250613T140000
DTSTAMP:20260420T152255
CREATED:20250603T185651Z
LAST-MODIFIED:20250603T185651Z
UID:10001420-1749805200-1749823200@www.andersoncountysc.org
SUMMARY:Adoption & Fundraising Event
DESCRIPTION:Join us for a couple of beautiful days out on a Lavender Farm! Pick your own lavender and enjoy some lavender ice cream while supporting a local business and Anderson County PAWS! 50% of proceeds from fresh lavender picked will be donated to PAWS.
URL:https://www.andersoncountysc.org/event/adoption-fundraising-event/
LOCATION:Twin Creeks Lavender\, 4638 Midway Road\, Williamston\, SC\, 29697\, United States
CATEGORIES:PAWS
ORGANIZER;CN="Meg Greenway":MAILTO:megreenway@andersoncountysc.org
END:VEVENT
BEGIN:VEVENT
DTSTART;TZID=UTC:20250614T090000
DTEND;TZID=UTC:20250614T140000
DTSTAMP:20260420T152255
CREATED:20250603T190512Z
LAST-MODIFIED:20250603T190629Z
UID:10001421-1749891600-1749909600@www.andersoncountysc.org
SUMMARY:Adoption & Fundraising Event
DESCRIPTION:Join us for a couple of beautiful days out on a Lavender Farm! Pick your own lavender and enjoy some lavender ice cream while supporting a local business and Anderson County PAWS! 50% of proceeds from fresh lavender picked will be donated to PAWS.
URL:https://www.andersoncountysc.org/event/adoption-fundraising-event-2/
LOCATION:Twin Creeks Lavender\, 4638 Midway Road\, Williamston\, SC\, 29697\, United States
CATEGORIES:PAWS
ORGANIZER;CN="Meg Greenway":MAILTO:megreenway@andersoncountysc.org
END:VEVENT
BEGIN:VEVENT
DTSTART;TZID=UTC:20250616T173000
DTEND;TZID=UTC:20250616T190000
DTSTAMP:20260420T152255
CREATED:20250613T172945Z
LAST-MODIFIED:20250613T174938Z
UID:10001430-1750095000-1750100400@www.andersoncountysc.org
SUMMARY:Capital Projects Sales Tax Commission Meeting
DESCRIPTION:The Anderson County Capital Projects Sales Tax Commission will meet on June 16\, 2025\, at 5:30 p.m. at the Anderson County Historic Courthouse\, 101 South Main Street\, Anderson\, SC 29624. \n6.16.2025 Agenda \nParking is limited at the Historic Courthouse due to repairs; however\, the parking garage is available. E-Merge at the Garage Parking\, 102 N Murray Ave\, Anderson\, SC 29625.
URL:https://www.andersoncountysc.org/event/capital-projects-sales-tax-commission-meeting/
LOCATION:Historic Courthouse\, 101 S. Main Street\, Anderson\, SC\, 29624\, United States
CATEGORIES:Committee Meetings
ORGANIZER;CN="Brittany McAbee":MAILTO:bdmcabee@andersoncountysc.org
END:VEVENT
BEGIN:VEVENT
DTSTART;TZID=UTC:20250617T100000
DTEND;TZID=UTC:20250617T110000
DTSTAMP:20260420T152255
CREATED:20250616T164403Z
LAST-MODIFIED:20250616T165602Z
UID:10001431-1750154400-1750158000@www.andersoncountysc.org
SUMMARY:AC Comprehensive Safety Action Plan
DESCRIPTION:We need your input to help Anderson County plan for a safer future for our community. Visit us on Tuesday\, June 17\,  at one of the following locations and times to share your ideas and concerns. \n10 am – 11 am | Cotton Duck Cafe | 19 Main Street\, Pelzer \n11:30 am – 12:30 pm | Ingles Markets | 426 S. Main Street\, Belton \n2:30 pm – 3:30 pm La Unica | 2807 S. Main Street\, Anderson \n4:00 pm – 5 pm AC Courthouse Annex | 401 E. River Street\, Anderson \n 
URL:https://www.andersoncountysc.org/event/ac-comprehensive-safety-action-plan/2025-06-17/1/
LOCATION:SC
CATEGORIES:Community Event
END:VEVENT
BEGIN:VEVENT
DTSTART;TZID=UTC:20250617T113000
DTEND;TZID=UTC:20250617T123000
DTSTAMP:20260420T152255
CREATED:20250616T164403Z
LAST-MODIFIED:20250616T165602Z
UID:10001432-1750159800-1750163400@www.andersoncountysc.org
SUMMARY:AC Comprehensive Safety Action Plan
DESCRIPTION:We need your input to help Anderson County plan for a safer future for our community. Visit us on Tuesday\, June 17\,  at one of the following locations and times to share your ideas and concerns. \n10 am – 11 am | Cotton Duck Cafe | 19 Main Street\, Pelzer \n11:30 am – 12:30 pm | Ingles Markets | 426 S. Main Street\, Belton \n2:30 pm – 3:30 pm La Unica | 2807 S. Main Street\, Anderson \n4:00 pm – 5 pm AC Courthouse Annex | 401 E. River Street\, Anderson \n 
URL:https://www.andersoncountysc.org/event/ac-comprehensive-safety-action-plan/2025-06-17/2/
LOCATION:SC
CATEGORIES:Community Event
END:VEVENT
BEGIN:VEVENT
DTSTART;TZID=UTC:20250617T143000
DTEND;TZID=UTC:20250617T153000
DTSTAMP:20260420T152255
CREATED:20250616T164403Z
LAST-MODIFIED:20250616T165602Z
UID:10001433-1750170600-1750174200@www.andersoncountysc.org
SUMMARY:AC Comprehensive Safety Action Plan
DESCRIPTION:We need your input to help Anderson County plan for a safer future for our community. Visit us on Tuesday\, June 17\,  at one of the following locations and times to share your ideas and concerns. \n10 am – 11 am | Cotton Duck Cafe | 19 Main Street\, Pelzer \n11:30 am – 12:30 pm | Ingles Markets | 426 S. Main Street\, Belton \n2:30 pm – 3:30 pm La Unica | 2807 S. Main Street\, Anderson \n4:00 pm – 5 pm AC Courthouse Annex | 401 E. River Street\, Anderson \n 
URL:https://www.andersoncountysc.org/event/ac-comprehensive-safety-action-plan/2025-06-17/3/
LOCATION:SC
CATEGORIES:Community Event
END:VEVENT
BEGIN:VEVENT
DTSTART;TZID=UTC:20250617T160000
DTEND;TZID=UTC:20250617T170000
DTSTAMP:20260420T152255
CREATED:20250616T164403Z
LAST-MODIFIED:20250616T165602Z
UID:10001434-1750176000-1750179600@www.andersoncountysc.org
SUMMARY:AC Comprehensive Safety Action Plan
DESCRIPTION:We need your input to help Anderson County plan for a safer future for our community. Visit us on Tuesday\, June 17\,  at one of the following locations and times to share your ideas and concerns. \n10 am – 11 am | Cotton Duck Cafe | 19 Main Street\, Pelzer \n11:30 am – 12:30 pm | Ingles Markets | 426 S. Main Street\, Belton \n2:30 pm – 3:30 pm La Unica | 2807 S. Main Street\, Anderson \n4:00 pm – 5 pm AC Courthouse Annex | 401 E. River Street\, Anderson \n 
URL:https://www.andersoncountysc.org/event/ac-comprehensive-safety-action-plan/2025-06-17/4/
LOCATION:SC
CATEGORIES:Community Event
END:VEVENT
BEGIN:VEVENT
DTSTART;TZID=UTC:20250617T183000
DTEND;TZID=UTC:20250617T200000
DTSTAMP:20260420T152255
CREATED:20250422T185705Z
LAST-MODIFIED:20250613T173451Z
UID:10001396-1750185000-1750190400@www.andersoncountysc.org
SUMMARY:County Council Meeting
DESCRIPTION:The Anderson County Council will meet on June 17\, 2025\, at 6:30 p.m. at the Anderson County Historic Courthouse\, 101 South Main Street\, Anderson\, SC 29624. \n06.17.2025 Agenda Packet \nParking is limited at the Historic Courthouse due to repairs; however\, the parking garage is available. E-Merge at the Garage Parking\, 102 N Murray Ave\, Anderson\, SC 29625.
URL:https://www.andersoncountysc.org/event/county-council-meeting-71/
LOCATION:Historic Courthouse\, 101 S. Main Street\, Anderson\, SC\, 29624\, United States
CATEGORIES:County Council Meeting
ORGANIZER;CN="Renee Watts":MAILTO:rdwatts@andersoncountysc.org
END:VEVENT
BEGIN:VEVENT
DTSTART;TZID=UTC:20250619T183000
DTEND;TZID=UTC:20250619T200000
DTSTAMP:20260420T152255
CREATED:20250602T161854Z
LAST-MODIFIED:20250604T221512Z
UID:10001419-1750357800-1750363200@www.andersoncountysc.org
SUMMARY:County Council District 7 Community Planning Meeting
DESCRIPTION:ALL CITIZENS IN DISTRICT 7 ARE INVITED TO ATTEND A COMBINATION MEETING TO HEAR AND LEARN ABOUT THE FOLLOWING. \n\nCHANGES THAT HAVE OCCURRED IN ANDERSON COUNTY FROM 2016 TO THE PRESENT IN LAND USE\, POPULATION\, NATURAL RESOURCES\, TRANSPORTATION\, HOUSING\, RESILIENCE\, ECONOMIC DEVELOPMENT\, PRIORITY INVESTMENT\, COMMUNITY SERVICES\, AND FACILITIES WITH THE COUNTY’S 2026 COMPREHENSIVE PLAN UPDATE. YOUR INPUT IS TO BE RECEIVED AS TO HOW YOU WANT YOUR COMMUNITY TO BE IN THE NEXT 10-25 YEARS.\nHOW THE ZONING PROCESS WORKS IN YOUR VOTING PRECINCT.\nLANDFILL EXPANSION DISCUSSION LOCATED OFF BIG CREEK ROAD\, BELTON. PLEASE NOTE: THIS DISCUSSION IS FOR INFORMATION ONLY TO THE PUBLIC. THIS IS NOT A PUBLIC HEARING. A PUBLIC HEARING WILL BE SCHEDULED AND CONDUCTED BY THE PLANNING COMMISSION AT A LATER DATE AND TIME\, AND PROPER NOTIFICATION WILL BE GIVEN.\nPROPOSED SOLAR FARM LOCATED ON RECTOR\, BROWNING\, AND TONY CREEK ROAD\, BELTON. PLEASE NOTE: THIS DISCUSSION IS FOR INFORMATION ONLY TO THE PUBLIC. THIS IS NOT A PUBLIC HEARING. A PUBLIC HEARING WILL BE SCHEDULED AND CONDUCTED BY THE PLANNING COMMISSION ONCE A FORMAL APPLICATION HAS BEEN RECEIVED AND PROCESSED\, AND PROPER NOTIFICATION WILL BE GIVEN.\n\n THE MEETING IS SCHEDULED FOR THURSDAY\, JUNE 19\, 2025\, AT CEDAR GROVE ELEMENTARY SCHOOL- CAFETERIA-107 MELVIN LANE\, WILLIAMSTON\, SC. THE DOORS WILL OPEN AT 6:00 PM AND THE MEETING WILL START AT 6:30 PM \nFOR MORE INFORMATION\, CONTACT THE ANDERSON COUNTY PLANNING AND COMMUNITY DEVELOPMENT DEPARTMENT AT 864-260-4720.
URL:https://www.andersoncountysc.org/event/county-council-district-7-community-planning-meeting/
LOCATION:SC
CATEGORIES:Community Meeting
END:VEVENT
BEGIN:VEVENT
DTSTART;TZID=UTC:20250619T193000
DTEND;TZID=UTC:20250619T220000
DTSTAMP:20260420T152255
CREATED:20250609T155321Z
LAST-MODIFIED:20250609T155620Z
UID:10001427-1750361400-1750370400@www.andersoncountysc.org
SUMMARY:Upchurch & the Dixielanders: The Civil Tour
DESCRIPTION:Upchurch & the Dixielanders: The Civil Tour\nSaturday\, July 19\, 2025\nGates: 6:00pm\nShow: 7:30pm \nGA PIT TICKETS:\nGet close to the action with tickets for the standing room pit in front of the stage. \nNo chairs or blankets will be allowed entry into the standing room pit. \nLAWN TICKETS:\nBring your blankets and camp chairs to enjoy the concert from the general admission lawn \n*Note: to expedite security screenings\, we request that you leave your chair bag at home or in your vehicle. \nTickets go on sale this Friday at 10 AM local time at: AndersonEvents.com or  [UpchurchMerch.com]UpchurchMerch.com. \n\nA limited presale is available starting at 10 AM on Thursday\, May 29 at 10 AM local using the passcode: CIVIL
URL:https://www.andersoncountysc.org/event/upchurch-the-dixielanders-the-civil-tour/
LOCATION:ASEC | Anderson Sports & Entertainment Center\, 3027 Martin Luther King Jr. Boulevard\, Anderson\, SC\, 29625\, United States
CATEGORIES:Community Event
ORGANIZER;CN="Adrienne Cole":MAILTO:ASEC@andersoncountysc.org
END:VEVENT
BEGIN:VEVENT
DTSTART;TZID=UTC:20250623T173000
DTEND;TZID=UTC:20250623T190000
DTSTAMP:20260420T152255
CREATED:20250618T192756Z
LAST-MODIFIED:20250620T151857Z
UID:10001435-1750699800-1750705200@www.andersoncountysc.org
SUMMARY:Capital Projects Sales Tax Commission Meeting
DESCRIPTION:The Anderson County Capital Projects Sales Tax Commission will meet on June 23\, 2025\, at 5:30 p.m. at the Anderson County Historic Courthouse\, 101 South Main Street\, Anderson\, SC 29624. \n 6/23/2025 at 6:30 PM – Public Participation Session  \nAGENDA: ACCPTC-Mtg-2-agenda.pdf\nThe Commission Meeting Agenda is on page 1.\nThe Public Participation Session is on page 2. \nParking is limited at the Historic Courthouse due to repairs; however\, the parking garage is available. E-Merge at the Garage Parking\, 102 N Murray Ave\, Anderson\, SC 29625.
URL:https://www.andersoncountysc.org/event/capital-projects-sales-tax-commission-meeting-2/
LOCATION:Historic Courthouse\, 101 S. Main Street\, Anderson\, SC\, 29624\, United States
CATEGORIES:Community Meeting
ORGANIZER;CN="Renee Watts":MAILTO:rdwatts@andersoncountysc.org
END:VEVENT
BEGIN:VEVENT
DTSTART;TZID=UTC:20250624T160000
DTEND;TZID=UTC:20250624T170000
DTSTAMP:20260420T152255
CREATED:20250515T184103Z
LAST-MODIFIED:20250515T184103Z
UID:10001409-1750780800-1750784400@www.andersoncountysc.org
SUMMARY:Anderson County Delegation Meeting
DESCRIPTION:Senator Richard Cash\, Chairman of the Anderson County Legislative Delegation\, has called a Delegation Meeting to be held on Tuesday\, June 24\, 4:00 P.M.\, at the Ronald Townsend Government Building\, 2404 N. Main St.\, Anderson\, SC. \nAGENDA
URL:https://www.andersoncountysc.org/event/anderson-county-delegation-meeting/
LOCATION:Ronald P. Townsend Building\, 2404 N. Main Street\, Anderson\, SC\, 29621\, United States
CATEGORIES:Legislative Delegation
ATTACH;FMTTYPE=image/jpeg:https://www.andersoncountysc.org/wp-content/uploads/2022/03/275120680_326791379480590_1553020834931961463_n-e1763512677483.jpg
ORGANIZER;CN="Caroline Piaso":MAILTO:cpiasio@andersoncountysc.org
END:VEVENT
BEGIN:VEVENT
DTSTART;TZID=UTC:20250628T120000
DTEND;TZID=UTC:20250628T140000
DTSTAMP:20260420T152255
CREATED:20250609T154827Z
LAST-MODIFIED:20250609T154827Z
UID:10001426-1751112000-1751119200@www.andersoncountysc.org
SUMMARY:Anderson County Library System Volunteer Fair
DESCRIPTION:Have a few minutes to share in the community? Here is a chance to choose your non-profit. \nVolunteer Fair 2025 Poster
URL:https://www.andersoncountysc.org/event/anderson-county-library-system-volunteer-fair/
LOCATION:Anderson Main Library\, 300 N. McDuffie St\, Anderson\, SC\, 29621
CATEGORIES:Community Event
END:VEVENT
BEGIN:VEVENT
DTSTART;TZID=UTC:20250630T173000
DTEND;TZID=UTC:20250630T183000
DTSTAMP:20260420T152255
CREATED:20250624T155021Z
LAST-MODIFIED:20250627T164753Z
UID:10001437-1751304600-1751308200@www.andersoncountysc.org
SUMMARY:Capital Project Sales Tax Commission Meeting
DESCRIPTION:The Capital Project Sales Tax Commission meeting is next Monday\, June 30th\, at 5:30 pm. The meeting location has moved to the Anderson County Complex at 1428 Pearman Dairy Road\, Anderson. Information about the Tax Commission\, its purpose\, and the proposed tax. \n\n\n\n\nThe link to the Agenda will be available here. \n\nNeed More Information? Visit Capital Projects Sales Tax Commission – Anderson County.
URL:https://www.andersoncountysc.org/event/capital-project-sales-tax-commission-meeting/
LOCATION:1428 County Complex\, 1428 Pearman Dairy Road\, Anderson\, 29625\, United States
CATEGORIES:Committee Meetings
END:VEVENT
END:VCALENDAR