BEGIN:VCALENDAR
VERSION:2.0
PRODID:-//Anderson County - ECPv6.15.20//NONSGML v1.0//EN
CALSCALE:GREGORIAN
METHOD:PUBLISH
X-ORIGINAL-URL:https://www.andersoncountysc.org
X-WR-CALDESC:Events for Anderson County
REFRESH-INTERVAL;VALUE=DURATION:PT1H
X-Robots-Tag:noindex
X-PUBLISHED-TTL:PT1H
BEGIN:VTIMEZONE
TZID:UTC
BEGIN:STANDARD
TZOFFSETFROM:+0000
TZOFFSETTO:+0000
TZNAME:UTC
DTSTART:20240101T000000
END:STANDARD
END:VTIMEZONE
BEGIN:VEVENT
DTSTART;VALUE=DATE:20250704
DTEND;VALUE=DATE:20250705
DTSTAMP:20260420T165402
CREATED:20250626T170900Z
LAST-MODIFIED:20250626T171041Z
UID:10001442-1751587200-1751673599@www.andersoncountysc.org
SUMMARY:Closed on July 4th
DESCRIPTION:Anderson County offices\, PAWS\, Convenience Centers\, Starr C&D Landfill\, and MRF are closed on Friday\, July 4\, 2025\, in observance of Independence Day.
URL:https://www.andersoncountysc.org/event/county-offices-closed-11/
LOCATION:SC
CATEGORIES:County Offices Closed
END:VEVENT
BEGIN:VEVENT
DTSTART;TZID=UTC:20250704T080000
DTEND;TZID=UTC:20250704T170000
DTSTAMP:20260420T165402
CREATED:20250306T201433Z
LAST-MODIFIED:20250306T201433Z
UID:10001371-1751616000-1751648400@www.andersoncountysc.org
SUMMARY:PAWS CLOSED
DESCRIPTION:PAWS will be closed in observance of Independence Day. No services available.
URL:https://www.andersoncountysc.org/event/paws-closed-6/
LOCATION:PAWS\, 1320 Hwy. 29 South\, Anderson\, SC\, 29626\, United States
CATEGORIES:PAWS
ORGANIZER;CN="Meg Greenway":MAILTO:megreenway@andersoncountysc.org
END:VEVENT
BEGIN:VEVENT
DTSTART;TZID=UTC:20250708T180000
DTEND;TZID=UTC:20250708T190000
DTSTAMP:20260420T165402
CREATED:20250626T170033Z
LAST-MODIFIED:20250626T170033Z
UID:10001439-1751997600-1752001200@www.andersoncountysc.org
SUMMARY:Planning Commission Meeting
DESCRIPTION:The Planning Commission will meet at 6:00 PM on Tuesday\, July 8\, 2025\, at the Historic Courthouse\, 101 S. Main Street\, Anderson\, South Carolina. \nAGENDA \nParking is limited at the historic courthouse due to repairs; however\, the parking garage is available. Garage Parking: 102 N Murray Ave\, Anderson\, SC 29625
URL:https://www.andersoncountysc.org/event/planning-commission-meeting-45/
LOCATION:Historic Courthouse\, 101 S. Main Street\, Anderson\, SC\, 29624\, United States
CATEGORIES:Planning Events
END:VEVENT
BEGIN:VEVENT
DTSTART;TZID=UTC:20250710T171500
DTEND;TZID=UTC:20250710T190000
DTSTAMP:20260420T165402
CREATED:20250626T165744Z
LAST-MODIFIED:20250626T165744Z
UID:10001438-1752167700-1752174000@www.andersoncountysc.org
SUMMARY:Board of Zoning and Appeals
DESCRIPTION:The Board of Zoning and Appeals will meet at 5:15 PM on Thursday\, July 10\, 2025\, at the Historic Courthouse\, 101 S. Main Street\, Anderson\, South Carolina. \nAgenda \nDue to repairs\, parking is limited at the historic courthouse; however\, the garage is available for use. It is located at 102 N Murray Ave\, Anderson\, SC 29625. \n 
URL:https://www.andersoncountysc.org/event/board-of-zoning-and-appeals-3/
LOCATION:Historic Courthouse\, 101 S. Main Street\, Anderson\, SC\, 29624\, United States
CATEGORIES:Committee Meetings
END:VEVENT
BEGIN:VEVENT
DTSTART;TZID=UTC:20250714T113000
DTEND;TZID=UTC:20250714T120000
DTSTAMP:20260420T165402
CREATED:20250710T145014Z
LAST-MODIFIED:20250710T195457Z
UID:10001445-1752492600-1752494400@www.andersoncountysc.org
SUMMARY:Flag Retirement Dropbox Ceremony
DESCRIPTION:Anderson County is pleased to announce the dedication of a flag drop-off location on Monday\, July 14\, 2025. Councilman Jimmy Davis\, the Anderson Library System\, and the county will host a Flag Retirement Ceremony. The event will be held in front of the Powdersville Branch Library at 11:30 a.m. The community is invited to attend.\n\n\n \n\n\nThe purpose of this ceremony is to encourage our citizenry to properly retire flags and to provide for the disposal of unserviceable flags.\n\n\n \n\n\nHow to Properly Dispose of an American Flag.
URL:https://www.andersoncountysc.org/event/flag-retirement-dropbox-ceremony/
LOCATION:SC
CATEGORIES:Community Event
END:VEVENT
BEGIN:VEVENT
DTSTART;TZID=UTC:20250716T090000
DTEND;TZID=UTC:20250716T120000
DTSTAMP:20260420T165402
CREATED:20250712T021528Z
LAST-MODIFIED:20250712T022021Z
UID:10001446-1752656400-1752667200@www.andersoncountysc.org
SUMMARY:Golden Years Jamboree
DESCRIPTION:Celebrating Anderson County Seniors!\nHosted by Anderson County Senior Citizens Program \nThe Golden Year Jamboree is a senior celebration featuring vendors and the announcement of the Senior of the Year. \nEvent Flyer
URL:https://www.andersoncountysc.org/event/golden-years-jamboree/
LOCATION:Civic Center\, 3027 Martin Luther King Jr Blvd\, Anderson\, SC\, 29625\, United States
CATEGORIES:Community Event
END:VEVENT
BEGIN:VEVENT
DTSTART;TZID=UTC:20250724T120000
DTEND;TZID=UTC:20250724T123000
DTSTAMP:20260420T165402
CREATED:20250714T145035Z
LAST-MODIFIED:20250721T135604Z
UID:10001447-1753358400-1753360200@www.andersoncountysc.org
SUMMARY:Council: Special Called Meeting
DESCRIPTION:The Anderson County Council will meet at noon on July 24\, 2025 at the Anderson County Historic Courthouse\, 101 South Main Street\, Anderson\, SC 29624. \n\nAGENDA\n\nThe meeting purpose is for the second reading of Ordinance 2025-029: An Ordinance enacted pursuant to the Capital Projects Sales Tax Act\, Title 4\, Chapter 10\, Article 3of the Code of Laws of South Carolina 1976\, as amended\, providing for the imposition of a one percent sales and use tax upon referendum approval\, the authorization of bonds payable from such sales and use tax upon referendum approval\, the form of the ballot to used in connection therewith\, and other matters relating thereto. \n\nParking is limited at the Historic Courthouse due to repairs; however\, the parking garage is available. E-Merge at the Garage Parking\, 102 N Murray Ave\, Anderson\, SC 29625.
URL:https://www.andersoncountysc.org/event/council-personnel-committee-meeting-3/
LOCATION:Historic Courthouse\, 101 S. Main Street\, Anderson\, SC\, 29624\, United States
CATEGORIES:County Council Meeting
ORGANIZER;CN="Renee Watts":MAILTO:rdwatts@andersoncountysc.org
END:VEVENT
BEGIN:VEVENT
DTSTART;TZID=UTC:20250725T000000
DTEND;TZID=UTC:20250726T000000
DTSTAMP:20260420T165402
CREATED:20250702T200813Z
LAST-MODIFIED:20250717T151434Z
UID:10001444-1753401600-1753488000@www.andersoncountysc.org
SUMMARY:Rock the Country 2025
DESCRIPTION:ROCK THE COUNTRY 2025 COMING BACK TO SOUTH CAROLINA THE GREAT AMERICAN FESTIVAL IS BRINGING ROCK & COUNTRY TO ANDERSON \nRock The Country\, the two-day event – A Festival For We The People – will be returning to Anderson\, SC on July 25-26\, 2025\, as the major country festival makes its official road trip across the country. Stopping in 10 cities along the way\, Anderson will mark the last and final stop of the summer. 2025 is going to be a year that will go down in history\, as Rock The Country will be bringing the best of both worlds together in uniting the country legend\, Kid Rock\, and the ultimate rockstars\, Nickelback. With the country and rock genres joining forces\, Rock The Country will truly be rocking the country all summer long. \nHeadlining ALL ten Rock The Country festivals are none other than rock legends\nthemselves—Nickelback\, the chart-topping superstars\, and Kid Rock\, the one and only original American bad ass. Lineups will vary by market. The lineup for Anderson will feature powerhouse artists including: Hank Williams Jr.\, the legendary Tracy Lawrence\, one of the hottest up and comers Gavin Adock\, Aaron Lewis and the Stateliners\, Shenandoah\, Mark Chesnutt\, Sammy Kershaw\, Little Texas\, Hudson Westbrook\, Logan Crosby\, Afroman\, Ying Yang Twins and Dee Jay Silver. \nRock The Country saw an incredible turnout in 2024 in Anderson. Anderson County reported that the festival drew approximately 25\,000 people from all over. The county estimates the two-day music festival generated over $17 million for the state. Rock The Country is excited to bring the event back to Anderson and make an even bigger impact on Anderson County in 2025. \n“We are very excited for the return of Rock the Country to Anderson County! Our first experience with Rock the Country was a hit\, and we are looking forward to being a part of the action for another year. The leadership of Anderson County has provided us with the means and resources to host this great event\, and we look forward to sharing our community and hospitality with our guests and the artists again in 2025. Being part of the Rock the Country tour proved invaluable to our community. We saw an impact\, locally\, across many levels with our hospitality partners. We expect to experience another successful event in July\,” said Neil Paul\, Executive Director\, Visit Anderson. \n“The return of Rock the Country is a huge win for our community. It brings 25\,000 people together for a weekend of great music and draws visitors from around the country to explore all that we have to offer in Anderson County. We invite fans to come early to fish in our lake\, shop in our stores\, stay in our hotels\, and eat in our restaurants. You’ll make new friends for sure when you spend time in Anderson County. Peachtree Entertainment looked all over the US and selected just 10 locations for this massive event. We are proud to be chosen as the last stop on the tour. We believe they have saved the best for last\, and we’re ready to showcase our hospitality to the fans\, crews\, and artists who make this possible\,” said Adrienne Cole\, General Manager of the Anderson Sports and Entertainment Center. \n“It’s this simple\, Rock The Country isn’t just a music festival\, it’s a movement\,” said Kid Rock. “It’s a place for hard-working\, God-fearing patriots to gather as one and celebrate freedom\, music\, and the party of the year.” \n“We’re really looking forward to hitting the road and visiting some amazing towns\, especially in places we’ve never played before. There’s something special about connecting with fans in these communities\, and we’re ready to bring our best and truly rock the country. Can’t wait to see you all out there!” said Michael Kroeger of Nickelback. \nAll tickets can be purchased at rockthecountry.com. \n“We’re thrilled to see Rock The Country grow into events that unite small-town America and celebrate the values that make our communities strong\,” said Shane Quick\, Senior Promoter & Partner of Peachtree Entertainment. “These festivals not only bring people together for incredible music and unforgettable experiences\, but they also drive significant economic impact for local businesses\, underscoring our commitment to supporting these hometowns in 2025\,” added Nathan Baugh\, CEO & Partner of Peachtree Entertainment. \nIn addition to announcing the lineup\, Rock The Country has officially launched the 2025 Hometown Hero campaign\, where local residents can nominate someone that goes above and beyond in serving their community every day. The winner of the Rock The Country 2025 Hometown Hero in each market will receive the ultimate VIP experience at their local show\, including a backstage tour and the opportunity to lead the Pledge of Allegiance on stage. For more information and to nominate a Hometown Hero\, please go to: RTC Hometown Hero. Rock The Country has teamed up with Folds of Honor\, a leading non-profit organization that provides educational scholarships to the children and spouses of America’s fallen or disabled military service members and first responders. Rock The Country is on a mission to help support our local veterans and make a difference. Join Rock The Country and Folds of Honor in making your contribution when you purchase your tickets. All donations will go towards local organizations in Anderson\, as well as organizations such as Folds of Honor\, in support of our veterans. \nFor more information about Rock The Country\, including the full lineup and ticket details\, visit www.rockthecountry.com.
URL:https://www.andersoncountysc.org/event/rock-the-country-2025/
LOCATION:ASEC | Anderson Sports & Entertainment Center\, 3027 Martin Luther King Jr. Boulevard\, Anderson\, SC\, 29625\, United States
CATEGORIES:Community Event
ATTACH;FMTTYPE=image/jpeg:https://www.andersoncountysc.org/wp-content/uploads/2025/06/ASEC-Logo_Event-e1752718831370.jpg
ORGANIZER;CN="Adrienne Cole":MAILTO:ASEC@andersoncountysc.org
END:VEVENT
BEGIN:VEVENT
DTSTART;TZID=UTC:20250728T160000
DTEND;TZID=UTC:20250728T170000
DTSTAMP:20260420T165402
CREATED:20250521T220612Z
LAST-MODIFIED:20250721T142638Z
UID:10001413-1753718400-1753722000@www.andersoncountysc.org
SUMMARY:ACTC Meeting
DESCRIPTION:The Anderson County Transportation Committee (ACTC) has scheduled a meeting on Monday\, July 28\, 2025\, at 4:00 p.m. The meeting will be held at the County Complex at 1428 Pearman Dairy Road\, Anderson\, South Carolina. \nACTC NOTICE 07.28.25\nACTC AGENDA 07.28.25
URL:https://www.andersoncountysc.org/event/actc-special-called-meeting/
LOCATION:1428 County Complex\, 1428 Pearman Dairy Road\, Anderson\, 29625\, United States
CATEGORIES:Committee Meetings
ORGANIZER;CN="Brittany Burdette":MAILTO:bnburdette@andersoncountysc.org
END:VEVENT
END:VCALENDAR