BEGIN:VCALENDAR
VERSION:2.0
PRODID:-//Anderson County - ECPv6.15.20//NONSGML v1.0//EN
CALSCALE:GREGORIAN
METHOD:PUBLISH
X-ORIGINAL-URL:https://www.andersoncountysc.org
X-WR-CALDESC:Events for Anderson County
REFRESH-INTERVAL;VALUE=DURATION:PT1H
X-Robots-Tag:noindex
X-PUBLISHED-TTL:PT1H
BEGIN:VTIMEZONE
TZID:UTC
BEGIN:STANDARD
TZOFFSETFROM:+0000
TZOFFSETTO:+0000
TZNAME:UTC
DTSTART:20240101T000000
END:STANDARD
END:VTIMEZONE
BEGIN:VEVENT
DTSTART;TZID=UTC:20250805T183000
DTEND;TZID=UTC:20250805T200000
DTSTAMP:20260420T185351
CREATED:20250626T170510Z
LAST-MODIFIED:20250801T191309Z
UID:10001441-1754418600-1754424000@www.andersoncountysc.org
SUMMARY:County Council Meeting
DESCRIPTION:The Anderson County Council will meet on August 5\, 2025\, at 6:30 p.m. at the Anderson County Historic Courthouse\, 101 South Main Street\, Anderson\, SC 29624. \nParking is limited at the Historic Courthouse due to repairs; however\, the parking garage is available. E-Merge at the Garage Parking\, 102 N Murray Ave\, Anderson\, SC 29625. \nAgenda
URL:https://www.andersoncountysc.org/event/county-council-meeting-73/
LOCATION:Historic Courthouse\, 101 S. Main Street\, Anderson\, SC\, 29624\, United States
CATEGORIES:County Council Meeting
ORGANIZER;CN="Renee Watts":MAILTO:rdwatts@andersoncountysc.org
END:VEVENT
BEGIN:VEVENT
DTSTART;TZID=UTC:20250813T180000
DTEND;TZID=UTC:20250813T200000
DTSTAMP:20260420T185351
CREATED:20250730T182050Z
LAST-MODIFIED:20250731T195858Z
UID:10001449-1755108000-1755115200@www.andersoncountysc.org
SUMMARY:You're Invited: Planning & Zoning Workshop
DESCRIPTION:Mark your calendars! We need your input on the future of Anderson County! A public meeting is scheduled for August 13th at Long Branch Baptist Church (2101 Highway 413\, Anderson\, SC 29621) from 6:00-8:00 pm. The meeting will provide a chance to give input on the Anderson County Comprehensive Plan and future zoning updates.  We want to hear your concerns and priorities related to land use\, community services\, infrastructure\, recreation\, natural resources\, and economic development. There will be a short presentation at 6:15 and an open house to follow. \nEvent Flyer \nDirections
URL:https://www.andersoncountysc.org/event/youre-invited-planning-zoning-workshops/
LOCATION:SC
CATEGORIES:Community Event
ORGANIZER;CN="Sarah Lyons":MAILTO:slyons@andersoncountysc.org
END:VEVENT
BEGIN:VEVENT
DTSTART;TZID=UTC:20250814T171500
DTEND;TZID=UTC:20250814T183000
DTSTAMP:20260420T185351
CREATED:20250731T155054Z
LAST-MODIFIED:20250731T155054Z
UID:10001450-1755191700-1755196200@www.andersoncountysc.org
SUMMARY:BZA Meeting
DESCRIPTION:The Board of Zoning and Appeals will meet at 5:15 PM on Thursday\, August 14\, 2025\, at the Historic Courthouse\, 101 S. Main Street\, Anderson\, South Carolina. \nAgenda \nDue to repairs\, parking is limited at the historic courthouse; however\, the garage is available. It is located at 102 N Murray Ave\, Anderson\, SC 29625. \n 
URL:https://www.andersoncountysc.org/event/bza-meeting-4/
LOCATION:Historic Courthouse\, 101 S. Main Street\, Anderson\, SC\, 29624\, United States
CATEGORIES:Committee Meetings
END:VEVENT
BEGIN:VEVENT
DTSTART;TZID=UTC:20250816T110000
DTEND;TZID=UTC:20250816T130000
DTSTAMP:20260420T185351
CREATED:20250807T164620Z
LAST-MODIFIED:20250807T164620Z
UID:10001464-1755342000-1755349200@www.andersoncountysc.org
SUMMARY:Back To School Bash
DESCRIPTION:It’s Back To School Time!!!! Join us for a “Back To School Bash” on August 16\, 2025\, from 11:00 AM to 1:00 PM at the Anderson County Library to celebrate the 2025-2026 school year. A free lunch will be provided\, along with door prizes\, speakers\, and a live art session. \n\n\n\n\nRegistration is required for this event.\nRegistration will close on August 16\, 2025 @ 10:00 am.\n\n\n\n\nSign Up HERE\nEvent Details\n\nJoin us for a FREE\, exciting event to kick off the new school year! Teens\, ages 12-18\, and parents are invited for an inspiring day full of art\, motivation\, and prizes! \nLive Art Session with Guest Artist Phor Walls\nBe guided through an amazing painting experience by local artist Phor Walls! \nMotivational Talks\nHear from a panel of entrepreneurs\, who will share their powerful stories and inspire you to achieve your best this school year! \nBox Lunch Provided\nEnjoy a free lunch while you take in the event. \nDoor Prizes\nWin amazing prizes\, including: \n\nPrivate clay art classes\nSwim lessons\nExperience being a newscaster for a day\n\n\nSponsored by: Anderson County Councilman Glenn Davis\, District 2
URL:https://www.andersoncountysc.org/event/back-to-school-bash/
LOCATION:Anderson Main Library\, 300 N. McDuffie St\, Anderson\, SC\, 29621
CATEGORIES:Community Event
ORGANIZER;CN="Renee Watts":MAILTO:rdwatts@andersoncountysc.org
END:VEVENT
BEGIN:VEVENT
DTSTART;TZID=UTC:20250819T183000
DTEND;TZID=UTC:20250819T200000
DTSTAMP:20260420T185351
CREATED:20250731T161345Z
LAST-MODIFIED:20250816T023349Z
UID:10001451-1755628200-1755633600@www.andersoncountysc.org
SUMMARY:County Council Meeting
DESCRIPTION:The Anderson County Council will meet on August 19\, 2025\, at 6:00 p.m. at the Anderson County Historic Courthouse\, 101 South Main Street\, Anderson\, SC 29624. \nParking is limited at the Historic Courthouse due to repairs; however\, the parking garage is available. E-Merge at the Garage Parking\, 102 N Murray Ave\, Anderson\, SC 29625. \nAgenda: https://www.andersoncountysc.org/wp-content/uploads/2025/08/8.19.2025-Agenda-Packet.pdf
URL:https://www.andersoncountysc.org/event/county-council-meeting-72/
LOCATION:Historic Courthouse\, 101 S. Main Street\, Anderson\, SC\, 29624\, United States
CATEGORIES:County Council Meeting
ORGANIZER;CN="Renee Watts":MAILTO:rdwatts@andersoncountysc.org
END:VEVENT
BEGIN:VEVENT
DTSTART;TZID=UTC:20250822T080000
DTEND;TZID=UTC:20250822T083000
DTSTAMP:20260420T185351
CREATED:20250821T145739Z
LAST-MODIFIED:20250821T145739Z
UID:10001465-1755849600-1755851400@www.andersoncountysc.org
SUMMARY:Sewer Ad Hoc Committee Meeting
DESCRIPTION:The Anderson County Council Sewer Ad Hoc Committee will meet on Friday\, August 22\, 2025\, at 8:00 a.m. at the Anderson County Historic Courthouse\, 101 South Main Street\, Anderson\, SC 29624.\nAGENDA\nParking is limited at the Historic Courthouse due to repairs; however\, the parking garage is available. E-Merge at the Garage Parking\, 102 N Murray Ave\, Anderson\, SC 29625
URL:https://www.andersoncountysc.org/event/sewer-ad-hoc-committee-meeting-2/
LOCATION:Historic Courthouse\, 101 S. Main Street\, Anderson\, SC\, 29624\, United States
ORGANIZER;CN="Renee Watts":MAILTO:rdwatts@andersoncountysc.org
END:VEVENT
BEGIN:VEVENT
DTSTART;TZID=UTC:20250825T120000
DTEND;TZID=UTC:20250825T130000
DTSTAMP:20260420T185351
CREATED:20250822T160639Z
LAST-MODIFIED:20250822T160639Z
UID:10001466-1756123200-1756126800@www.andersoncountysc.org
SUMMARY:Planning & Public Works Committee Meeting
DESCRIPTION:The Anderson County Council Planning & Public Works Committee will meet on Monday\, August 25\, 2025\, at 12:00 p.m. at the Anderson County Historic Courthouse\, 101 South Main Street\, Anderson\, SC 29624.\n\nParking is limited at the Historic Courthouse due to repairs; however\, the parking garage is available. E-Merge at the Garage Parking\, 102 N Murray Ave\, Anderson\, SC 29625\n\nAGENDA
URL:https://www.andersoncountysc.org/event/planning-public-works-committee-meeting-10/
LOCATION:Historic Courthouse\, 101 S. Main Street\, Anderson\, SC\, 29624\, United States
CATEGORIES:Council Committee Meeting
ORGANIZER;CN="Renee Watts":MAILTO:rdwatts@andersoncountysc.org
END:VEVENT
BEGIN:VEVENT
DTSTART;TZID=UTC:20250825T160000
DTEND;TZID=UTC:20250825T170000
DTSTAMP:20260420T185351
CREATED:20250801T145519Z
LAST-MODIFIED:20250801T145544Z
UID:10001453-1756137600-1756141200@www.andersoncountysc.org
SUMMARY:ACTC Special Called Meeting
DESCRIPTION:The Anderson County Transportation Committee (ACTC) has scheduled a meeting on Monday\, August 25\, 2025\, at 4:00 p.m. The meeting will be held at the County Complex at 1428 Pearman Dairy Road\, Anderson\, South Carolina.\nAGENDA
URL:https://www.andersoncountysc.org/event/actc-special-called-meeting-2/
LOCATION:1428 County Complex\, 1428 Pearman Dairy Road\, Anderson\, 29625\, United States
CATEGORIES:Committee Meetings
ORGANIZER;CN="Brittany Burdette":MAILTO:bnburdette@andersoncountysc.org
END:VEVENT
BEGIN:VEVENT
DTSTART;TZID=UTC:20250831T100000
DTEND;TZID=UTC:20250831T170000
DTSTAMP:20260420T185351
CREATED:20250717T022039Z
LAST-MODIFIED:20250717T022633Z
UID:10001448-1756634400-1756659600@www.andersoncountysc.org
SUMMARY:Celebrate Anderson | Jeep Extravaganza
DESCRIPTION:Celebrate Anderson | Jeep Extravaganza to benefit the Area 14 Anderson County\, SC Special Olympics. \n 
URL:https://www.andersoncountysc.org/event/celebrate-anderson-jeep-extravaganza/
LOCATION:ASEC | Anderson Sports & Entertainment Center\, 3027 Martin Luther King Jr. Boulevard\, Anderson\, SC\, 29625\, United States
CATEGORIES:Community Event
ATTACH;FMTTYPE=image/jpeg:https://www.andersoncountysc.org/wp-content/uploads/2025/06/ASEC-Logo_Event-e1752718831370.jpg
END:VEVENT
BEGIN:VEVENT
DTSTART;TZID=UTC:20250831T173000
DTEND;TZID=UTC:20250901T213000
DTSTAMP:20260420T185351
CREATED:20250626T171947Z
LAST-MODIFIED:20250626T172635Z
UID:10001443-1756661400-1756762200@www.andersoncountysc.org
SUMMARY:Celebrate Anderson
DESCRIPTION:Anderson County presents the 26th Annual Celebrate Anderson Weekend featuring Kool & the Gang\, with support to be announced\, Sunday\, August 31\, 2025.\n\n\nGates open at 5:30 pmMusic starts at 6:30 pm \n\n\n Tickets are FREE and are required for entry. Secure Your Tickets \n\n\nLAWN TICKETS:Bring your blankets and camp chairs to enjoy the concert from the general admission lawn*Note: To expedite security screenings\, we kindly request that you leave the chair bag at home or in your vehicle. \n\nSTANDING ROOM ONLY TICKETS:Get close to the action with tickets for the standing room pit in front of the stage.\nNo chairs or blankets will be allowed entry into the standing room pit.
URL:https://www.andersoncountysc.org/event/celebrate-anderson-3/
LOCATION:ASEC | Anderson Sports & Entertainment Center\, 3027 Martin Luther King Jr. Boulevard\, Anderson\, SC\, 29625\, United States
CATEGORIES:Community Event
ATTACH;FMTTYPE=image/jpeg:https://www.andersoncountysc.org/wp-content/uploads/2025/06/ASEC-Logo_Event-e1752718831370.jpg
END:VEVENT
END:VCALENDAR