BEGIN:VCALENDAR
VERSION:2.0
PRODID:-//Anderson County - ECPv6.15.20//NONSGML v1.0//EN
CALSCALE:GREGORIAN
METHOD:PUBLISH
X-ORIGINAL-URL:https://www.andersoncountysc.org
X-WR-CALDESC:Events for Anderson County
REFRESH-INTERVAL;VALUE=DURATION:PT1H
X-Robots-Tag:noindex
X-PUBLISHED-TTL:PT1H
BEGIN:VTIMEZONE
TZID:UTC
BEGIN:STANDARD
TZOFFSETFROM:+0000
TZOFFSETTO:+0000
TZNAME:UTC
DTSTART:20240101T000000
END:STANDARD
END:VTIMEZONE
BEGIN:VEVENT
DTSTART;TZID=UTC:20250831T173000
DTEND;TZID=UTC:20250901T213000
DTSTAMP:20260420T205158
CREATED:20250626T171947Z
LAST-MODIFIED:20250626T172635Z
UID:10001443-1756661400-1756762200@www.andersoncountysc.org
SUMMARY:Celebrate Anderson
DESCRIPTION:Anderson County presents the 26th Annual Celebrate Anderson Weekend featuring Kool & the Gang\, with support to be announced\, Sunday\, August 31\, 2025.\n\n\nGates open at 5:30 pmMusic starts at 6:30 pm \n\n\n Tickets are FREE and are required for entry. Secure Your Tickets \n\n\nLAWN TICKETS:Bring your blankets and camp chairs to enjoy the concert from the general admission lawn*Note: To expedite security screenings\, we kindly request that you leave the chair bag at home or in your vehicle. \n\nSTANDING ROOM ONLY TICKETS:Get close to the action with tickets for the standing room pit in front of the stage.\nNo chairs or blankets will be allowed entry into the standing room pit.
URL:https://www.andersoncountysc.org/event/celebrate-anderson-3/
LOCATION:ASEC | Anderson Sports & Entertainment Center\, 3027 Martin Luther King Jr. Boulevard\, Anderson\, SC\, 29625\, United States
CATEGORIES:Community Event
ATTACH;FMTTYPE=image/jpeg:https://www.andersoncountysc.org/wp-content/uploads/2025/06/ASEC-Logo_Event-e1752718831370.jpg
END:VEVENT
BEGIN:VEVENT
DTSTART;TZID=UTC:20250902T183000
DTEND;TZID=UTC:20250902T200000
DTSTAMP:20260420T205158
CREATED:20250805T000350Z
LAST-MODIFIED:20250830T000935Z
UID:10001454-1756837800-1756843200@www.andersoncountysc.org
SUMMARY:County Council Meeting
DESCRIPTION:The Anderson County Council will meet on September 2\, 2025\, at 6:30 p.m. at the Anderson County Historic Courthouse\, 101 South Main Street\, Anderson\, SC 29624. \nParking is limited at the Historic Courthouse due to repairs; however\, the parking garage is available. E-Merge at the Garage Parking\, 102 N Murray Ave\, Anderson\, SC 29625. \nAGENDA
URL:https://www.andersoncountysc.org/event/county-council-meeting-74/
LOCATION:Historic Courthouse\, 101 S. Main Street\, Anderson\, SC\, 29624\, United States
CATEGORIES:County Council Meeting
ORGANIZER;CN="Renee Watts":MAILTO:rdwatts@andersoncountysc.org
END:VEVENT
BEGIN:VEVENT
DTSTART;TZID=UTC:20250903T180000
DTEND;TZID=UTC:20250903T200000
DTSTAMP:20260420T205158
CREATED:20250903T144744Z
LAST-MODIFIED:20250903T145024Z
UID:10001470-1756922400-1756929600@www.andersoncountysc.org
SUMMARY:Planning and Zoning Workshops
DESCRIPTION:We hope to see you there! Take the Community Survey and share with your neighbors at https://www.surveymonkey.com/r/AndersonCoPlan\n\n\n \n\n\n9.3.2025\n\n\nTri-County Technical College Pendleton Campus\n\n\n7900 Hwy 76 Pendleton\, SC 29670\n\n\nMarshall J. Parker Auditorium\n\n\n6:00-8:00PM\n\n\n \n\n\n9.4.2025\n\n\nMt. Airy Baptist Church\n\n\n210 Mt. Airy Church Rd. Easley\, SC 29642\n\n\n6:00-8:00PM\n\n\n \n\n\nThese meetings will provide a chance to provide input on the Anderson County Comprehensive Plan and future zoning updates. We want to hear your concerns and priorities related to land use\, community services\, infrastructure\, recreation\, natural resources\, and economic development.
URL:https://www.andersoncountysc.org/event/planning-and-zoning-workshops/
LOCATION:SC
CATEGORIES:Community Event
ORGANIZER;CN="Brittany McAbee":MAILTO:bdmcabee@andersoncountysc.org
END:VEVENT
BEGIN:VEVENT
DTSTART;TZID=UTC:20250904T180000
DTEND;TZID=UTC:20250904T200000
DTSTAMP:20260420T205158
CREATED:20250903T144942Z
LAST-MODIFIED:20250903T144942Z
UID:10001471-1757008800-1757016000@www.andersoncountysc.org
SUMMARY:Planning and Zoning Workshops
DESCRIPTION:We hope to see you there! Take the Community Survey and share with your neighbors at https://www.surveymonkey.com/r/AndersonCoPlan\n\n\n \n\n\n\n9.4.2025\n\n\nMt. Airy Baptist Church\n\n\n210 Mt. Airy Church Rd. Easley\, SC 29642\n\n\n6:00-8:00PM\n\n\n \n\n\nThese meetings will provide a chance to provide input on the Anderson County Comprehensive Plan and future zoning updates. We want to hear your concerns and priorities related to land use\, community services\, infrastructure\, recreation\, natural resources\, and economic development.
URL:https://www.andersoncountysc.org/event/planning-and-zoning-workshops-2/
LOCATION:SC
CATEGORIES:Community Event
ORGANIZER;CN="Brittany McAbee":MAILTO:bdmcabee@andersoncountysc.org
END:VEVENT
BEGIN:VEVENT
DTSTART;TZID=UTC:20250909T180000
DTEND;TZID=UTC:20250909T190000
DTSTAMP:20260420T205158
CREATED:20250903T140027Z
LAST-MODIFIED:20250903T140027Z
UID:10001468-1757440800-1757444400@www.andersoncountysc.org
SUMMARY:Planning Commission Meeting
DESCRIPTION:The Planning Commission will meet at 6:00 PM on Tuesday\, September 9\, 2025\, at the Historic Courthouse\, 101 S. Main Street\, Anderson\, South Carolina. \nAGENDA \nParking is limited at the historic courthouse due to repairs; however\, the parking garage is available. Garage Parking: 102 N Murray Ave\, Anderson\, SC 29625
URL:https://www.andersoncountysc.org/event/planning-commission-meeting-46/
LOCATION:SC
CATEGORIES:Committee Meetings
END:VEVENT
BEGIN:VEVENT
DTSTART;TZID=UTC:20250909T180000
DTEND;TZID=UTC:20250909T190000
DTSTAMP:20260420T205158
CREATED:20250908T154332Z
LAST-MODIFIED:20250908T154408Z
UID:10001472-1757440800-1757444400@www.andersoncountysc.org
SUMMARY:ATAX Committee Meeting
DESCRIPTION:The Anderson County Accommodations Tax Committee will meet on September 9th at 6 p.m. \nLocation: Anderson County Library Main Branch | Wren Room\, 300  North McDuffie Street\, Anderson\, SC. \nAGENDA
URL:https://www.andersoncountysc.org/event/atax-committee-meeting/
LOCATION:Anderson Main Library\, 300 N. McDuffie St\, Anderson\, SC\, 29621
CATEGORIES:Committee Meetings
END:VEVENT
BEGIN:VEVENT
DTSTART;TZID=UTC:20250911T171500
DTEND;TZID=UTC:20250911T183000
DTSTAMP:20260420T205158
CREATED:20250903T143100Z
LAST-MODIFIED:20250903T143100Z
UID:10001469-1757610900-1757615400@www.andersoncountysc.org
SUMMARY:BZA Meeting
DESCRIPTION:The Board of Zoning and Appeals will meet at 5:15 PM on Thursday\, September 11\, 2025\, at the Historic Courthouse\, 101 S. Main Street\, Anderson\, South Carolina. \nAgenda \nDue to repairs\, parking is limited at the historic courthouse; however\, the garage is available. It is located at 102 N Murray Ave\, Anderson\, SC 29625. \n 
URL:https://www.andersoncountysc.org/event/bza-meeting-5/
LOCATION:Historic Courthouse\, 101 S. Main Street\, Anderson\, SC\, 29624\, United States
CATEGORIES:Committee Meetings
END:VEVENT
BEGIN:VEVENT
DTSTART;TZID=UTC:20250916T183000
DTEND;TZID=UTC:20250916T200000
DTSTAMP:20260420T205158
CREATED:20250805T000523Z
LAST-MODIFIED:20250912T220303Z
UID:10001455-1758047400-1758052800@www.andersoncountysc.org
SUMMARY:County Council Meeting
DESCRIPTION:The Anderson County Council will meet on September 16\, 2025\, at 6:00 p.m. at the Anderson County Historic Courthouse\, 101 South Main Street\, Anderson\, SC 29624. \nParking is limited at the Historic Courthouse due to repairs; however\, the parking garage is available. E-Merge at the Garage Parking\, 102 N Murray Ave\, Anderson\, SC 29625. \nAgenda 
URL:https://www.andersoncountysc.org/event/county-council-meeting-75/
LOCATION:Historic Courthouse\, 101 S. Main Street\, Anderson\, SC\, 29624\, United States
CATEGORIES:County Council Meeting
ORGANIZER;CN="Renee Watts":MAILTO:rdwatts@andersoncountysc.org
END:VEVENT
BEGIN:VEVENT
DTSTART;TZID=UTC:20250929T160000
DTEND;TZID=UTC:20250929T200000
DTSTAMP:20260420T205158
CREATED:20250915T144604Z
LAST-MODIFIED:20250915T144731Z
UID:10001473-1759161600-1759176000@www.andersoncountysc.org
SUMMARY:Rock Spring Precinct: Community Zoning Meeting
DESCRIPTION:Rock Spring Precinct to hold community meeting to review the proposed zoning map and make recommendations prior to the zoning referendum on November 4. \nThe Rock Spring Precinct Zoning Meeting is being held Monday\, September 29th\, 2025\, from 4:00 to 8:00 p.m. at Gracie S. Floyd Event Center at McFalls Landing (1625 Broadway Lake Road Anderson\, SC 29621). \nPlease contact the Planning & Development Office at 864-260-4720 for questions and concerns. \nRock Springs Precinct Map \n 
URL:https://www.andersoncountysc.org/event/rock-spring-precinct-community-zoning-meeting/
LOCATION:Gracie S. Floyd Event Center at McFalls Landing\, 1625 Broadway Lake Road\, Anderson\, SC\, 29621\, United States
CATEGORIES:Community Event
END:VEVENT
BEGIN:VEVENT
DTSTART;TZID=UTC:20250930T160000
DTEND;TZID=UTC:20250930T200000
DTSTAMP:20260420T205158
CREATED:20250915T145838Z
LAST-MODIFIED:20250915T150005Z
UID:10001474-1759248000-1759262400@www.andersoncountysc.org
SUMMARY:Neal’s Creek Precinct: Community Zoning Meeting
DESCRIPTION:Mark your calendars for the upcoming community meeting to review the proposed zoning map and make recommendations prior to the zoning referendum on November 4. \nThe Neal’s Creek Precinct Zoning Meeting is being held Tuesday\, September 30th\, 2025\, from 4:00 to 8:00 p.m. at Neal’s Creek Baptist Church (3204 Amity Road Ext Anderson\, SC 29621). \nPlease contact the Planning & Development Office at 864-260-4720 for questions and concerns. \nNeal’s Creek Precinct Map \n 
URL:https://www.andersoncountysc.org/event/neals-creek-precinct-community-zoning-meeting/
LOCATION:SC
CATEGORIES:Community Event
END:VEVENT
END:VCALENDAR