BEGIN:VCALENDAR
VERSION:2.0
PRODID:-//Anderson County - ECPv6.15.20//NONSGML v1.0//EN
CALSCALE:GREGORIAN
METHOD:PUBLISH
X-WR-CALNAME:Anderson County
X-ORIGINAL-URL:https://www.andersoncountysc.org
X-WR-CALDESC:Events for Anderson County
REFRESH-INTERVAL;VALUE=DURATION:PT1H
X-Robots-Tag:noindex
X-PUBLISHED-TTL:PT1H
BEGIN:VTIMEZONE
TZID:UTC
BEGIN:STANDARD
TZOFFSETFROM:+0000
TZOFFSETTO:+0000
TZNAME:UTC
DTSTART:20250101T000000
END:STANDARD
END:VTIMEZONE
BEGIN:VEVENT
DTSTART;TZID=UTC:20260505T183000
DTEND;TZID=UTC:20260505T193000
DTSTAMP:20260425T171606
CREATED:20260129T163750Z
LAST-MODIFIED:20260329T164334Z
UID:10001561-1778005800-1778009400@www.andersoncountysc.org
SUMMARY:County Council Meeting
DESCRIPTION:The Anderson meet on the first and third Tuesday of each month. Council meetings are held at the Anderson County Historic Courthouse\, 101 South Main Street\, Anderson\, SC 29624. \n6:00 PM Recognitions & Special Presentations\n6:30 PM Business Meeting \n Meeting Agenda:  AndersonCountySC.org/County-Council in the Agenda & Minutes section (scroll to mid-page). \nCounty Council Meeting Schedule for 2026
URL:https://www.andersoncountysc.org/event/county-council-meeting-88/2026-05-05/
LOCATION:Historic Courthouse\, 101 S. Main Street\, Anderson\, SC\, 29624\, United States
CATEGORIES:County Council Meeting
ORGANIZER;CN="Renee Watts":MAILTO:rdwatts@andersoncountysc.org
END:VEVENT
BEGIN:VEVENT
DTSTART;TZID=UTC:20260602T183000
DTEND;TZID=UTC:20260602T193000
DTSTAMP:20260425T171606
CREATED:20260129T163750Z
LAST-MODIFIED:20260329T164334Z
UID:10001562-1780425000-1780428600@www.andersoncountysc.org
SUMMARY:County Council Meeting
DESCRIPTION:The Anderson meet on the first and third Tuesday of each month. Council meetings are held at the Anderson County Historic Courthouse\, 101 South Main Street\, Anderson\, SC 29624. \n6:00 PM Recognitions & Special Presentations\n6:30 PM Business Meeting \n Meeting Agenda:  AndersonCountySC.org/County-Council in the Agenda & Minutes section (scroll to mid-page). \nCounty Council Meeting Schedule for 2026
URL:https://www.andersoncountysc.org/event/county-council-meeting-88/2026-06-02/
LOCATION:Historic Courthouse\, 101 S. Main Street\, Anderson\, SC\, 29624\, United States
CATEGORIES:County Council Meeting
ORGANIZER;CN="Renee Watts":MAILTO:rdwatts@andersoncountysc.org
END:VEVENT
BEGIN:VEVENT
DTSTART;TZID=UTC:20260707T183000
DTEND;TZID=UTC:20260707T193000
DTSTAMP:20260425T171606
CREATED:20260129T163750Z
LAST-MODIFIED:20260329T164334Z
UID:10001563-1783449000-1783452600@www.andersoncountysc.org
SUMMARY:County Council Meeting
DESCRIPTION:The Anderson meet on the first and third Tuesday of each month. Council meetings are held at the Anderson County Historic Courthouse\, 101 South Main Street\, Anderson\, SC 29624. \n6:00 PM Recognitions & Special Presentations\n6:30 PM Business Meeting \n Meeting Agenda:  AndersonCountySC.org/County-Council in the Agenda & Minutes section (scroll to mid-page). \nCounty Council Meeting Schedule for 2026
URL:https://www.andersoncountysc.org/event/county-council-meeting-88/2026-07-07/
LOCATION:Historic Courthouse\, 101 S. Main Street\, Anderson\, SC\, 29624\, United States
CATEGORIES:County Council Meeting
ORGANIZER;CN="Renee Watts":MAILTO:rdwatts@andersoncountysc.org
END:VEVENT
BEGIN:VEVENT
DTSTART;TZID=UTC:20260804T183000
DTEND;TZID=UTC:20260804T193000
DTSTAMP:20260425T171606
CREATED:20260129T163750Z
LAST-MODIFIED:20260329T164334Z
UID:10001564-1785868200-1785871800@www.andersoncountysc.org
SUMMARY:County Council Meeting
DESCRIPTION:The Anderson meet on the first and third Tuesday of each month. Council meetings are held at the Anderson County Historic Courthouse\, 101 South Main Street\, Anderson\, SC 29624. \n6:00 PM Recognitions & Special Presentations\n6:30 PM Business Meeting \n Meeting Agenda:  AndersonCountySC.org/County-Council in the Agenda & Minutes section (scroll to mid-page). \nCounty Council Meeting Schedule for 2026
URL:https://www.andersoncountysc.org/event/county-council-meeting-88/2026-08-04/
LOCATION:Historic Courthouse\, 101 S. Main Street\, Anderson\, SC\, 29624\, United States
CATEGORIES:County Council Meeting
ORGANIZER;CN="Renee Watts":MAILTO:rdwatts@andersoncountysc.org
END:VEVENT
BEGIN:VEVENT
DTSTART;TZID=UTC:20260901T183000
DTEND;TZID=UTC:20260901T193000
DTSTAMP:20260425T171606
CREATED:20260129T163750Z
LAST-MODIFIED:20260329T164334Z
UID:10001565-1788287400-1788291000@www.andersoncountysc.org
SUMMARY:County Council Meeting
DESCRIPTION:The Anderson meet on the first and third Tuesday of each month. Council meetings are held at the Anderson County Historic Courthouse\, 101 South Main Street\, Anderson\, SC 29624. \n6:00 PM Recognitions & Special Presentations\n6:30 PM Business Meeting \n Meeting Agenda:  AndersonCountySC.org/County-Council in the Agenda & Minutes section (scroll to mid-page). \nCounty Council Meeting Schedule for 2026
URL:https://www.andersoncountysc.org/event/county-council-meeting-88/2026-09-01/
LOCATION:Historic Courthouse\, 101 S. Main Street\, Anderson\, SC\, 29624\, United States
CATEGORIES:County Council Meeting
ORGANIZER;CN="Renee Watts":MAILTO:rdwatts@andersoncountysc.org
END:VEVENT
BEGIN:VEVENT
DTSTART;TZID=UTC:20261006T183000
DTEND;TZID=UTC:20261006T193000
DTSTAMP:20260425T171606
CREATED:20260129T163750Z
LAST-MODIFIED:20260329T164334Z
UID:10001566-1791311400-1791315000@www.andersoncountysc.org
SUMMARY:County Council Meeting
DESCRIPTION:The Anderson meet on the first and third Tuesday of each month. Council meetings are held at the Anderson County Historic Courthouse\, 101 South Main Street\, Anderson\, SC 29624. \n6:00 PM Recognitions & Special Presentations\n6:30 PM Business Meeting \n Meeting Agenda:  AndersonCountySC.org/County-Council in the Agenda & Minutes section (scroll to mid-page). \nCounty Council Meeting Schedule for 2026
URL:https://www.andersoncountysc.org/event/county-council-meeting-88/2026-10-06/
LOCATION:Historic Courthouse\, 101 S. Main Street\, Anderson\, SC\, 29624\, United States
CATEGORIES:County Council Meeting
ORGANIZER;CN="Renee Watts":MAILTO:rdwatts@andersoncountysc.org
END:VEVENT
BEGIN:VEVENT
DTSTART;TZID=UTC:20261103T183000
DTEND;TZID=UTC:20261103T193000
DTSTAMP:20260425T171606
CREATED:20260129T163750Z
LAST-MODIFIED:20260329T164334Z
UID:10001567-1793730600-1793734200@www.andersoncountysc.org
SUMMARY:County Council Meeting
DESCRIPTION:The Anderson meet on the first and third Tuesday of each month. Council meetings are held at the Anderson County Historic Courthouse\, 101 South Main Street\, Anderson\, SC 29624. \n6:00 PM Recognitions & Special Presentations\n6:30 PM Business Meeting \n Meeting Agenda:  AndersonCountySC.org/County-Council in the Agenda & Minutes section (scroll to mid-page). \nCounty Council Meeting Schedule for 2026
URL:https://www.andersoncountysc.org/event/county-council-meeting-88/2026-11-03/
LOCATION:Historic Courthouse\, 101 S. Main Street\, Anderson\, SC\, 29624\, United States
CATEGORIES:County Council Meeting
ORGANIZER;CN="Renee Watts":MAILTO:rdwatts@andersoncountysc.org
END:VEVENT
BEGIN:VEVENT
DTSTART;TZID=UTC:20261201T183000
DTEND;TZID=UTC:20261201T193000
DTSTAMP:20260425T171606
CREATED:20260129T163750Z
LAST-MODIFIED:20260329T164334Z
UID:10001568-1796149800-1796153400@www.andersoncountysc.org
SUMMARY:County Council Meeting
DESCRIPTION:The Anderson meet on the first and third Tuesday of each month. Council meetings are held at the Anderson County Historic Courthouse\, 101 South Main Street\, Anderson\, SC 29624. \n6:00 PM Recognitions & Special Presentations\n6:30 PM Business Meeting \n Meeting Agenda:  AndersonCountySC.org/County-Council in the Agenda & Minutes section (scroll to mid-page). \nCounty Council Meeting Schedule for 2026
URL:https://www.andersoncountysc.org/event/county-council-meeting-88/2026-12-01/
LOCATION:Historic Courthouse\, 101 S. Main Street\, Anderson\, SC\, 29624\, United States
CATEGORIES:County Council Meeting
ORGANIZER;CN="Renee Watts":MAILTO:rdwatts@andersoncountysc.org
END:VEVENT
BEGIN:VEVENT
DTSTART;TZID=UTC:20270105T183000
DTEND;TZID=UTC:20270105T193000
DTSTAMP:20260425T171606
CREATED:20260129T163750Z
LAST-MODIFIED:20260329T164334Z
UID:10001569-1799173800-1799177400@www.andersoncountysc.org
SUMMARY:County Council Meeting
DESCRIPTION:The Anderson meet on the first and third Tuesday of each month. Council meetings are held at the Anderson County Historic Courthouse\, 101 South Main Street\, Anderson\, SC 29624. \n6:00 PM Recognitions & Special Presentations\n6:30 PM Business Meeting \n Meeting Agenda:  AndersonCountySC.org/County-Council in the Agenda & Minutes section (scroll to mid-page). \nCounty Council Meeting Schedule for 2026
URL:https://www.andersoncountysc.org/event/county-council-meeting-88/2027-01-05/
LOCATION:Historic Courthouse\, 101 S. Main Street\, Anderson\, SC\, 29624\, United States
CATEGORIES:County Council Meeting
ORGANIZER;CN="Renee Watts":MAILTO:rdwatts@andersoncountysc.org
END:VEVENT
END:VCALENDAR