BEGIN:VCALENDAR
VERSION:2.0
PRODID:-//Anderson County - ECPv6.15.20//NONSGML v1.0//EN
CALSCALE:GREGORIAN
METHOD:PUBLISH
X-WR-CALNAME:Anderson County
X-ORIGINAL-URL:https://www.andersoncountysc.org
X-WR-CALDESC:Events for Anderson County
REFRESH-INTERVAL;VALUE=DURATION:PT1H
X-Robots-Tag:noindex
X-PUBLISHED-TTL:PT1H
BEGIN:VTIMEZONE
TZID:UTC
BEGIN:STANDARD
TZOFFSETFROM:+0000
TZOFFSETTO:+0000
TZNAME:UTC
DTSTART:20250101T000000
END:STANDARD
END:VTIMEZONE
BEGIN:VEVENT
DTSTART;TZID=UTC:20260519T183000
DTEND;TZID=UTC:20260519T193000
DTSTAMP:20260425T135815
CREATED:20260129T163856Z
LAST-MODIFIED:20260329T164142Z
UID:10001571-1779215400-1779219000@www.andersoncountysc.org
SUMMARY:County Council Meeting
DESCRIPTION:The Anderson meet on the first and third Tuesday of each month. Council meetings are held at the Anderson County Historic Courthouse\, 101 South Main Street\, Anderson\, SC 29624. \n6:00 PM Recognitions & Special Presentations\n6:30 PM Business Meeting \n Meeting Agenda:  AndersonCountySC.org/County-Council in the Agenda & Minutes section (scroll to mid-page). \nCounty Council Meeting Schedule for 2026
URL:https://www.andersoncountysc.org/event/county-council-meeting-89/2026-05-19/
LOCATION:Historic Courthouse\, 101 S. Main Street\, Anderson\, SC\, 29624\, United States
CATEGORIES:County Council Meeting
ORGANIZER;CN="Renee Watts":MAILTO:rdwatts@andersoncountysc.org
END:VEVENT
BEGIN:VEVENT
DTSTART;TZID=UTC:20260616T183000
DTEND;TZID=UTC:20260616T193000
DTSTAMP:20260425T135815
CREATED:20260129T163856Z
LAST-MODIFIED:20260329T164142Z
UID:10001572-1781634600-1781638200@www.andersoncountysc.org
SUMMARY:County Council Meeting
DESCRIPTION:The Anderson meet on the first and third Tuesday of each month. Council meetings are held at the Anderson County Historic Courthouse\, 101 South Main Street\, Anderson\, SC 29624. \n6:00 PM Recognitions & Special Presentations\n6:30 PM Business Meeting \n Meeting Agenda:  AndersonCountySC.org/County-Council in the Agenda & Minutes section (scroll to mid-page). \nCounty Council Meeting Schedule for 2026
URL:https://www.andersoncountysc.org/event/county-council-meeting-89/2026-06-16/
LOCATION:Historic Courthouse\, 101 S. Main Street\, Anderson\, SC\, 29624\, United States
CATEGORIES:County Council Meeting
ORGANIZER;CN="Renee Watts":MAILTO:rdwatts@andersoncountysc.org
END:VEVENT
BEGIN:VEVENT
DTSTART;TZID=UTC:20260721T183000
DTEND;TZID=UTC:20260721T193000
DTSTAMP:20260425T135815
CREATED:20260129T163856Z
LAST-MODIFIED:20260329T164142Z
UID:10001573-1784658600-1784662200@www.andersoncountysc.org
SUMMARY:County Council Meeting
DESCRIPTION:The Anderson meet on the first and third Tuesday of each month. Council meetings are held at the Anderson County Historic Courthouse\, 101 South Main Street\, Anderson\, SC 29624. \n6:00 PM Recognitions & Special Presentations\n6:30 PM Business Meeting \n Meeting Agenda:  AndersonCountySC.org/County-Council in the Agenda & Minutes section (scroll to mid-page). \nCounty Council Meeting Schedule for 2026
URL:https://www.andersoncountysc.org/event/county-council-meeting-89/2026-07-21/
LOCATION:Historic Courthouse\, 101 S. Main Street\, Anderson\, SC\, 29624\, United States
CATEGORIES:County Council Meeting
ORGANIZER;CN="Renee Watts":MAILTO:rdwatts@andersoncountysc.org
END:VEVENT
BEGIN:VEVENT
DTSTART;TZID=UTC:20260818T183000
DTEND;TZID=UTC:20260818T193000
DTSTAMP:20260425T135815
CREATED:20260129T163856Z
LAST-MODIFIED:20260329T164142Z
UID:10001574-1787077800-1787081400@www.andersoncountysc.org
SUMMARY:County Council Meeting
DESCRIPTION:The Anderson meet on the first and third Tuesday of each month. Council meetings are held at the Anderson County Historic Courthouse\, 101 South Main Street\, Anderson\, SC 29624. \n6:00 PM Recognitions & Special Presentations\n6:30 PM Business Meeting \n Meeting Agenda:  AndersonCountySC.org/County-Council in the Agenda & Minutes section (scroll to mid-page). \nCounty Council Meeting Schedule for 2026
URL:https://www.andersoncountysc.org/event/county-council-meeting-89/2026-08-18/
LOCATION:Historic Courthouse\, 101 S. Main Street\, Anderson\, SC\, 29624\, United States
CATEGORIES:County Council Meeting
ORGANIZER;CN="Renee Watts":MAILTO:rdwatts@andersoncountysc.org
END:VEVENT
BEGIN:VEVENT
DTSTART;TZID=UTC:20260915T183000
DTEND;TZID=UTC:20260915T193000
DTSTAMP:20260425T135815
CREATED:20260129T163856Z
LAST-MODIFIED:20260329T164142Z
UID:10001575-1789497000-1789500600@www.andersoncountysc.org
SUMMARY:County Council Meeting
DESCRIPTION:The Anderson meet on the first and third Tuesday of each month. Council meetings are held at the Anderson County Historic Courthouse\, 101 South Main Street\, Anderson\, SC 29624. \n6:00 PM Recognitions & Special Presentations\n6:30 PM Business Meeting \n Meeting Agenda:  AndersonCountySC.org/County-Council in the Agenda & Minutes section (scroll to mid-page). \nCounty Council Meeting Schedule for 2026
URL:https://www.andersoncountysc.org/event/county-council-meeting-89/2026-09-15/
LOCATION:Historic Courthouse\, 101 S. Main Street\, Anderson\, SC\, 29624\, United States
CATEGORIES:County Council Meeting
ORGANIZER;CN="Renee Watts":MAILTO:rdwatts@andersoncountysc.org
END:VEVENT
BEGIN:VEVENT
DTSTART;TZID=UTC:20261020T183000
DTEND;TZID=UTC:20261020T193000
DTSTAMP:20260425T135815
CREATED:20260129T163856Z
LAST-MODIFIED:20260329T164142Z
UID:10001576-1792521000-1792524600@www.andersoncountysc.org
SUMMARY:County Council Meeting
DESCRIPTION:The Anderson meet on the first and third Tuesday of each month. Council meetings are held at the Anderson County Historic Courthouse\, 101 South Main Street\, Anderson\, SC 29624. \n6:00 PM Recognitions & Special Presentations\n6:30 PM Business Meeting \n Meeting Agenda:  AndersonCountySC.org/County-Council in the Agenda & Minutes section (scroll to mid-page). \nCounty Council Meeting Schedule for 2026
URL:https://www.andersoncountysc.org/event/county-council-meeting-89/2026-10-20/
LOCATION:Historic Courthouse\, 101 S. Main Street\, Anderson\, SC\, 29624\, United States
CATEGORIES:County Council Meeting
ORGANIZER;CN="Renee Watts":MAILTO:rdwatts@andersoncountysc.org
END:VEVENT
BEGIN:VEVENT
DTSTART;TZID=UTC:20261117T183000
DTEND;TZID=UTC:20261117T193000
DTSTAMP:20260425T135815
CREATED:20260129T163856Z
LAST-MODIFIED:20260329T164142Z
UID:10001577-1794940200-1794943800@www.andersoncountysc.org
SUMMARY:County Council Meeting
DESCRIPTION:The Anderson meet on the first and third Tuesday of each month. Council meetings are held at the Anderson County Historic Courthouse\, 101 South Main Street\, Anderson\, SC 29624. \n6:00 PM Recognitions & Special Presentations\n6:30 PM Business Meeting \n Meeting Agenda:  AndersonCountySC.org/County-Council in the Agenda & Minutes section (scroll to mid-page). \nCounty Council Meeting Schedule for 2026
URL:https://www.andersoncountysc.org/event/county-council-meeting-89/2026-11-17/
LOCATION:Historic Courthouse\, 101 S. Main Street\, Anderson\, SC\, 29624\, United States
CATEGORIES:County Council Meeting
ORGANIZER;CN="Renee Watts":MAILTO:rdwatts@andersoncountysc.org
END:VEVENT
BEGIN:VEVENT
DTSTART;TZID=UTC:20261215T183000
DTEND;TZID=UTC:20261215T193000
DTSTAMP:20260425T135815
CREATED:20260129T163856Z
LAST-MODIFIED:20260329T164142Z
UID:10001578-1797359400-1797363000@www.andersoncountysc.org
SUMMARY:County Council Meeting
DESCRIPTION:The Anderson meet on the first and third Tuesday of each month. Council meetings are held at the Anderson County Historic Courthouse\, 101 South Main Street\, Anderson\, SC 29624. \n6:00 PM Recognitions & Special Presentations\n6:30 PM Business Meeting \n Meeting Agenda:  AndersonCountySC.org/County-Council in the Agenda & Minutes section (scroll to mid-page). \nCounty Council Meeting Schedule for 2026
URL:https://www.andersoncountysc.org/event/county-council-meeting-89/2026-12-15/
LOCATION:Historic Courthouse\, 101 S. Main Street\, Anderson\, SC\, 29624\, United States
CATEGORIES:County Council Meeting
ORGANIZER;CN="Renee Watts":MAILTO:rdwatts@andersoncountysc.org
END:VEVENT
BEGIN:VEVENT
DTSTART;TZID=UTC:20270119T183000
DTEND;TZID=UTC:20270119T193000
DTSTAMP:20260425T135815
CREATED:20260129T163856Z
LAST-MODIFIED:20260329T164142Z
UID:10001579-1800383400-1800387000@www.andersoncountysc.org
SUMMARY:County Council Meeting
DESCRIPTION:The Anderson meet on the first and third Tuesday of each month. Council meetings are held at the Anderson County Historic Courthouse\, 101 South Main Street\, Anderson\, SC 29624. \n6:00 PM Recognitions & Special Presentations\n6:30 PM Business Meeting \n Meeting Agenda:  AndersonCountySC.org/County-Council in the Agenda & Minutes section (scroll to mid-page). \nCounty Council Meeting Schedule for 2026
URL:https://www.andersoncountysc.org/event/county-council-meeting-89/2027-01-19/
LOCATION:Historic Courthouse\, 101 S. Main Street\, Anderson\, SC\, 29624\, United States
CATEGORIES:County Council Meeting
ORGANIZER;CN="Renee Watts":MAILTO:rdwatts@andersoncountysc.org
END:VEVENT
END:VCALENDAR