BEGIN:VCALENDAR
VERSION:2.0
PRODID:-//Anderson County - ECPv6.15.20//NONSGML v1.0//EN
CALSCALE:GREGORIAN
METHOD:PUBLISH
X-ORIGINAL-URL:https://www.andersoncountysc.org
X-WR-CALDESC:Events for Anderson County
REFRESH-INTERVAL;VALUE=DURATION:PT1H
X-Robots-Tag:noindex
X-PUBLISHED-TTL:PT1H
BEGIN:VTIMEZONE
TZID:UTC
BEGIN:STANDARD
TZOFFSETFROM:+0000
TZOFFSETTO:+0000
TZNAME:UTC
DTSTART:20240101T000000
END:STANDARD
END:VTIMEZONE
BEGIN:VEVENT
DTSTART;TZID=UTC:20250107T180000
DTEND;TZID=UTC:20250107T183000
DTSTAMP:20260425T122442
CREATED:20250103T163509Z
LAST-MODIFIED:20250103T163509Z
UID:10001329-1736272800-1736274600@www.andersoncountysc.org
SUMMARY:County Council Oath of Office Ceremony   
DESCRIPTION:County Council\nOath of Office Ceremony \nTuesday\, January 7\, 2025 \n6:00 p.m. \n\nAnderson County Sports & Entertainment Center\n3027 Martin Luther King\, Jr. Blvd.\nAnderson\, SC 29625
URL:https://www.andersoncountysc.org/event/county-council-oath-of-office-ceremony/
LOCATION:Civic Center\, 3027 Martin Luther King Jr Blvd\, Anderson\, SC\, 29625\, United States
CATEGORIES:County Council Meeting
ATTACH;FMTTYPE=image/jpeg:https://www.andersoncountysc.org/wp-content/uploads/2022/01/AC-Seal-Color-e1675270283402.jpg
ORGANIZER;CN="Renee Watts":MAILTO:rdwatts@andersoncountysc.org
END:VEVENT
BEGIN:VEVENT
DTSTART;TZID=UTC:20250107T183000
DTEND;TZID=UTC:20250107T200000
DTSTAMP:20260425T122442
CREATED:20250103T165213Z
LAST-MODIFIED:20250103T204228Z
UID:10001330-1736274600-1736280000@www.andersoncountysc.org
SUMMARY:County Council Meeting
DESCRIPTION:The Anderson County Council will meet on January 7\, 2025\, at 6:30 p.m. at the Civic Center of Anderson\, 3027 Martin Luther King Jr. Blvd\, Anderson\, SC 29625.\n\nAGENDA
URL:https://www.andersoncountysc.org/event/county-council-meeting-61/
LOCATION:Civic Center\, 3027 Martin Luther King Jr Blvd\, Anderson\, SC\, 29625\, United States
CATEGORIES:County Council Meeting
ATTACH;FMTTYPE=image/jpeg:https://www.andersoncountysc.org/wp-content/uploads/2022/01/AC-Seal-Color-e1675270283402.jpg
ORGANIZER;CN="Renee Watts":MAILTO:rdwatts@andersoncountysc.org
END:VEVENT
BEGIN:VEVENT
DTSTART;TZID=UTC:20250121T183000
DTEND;TZID=UTC:20250121T200000
DTSTAMP:20260425T122442
CREATED:20250117T215633Z
LAST-MODIFIED:20250117T215633Z
UID:10001336-1737484200-1737489600@www.andersoncountysc.org
SUMMARY:County Council Meeting
DESCRIPTION:The Anderson County Council will meet on January 21\, 2025\, at 6:30 p.m. at the Anderson County Museum\, 202 East Greenville Street\, Anderson\, SC 29621. \nAGENDA
URL:https://www.andersoncountysc.org/event/county-council-meeting-62/
LOCATION:Anderson County Museum\, 202 E. Greenville Street\, Anderson\, 29621\, United States
CATEGORIES:County Council Meeting
ATTACH;FMTTYPE=image/jpeg:https://www.andersoncountysc.org/wp-content/uploads/2022/01/AC-Seal-Color-e1675270283402.jpg
ORGANIZER;CN="Renee Watts":MAILTO:rdwatts@andersoncountysc.org
END:VEVENT
END:VCALENDAR