BEGIN:VCALENDAR
VERSION:2.0
PRODID:-//Anderson County - ECPv6.15.20//NONSGML v1.0//EN
CALSCALE:GREGORIAN
METHOD:PUBLISH
X-WR-CALNAME:Anderson County
X-ORIGINAL-URL:https://www.andersoncountysc.org
X-WR-CALDESC:Events for Anderson County
REFRESH-INTERVAL;VALUE=DURATION:PT1H
X-Robots-Tag:noindex
X-PUBLISHED-TTL:PT1H
BEGIN:VTIMEZONE
TZID:UTC
BEGIN:STANDARD
TZOFFSETFROM:+0000
TZOFFSETTO:+0000
TZNAME:UTC
DTSTART:20240101T000000
END:STANDARD
END:VTIMEZONE
BEGIN:VEVENT
DTSTART;TZID=UTC:20250204T183000
DTEND;TZID=UTC:20250204T193000
DTSTAMP:20260425T104043
CREATED:20250131T220254Z
LAST-MODIFIED:20250204T035114Z
UID:10001338-1738693800-1738697400@www.andersoncountysc.org
SUMMARY:County Council Meeting
DESCRIPTION:The Anderson County Council will meet on February 4\, 2025\, at 6:30 p.m. at the Anderson County Historic Courthouse\, 101 South Main Street\,  Anderson\, SC 29624. \nAMENDED AGENDA \nAGENDA
URL:https://www.andersoncountysc.org/event/council-meeting-6/
LOCATION:Historic Courthouse\, 101 S. Main Street\, Anderson\, SC\, 29624\, United States
CATEGORIES:County Council Meeting
ATTACH;FMTTYPE=image/jpeg:https://www.andersoncountysc.org/wp-content/uploads/2022/01/AC-Seal-Color-e1675270283402.jpg
ORGANIZER;CN="Renee Watts":MAILTO:rdwatts@andersoncountysc.org
END:VEVENT
BEGIN:VEVENT
DTSTART;TZID=UTC:20250226T183000
DTEND;TZID=UTC:20250226T193000
DTSTAMP:20260425T104043
CREATED:20250222T022703Z
LAST-MODIFIED:20250222T024822Z
UID:10001359-1740594600-1740598200@www.andersoncountysc.org
SUMMARY:County Council Special Called Meeting
DESCRIPTION:The Anderson County Council will have a special called meeting on Wednesday\, February 26\, 2025\, at 6:30 p.m. at the Historic Courthouse\, 101 S. Main Street\, Anderson\, South Carolina. \nAGENDA
URL:https://www.andersoncountysc.org/event/county-council-special-called-meeting-10/
LOCATION:Historic Courthouse\, 101 S. Main Street\, Anderson\, SC\, 29624\, United States
CATEGORIES:County Council Meeting
ATTACH;FMTTYPE=image/jpeg:https://www.andersoncountysc.org/wp-content/uploads/2022/01/AC-Seal-Color-e1675270283402.jpg
ORGANIZER;CN="Renee Watts":MAILTO:rdwatts@andersoncountysc.org
END:VEVENT
END:VCALENDAR