BEGIN:VCALENDAR
VERSION:2.0
PRODID:-//Anderson County - ECPv6.15.20//NONSGML v1.0//EN
CALSCALE:GREGORIAN
METHOD:PUBLISH
X-WR-CALNAME:Anderson County
X-ORIGINAL-URL:https://www.andersoncountysc.org
X-WR-CALDESC:Events for Anderson County
REFRESH-INTERVAL;VALUE=DURATION:PT1H
X-Robots-Tag:noindex
X-PUBLISHED-TTL:PT1H
BEGIN:VTIMEZONE
TZID:UTC
BEGIN:STANDARD
TZOFFSETFROM:+0000
TZOFFSETTO:+0000
TZNAME:UTC
DTSTART:20240101T000000
END:STANDARD
END:VTIMEZONE
BEGIN:VEVENT
DTSTART;TZID=UTC:20251209T160000
DTEND;TZID=UTC:20251209T170000
DTSTAMP:20260424T213148
CREATED:20251209T005224Z
LAST-MODIFIED:20251209T005757Z
UID:10001513-1765296000-1765299600@www.andersoncountysc.org
SUMMARY:Anderson County Delegation Meeting
DESCRIPTION:Senator Richard Cash\, Chairman of the Anderson County Legislative Delegation\, has called a Delegation Meeting to be held on Tuesday\, December 9\, 4:00 P.M.\, at the Ronald Townsend Government Building\, 2404 N. Main St.\, Anderson\, SC. \nAGENDA \n 
URL:https://www.andersoncountysc.org/event/anderson-county-delegation-meeting-3/
LOCATION:Ronald P. Townsend Building\, 2404 N. Main Street\, Anderson\, SC\, 29621\, United States
ATTACH;FMTTYPE=image/jpeg:https://www.andersoncountysc.org/wp-content/uploads/2022/03/275120680_326791379480590_1553020834931961463_n-e1763512677483.jpg
ORGANIZER;CN="Caroline Piaso":MAILTO:cpiasio@andersoncountysc.org
END:VEVENT
END:VCALENDAR