BEGIN:VCALENDAR
VERSION:2.0
PRODID:-//Anderson County - ECPv6.15.20//NONSGML v1.0//EN
CALSCALE:GREGORIAN
METHOD:PUBLISH
X-ORIGINAL-URL:https://www.andersoncountysc.org
X-WR-CALDESC:Events for Anderson County
REFRESH-INTERVAL;VALUE=DURATION:PT1H
X-Robots-Tag:noindex
X-PUBLISHED-TTL:PT1H
BEGIN:VTIMEZONE
TZID:UTC
BEGIN:STANDARD
TZOFFSETFROM:+0000
TZOFFSETTO:+0000
TZNAME:UTC
DTSTART:20230101T000000
END:STANDARD
END:VTIMEZONE
BEGIN:VEVENT
DTSTART;TZID=UTC:20241005T080000
DTEND;TZID=UTC:20241005T130000
DTSTAMP:20260419T223337
CREATED:20240916T161531Z
LAST-MODIFIED:20240916T161722Z
UID:10001303-1728115200-1728133200@www.andersoncountysc.org
SUMMARY:Earn Your Wings
DESCRIPTION:EARN YOUR WINGS 5K and 1-mile walk at the Anderson Regional Airport on October 5\, 2024\, at 8 AM. \nFor more information or to sign up\, visit www.runsignup.com. \nEvent Contact: Rob Wallace at rwallace29621@gmail.com \n 
URL:https://www.andersoncountysc.org/event/earn-your-wings/
LOCATION:Anderson Regional Airport\, 5805 Airport Road\, Anderson\, 29624\, United States
CATEGORIES:Community Event
ORGANIZER;CN="Lori M. Milford":MAILTO:lmmilford@andersoncountysc.org
END:VEVENT
END:VCALENDAR