BEGIN:VCALENDAR
VERSION:2.0
PRODID:-//Anderson County - ECPv6.15.20//NONSGML v1.0//EN
CALSCALE:GREGORIAN
METHOD:PUBLISH
X-WR-CALNAME:Anderson County
X-ORIGINAL-URL:https://www.andersoncountysc.org
X-WR-CALDESC:Events for Anderson County
REFRESH-INTERVAL;VALUE=DURATION:PT1H
X-Robots-Tag:noindex
X-PUBLISHED-TTL:PT1H
BEGIN:VTIMEZONE
TZID:UTC
BEGIN:STANDARD
TZOFFSETFROM:+0000
TZOFFSETTO:+0000
TZNAME:UTC
DTSTART:20230101T000000
END:STANDARD
END:VTIMEZONE
BEGIN:VEVENT
DTSTART;TZID=UTC:20241005T090000
DTEND;TZID=UTC:20241005T140000
DTSTAMP:20260421T122707
CREATED:20240910T004603Z
LAST-MODIFIED:20241003T222033Z
UID:10001299-1728118800-1728136800@www.andersoncountysc.org
SUMMARY:PAWS & Fig's Adoption Event
DESCRIPTION:Anderson County P.A.W.S. and Fig’s Cafe & Farmacy will hold an Adoption Event on October 5 from 9 AM to 2 PM. \nIn addition to adoptions\, we will gladly accept donations for our shelter. You can donate cat or dog food\, blankets and towels\, dog beds\, newspapers\, and empty water bottles with lids. As a thank you for your donation\, Figs will give you a small free ice cream.
URL:https://www.andersoncountysc.org/event/paws-figs-adoption-event/
CATEGORIES:PAWS
ORGANIZER;CN="Meg Greenway":MAILTO:megreenway@andersoncountysc.org
END:VEVENT
BEGIN:VEVENT
DTSTART;TZID=UTC:20241025T180000
DTEND;TZID=UTC:20241025T200000
DTSTAMP:20260421T122707
CREATED:20241022T180015Z
LAST-MODIFIED:20241022T180546Z
UID:10001307-1729879200-1729886400@www.andersoncountysc.org
SUMMARY:Wag-o-Ween
DESCRIPTION:
URL:https://www.andersoncountysc.org/event/wag-o-ween/
LOCATION:Up on the Roof\, 314 S McDuffie Street\, Anderson\, SC\, 29624\, United States
CATEGORIES:PAWS
ORGANIZER;CN="Meg Greenway":MAILTO:megreenway@andersoncountysc.org
END:VEVENT
BEGIN:VEVENT
DTSTART;TZID=UTC:20241026T180000
DTEND;TZID=UTC:20241026T200000
DTSTAMP:20260421T122707
CREATED:20241022T180507Z
LAST-MODIFIED:20241022T180507Z
UID:10001308-1729965600-1729972800@www.andersoncountysc.org
SUMMARY:Wag-o-Ween
DESCRIPTION:
URL:https://www.andersoncountysc.org/event/wag-o-ween-2/
LOCATION:Up on the Roof\, 314 S McDuffie Street\, Anderson\, SC\, 29624\, United States
CATEGORIES:PAWS
ORGANIZER;CN="Meg Greenway":MAILTO:megreenway@andersoncountysc.org
END:VEVENT
BEGIN:VEVENT
DTSTART;TZID=UTC:20241031T160000
DTEND;TZID=UTC:20241031T200000
DTSTAMP:20260421T122707
CREATED:20241022T183311Z
LAST-MODIFIED:20241023T123956Z
UID:10001309-1730390400-1730404800@www.andersoncountysc.org
SUMMARY:Hall of PAWS Trick-or-Treat Event
DESCRIPTION:
URL:https://www.andersoncountysc.org/event/hall-of-paws-trick-or-treat-event/
LOCATION:PAWS\, 1320 Hwy. 29 South\, Anderson\, SC\, 29626\, United States
CATEGORIES:PAWS
ORGANIZER;CN="Meg Greenway":MAILTO:megreenway@andersoncountysc.org
END:VEVENT
END:VCALENDAR