BEGIN:VCALENDAR
VERSION:2.0
PRODID:-//Anderson County - ECPv6.15.20//NONSGML v1.0//EN
CALSCALE:GREGORIAN
METHOD:PUBLISH
X-ORIGINAL-URL:https://www.andersoncountysc.org
X-WR-CALDESC:Events for Anderson County
REFRESH-INTERVAL;VALUE=DURATION:PT1H
X-Robots-Tag:noindex
X-PUBLISHED-TTL:PT1H
BEGIN:VTIMEZONE
TZID:UTC
BEGIN:STANDARD
TZOFFSETFROM:+0000
TZOFFSETTO:+0000
TZNAME:UTC
DTSTART:20240101T000000
END:STANDARD
END:VTIMEZONE
BEGIN:VEVENT
DTSTART;VALUE=DATE:20250101
DTEND;VALUE=DATE:20250102
DTSTAMP:20260425T140425
CREATED:20241227T214003Z
LAST-MODIFIED:20241230T215739Z
UID:10001323-1735689600-1735775999@www.andersoncountysc.org
SUMMARY:PAWS Closed
DESCRIPTION:The shelter will be closed in observance of New Year’s Day. No services available.
URL:https://www.andersoncountysc.org/event/paws-closed/
LOCATION:PAWS\, 1320 Hwy. 29 South\, Anderson\, SC\, 29626\, United States
CATEGORIES:PAWS
ORGANIZER;CN="Meg Greenway":MAILTO:megreenway@andersoncountysc.org
END:VEVENT
BEGIN:VEVENT
DTSTART;VALUE=DATE:20250110
DTEND;VALUE=DATE:20250111
DTSTAMP:20260425T140425
CREATED:20250109T193526Z
LAST-MODIFIED:20250109T193526Z
UID:10001334-1736467200-1736553599@www.andersoncountysc.org
SUMMARY:PAWS CLOSED
DESCRIPTION:The shelter will be closed due to inclement weather. No services will be available.
URL:https://www.andersoncountysc.org/event/paws-closed-3/
LOCATION:PAWS\, 1320 Hwy. 29 South\, Anderson\, SC\, 29626\, United States
CATEGORIES:PAWS
ORGANIZER;CN="Meg Greenway":MAILTO:megreenway@andersoncountysc.org
END:VEVENT
BEGIN:VEVENT
DTSTART;TZID=UTC:20250118T150000
DTEND;TZID=UTC:20250118T180000
DTSTAMP:20260425T140425
CREATED:20241230T214041Z
LAST-MODIFIED:20250109T173529Z
UID:10001324-1737212400-1737223200@www.andersoncountysc.org
SUMMARY:Adoption Event
DESCRIPTION:We’ll be in Clemson for Yappy Hour at Backstreets Pub & Grill! Come for the adorable adoptable dogs\, and stay for a drink or two!
URL:https://www.andersoncountysc.org/event/adoption-event/
LOCATION:Backstreets Pub & Grill\, 102 Earle Street\, Clemson\, SC\, 29631\, United States
CATEGORIES:PAWS
ORGANIZER;CN="Meg Greenway":MAILTO:megreenway@andersoncountysc.org
END:VEVENT
BEGIN:VEVENT
DTSTART;VALUE=DATE:20250120
DTEND;VALUE=DATE:20250121
DTSTAMP:20260425T140425
CREATED:20241230T215553Z
LAST-MODIFIED:20241230T215710Z
UID:10001328-1737331200-1737417599@www.andersoncountysc.org
SUMMARY:PAWS Closed
DESCRIPTION:The shelter will be closed in observance of Martin Luther King\, Jr. Day. No services available.
URL:https://www.andersoncountysc.org/event/paws-closed-2/
LOCATION:PAWS\, 1320 Hwy. 29 South\, Anderson\, SC\, 29626\, United States
CATEGORIES:PAWS
END:VEVENT
BEGIN:VEVENT
DTSTART;TZID=UTC:20250125T110000
DTEND;TZID=UTC:20250125T150000
DTSTAMP:20260425T140425
CREATED:20241230T214627Z
LAST-MODIFIED:20250107T195334Z
UID:10001325-1737802800-1737817200@www.andersoncountysc.org
SUMMARY:Adoption Event
DESCRIPTION:We’ll be at Boujee Barkers for a fun day. Come meet our adoptable dogs!
URL:https://www.andersoncountysc.org/event/adoption-event-2/
LOCATION:Boujee Barkers\, 4831 Old Pearman Dairy Road\, Anderson\, SC\, 29621\, United States
CATEGORIES:PAWS
ORGANIZER;CN="Meg Greenway":MAILTO:megreenway@andersoncountysc.org
END:VEVENT
END:VCALENDAR