BEGIN:VCALENDAR
VERSION:2.0
PRODID:-//Anderson County - ECPv6.15.20//NONSGML v1.0//EN
CALSCALE:GREGORIAN
METHOD:PUBLISH
X-ORIGINAL-URL:https://www.andersoncountysc.org
X-WR-CALDESC:Events for Anderson County
REFRESH-INTERVAL;VALUE=DURATION:PT1H
X-Robots-Tag:noindex
X-PUBLISHED-TTL:PT1H
BEGIN:VTIMEZONE
TZID:UTC
BEGIN:STANDARD
TZOFFSETFROM:+0000
TZOFFSETTO:+0000
TZNAME:UTC
DTSTART:20240101T000000
END:STANDARD
END:VTIMEZONE
BEGIN:VEVENT
DTSTART;VALUE=DATE:20251224
DTEND;VALUE=DATE:20251225
DTSTAMP:20260424T200737
CREATED:20251014T192240Z
LAST-MODIFIED:20251014T192240Z
UID:10001490-1766534400-1766620799@www.andersoncountysc.org
SUMMARY:SHELTER CLOSED
DESCRIPTION:Merry Christmas Eve! Shelter closed\, no services available.
URL:https://www.andersoncountysc.org/event/shelter-closed-5/
CATEGORIES:PAWS
ORGANIZER;CN="Meg Greenway":MAILTO:megreenway@andersoncountysc.org
END:VEVENT
BEGIN:VEVENT
DTSTART;VALUE=DATE:20251225
DTEND;VALUE=DATE:20251226
DTSTAMP:20260424T200737
CREATED:20251014T192414Z
LAST-MODIFIED:20251014T192414Z
UID:10001491-1766620800-1766707199@www.andersoncountysc.org
SUMMARY:SHELTER CLOSED
DESCRIPTION:Merry Christmas! Shelter closed\, no services available.
URL:https://www.andersoncountysc.org/event/shelter-closed-6/
CATEGORIES:PAWS
ORGANIZER;CN="Meg Greenway":MAILTO:megreenway@andersoncountysc.org
END:VEVENT
BEGIN:VEVENT
DTSTART;VALUE=DATE:20251226
DTEND;VALUE=DATE:20251227
DTSTAMP:20260424T200737
CREATED:20251014T192618Z
LAST-MODIFIED:20251014T192618Z
UID:10001492-1766707200-1766793599@www.andersoncountysc.org
SUMMARY:SHELTER CLOSED
DESCRIPTION:Merry Christmas! Shelter closed\, no services available.
URL:https://www.andersoncountysc.org/event/shelter-closed-7/
CATEGORIES:PAWS
ORGANIZER;CN="Meg Greenway":MAILTO:megreenway@andersoncountysc.org
END:VEVENT
END:VCALENDAR