BEGIN:VCALENDAR
VERSION:2.0
PRODID:-//Anderson County - ECPv6.15.20//NONSGML v1.0//EN
CALSCALE:GREGORIAN
METHOD:PUBLISH
X-ORIGINAL-URL:https://www.andersoncountysc.org
X-WR-CALDESC:Events for Anderson County
REFRESH-INTERVAL;VALUE=DURATION:PT1H
X-Robots-Tag:noindex
X-PUBLISHED-TTL:PT1H
BEGIN:VTIMEZONE
TZID:UTC
BEGIN:STANDARD
TZOFFSETFROM:+0000
TZOFFSETTO:+0000
TZNAME:UTC
DTSTART:20240101T000000
END:STANDARD
END:VTIMEZONE
BEGIN:VEVENT
DTSTART;TZID=UTC:20251025T083000
DTEND;TZID=UTC:20251026T183000
DTSTAMP:20260425T172004
CREATED:20251023T142623Z
LAST-MODIFIED:20251023T142721Z
UID:10001494-1761381000-1761503400@www.andersoncountysc.org
SUMMARY:2025 Perfect Game Halloween Havoc
DESCRIPTION:Perfect Game Brings Youth Baseball Excitement to Upstate South Carolina this Weekend \nAnderson County\, SC — Perfect Game is set to host one of the region’s premier youth baseball tournaments this weekend\, October 25–26\, across multiple Upstate South Carolina locations including Anderson\, Easley\, and Spartanburg. \nThe event will feature 140 teams from North Carolina\, South Carolina\, and Georgia\, showcasing some of the best young baseball talent in the Southeast. \nGames will run daily from 8:30 a.m. to 6:30 p.m. Anderson Sports and Entertainment Center will host 28 teams ranging from 9U to 13U.
URL:https://www.andersoncountysc.org/event/2025-perfect-game-halloween-havoc/
LOCATION:ASEC | Anderson Sports & Entertainment Center\, 3027 Martin Luther King Jr. Boulevard\, Anderson\, SC\, 29625\, United States
CATEGORIES:Community Event
ATTACH;FMTTYPE=image/jpeg:https://www.andersoncountysc.org/wp-content/uploads/2025/06/ASEC-Logo_Event-e1752718831370.jpg
ORGANIZER;CN="Adrienne Cole":MAILTO:ASEC@andersoncountysc.org
END:VEVENT
END:VCALENDAR