BEGIN:VCALENDAR
VERSION:2.0
PRODID:-//Anderson County - ECPv6.15.20//NONSGML v1.0//EN
CALSCALE:GREGORIAN
METHOD:PUBLISH
X-WR-CALNAME:Anderson County
X-ORIGINAL-URL:https://www.andersoncountysc.org
X-WR-CALDESC:Events for Anderson County
REFRESH-INTERVAL;VALUE=DURATION:PT1H
X-Robots-Tag:noindex
X-PUBLISHED-TTL:PT1H
BEGIN:VTIMEZONE
TZID:UTC
BEGIN:STANDARD
TZOFFSETFROM:+0000
TZOFFSETTO:+0000
TZNAME:UTC
DTSTART:20250101T000000
END:STANDARD
END:VTIMEZONE
BEGIN:VEVENT
DTSTART;TZID=UTC:20260213T113000
DTEND;TZID=UTC:20260213T130000
DTSTAMP:20260424T143027
CREATED:20260114T024121Z
LAST-MODIFIED:20260114T025318Z
UID:10001540-1770982200-1770987600@www.andersoncountysc.org
SUMMARY:Council Districts 2 & 5 Sponsored Senior Citizens Valentine's Day Lunch
DESCRIPTION:It’s time for our annual “Senior Citizens Valentine’s Day Lunch” for widows and widowers ages 65 and older. You must live in Anderson County Districts 2 & 5. \n\n\n\nFriday\, February 13\, 2026 \n11:30 am-1:00 pm\nHomeland Park Volunteer Fire Department\n\n\n\n\n\n\n\n\n  \n\nAvailable to the first 150 seniors\nPlease stay in your car and pull through the line to pick up your boxed lunch.\nLimit one box lunch per person.\nYou must be present to receive a lunch.
URL:https://www.andersoncountysc.org/event/senior-citizens-valentines-day-lunch-3/
LOCATION:Homeland Park Volunteer Fire Department\, 3299 South Main Street\, Anderson\, SC\, 29624\, United States
CATEGORIES:Community Event
ORGANIZER;CN="Renee Watts":MAILTO:rdwatts@andersoncountysc.org
END:VEVENT
END:VCALENDAR