BEGIN:VCALENDAR
VERSION:2.0
PRODID:-//Anderson County - ECPv6.15.20//NONSGML v1.0//EN
CALSCALE:GREGORIAN
METHOD:PUBLISH
X-ORIGINAL-URL:https://www.andersoncountysc.org
X-WR-CALDESC:Events for Anderson County
REFRESH-INTERVAL;VALUE=DURATION:PT1H
X-Robots-Tag:noindex
X-PUBLISHED-TTL:PT1H
BEGIN:VTIMEZONE
TZID:UTC
BEGIN:STANDARD
TZOFFSETFROM:+0000
TZOFFSETTO:+0000
TZNAME:UTC
DTSTART:20230101T000000
END:STANDARD
END:VTIMEZONE
BEGIN:VEVENT
DTSTART;TZID=UTC:20240604T180000
DTEND;TZID=UTC:20240604T193000
DTSTAMP:20260426T031105
CREATED:20240423T153249Z
LAST-MODIFIED:20240601T010046Z
UID:10001252-1717524000-1717529400@www.andersoncountysc.org
SUMMARY:County Council Meeting
DESCRIPTION:The Anderson County Council will meet on Tuesday\, June 4\, 2024\, in the Council Chambers\, of the Historic Courthouse\, 101 S. Main St.\, Anderson\, SC 29624. \nSpecial Presentations at 6 p.m.\nCouncil Meeting at 6:30 p.m. \nAGENDA \nThe meeting agenda is posted at www.andersoncountysc.org/county-council.
URL:https://www.andersoncountysc.org/event/county-council-meeting-53/
LOCATION:Historic Courthouse\, 101 S. Main Street\, Anderson\, SC\, 29624\, United States
CATEGORIES:County Council Meeting
ATTACH;FMTTYPE=image/jpeg:https://www.andersoncountysc.org/wp-content/uploads/2022/01/AC-Seal-Color-e1675270283402.jpg
ORGANIZER;CN="Renee Watts":MAILTO:rdwatts@andersoncountysc.org
END:VEVENT
BEGIN:VEVENT
DTSTART;TZID=UTC:20240617T103000
DTEND;TZID=UTC:20240617T113000
DTSTAMP:20260426T031105
CREATED:20240614T164803Z
LAST-MODIFIED:20240614T164803Z
UID:10001268-1718620200-1718623800@www.andersoncountysc.org
SUMMARY:Finance Committee Meeting
DESCRIPTION:The County Council’s Finance Committee will meet on Monday\, June 17\, 2024\, at 10:30 AM in the Historic Courthouse\, 101 South Main Street\, Anderson\, SC 29624. \nAGENDA
URL:https://www.andersoncountysc.org/event/finance-committee-meeting-11/
LOCATION:Historic Courthouse\, 101 S. Main Street\, Anderson\, SC\, 29624\, United States
CATEGORIES:Council Committee Meeting
ATTACH;FMTTYPE=image/jpeg:https://www.andersoncountysc.org/wp-content/uploads/2022/01/AC-Seal-Color-e1675270283402.jpg
ORGANIZER;CN="Renee Watts":MAILTO:rdwatts@andersoncountysc.org
END:VEVENT
BEGIN:VEVENT
DTSTART;TZID=UTC:20240618T180000
DTEND;TZID=UTC:20240618T193000
DTSTAMP:20260426T031105
CREATED:20240423T153540Z
LAST-MODIFIED:20240614T223042Z
UID:10001253-1718733600-1718739000@www.andersoncountysc.org
SUMMARY:County Council Meeting
DESCRIPTION:The Anderson County Council will meet on Tuesday\, June 18\, 2024\, in the Council Chambers of the Historic Courthouse\, 101 S. Main St.\, Anderson\, SC 29624. \nSpecial Presentations at 6 p.m.\nCouncil Meeting at 6:30 p.m. \nAgenda
URL:https://www.andersoncountysc.org/event/county-council-meeting-54/
LOCATION:Historic Courthouse\, 101 S. Main Street\, Anderson\, SC\, 29624\, United States
CATEGORIES:County Council Meeting
ATTACH;FMTTYPE=image/jpeg:https://www.andersoncountysc.org/wp-content/uploads/2022/01/AC-Seal-Color-e1675270283402.jpg
ORGANIZER;CN="Renee Watts":MAILTO:rdwatts@andersoncountysc.org
END:VEVENT
BEGIN:VEVENT
DTSTART;TZID=UTC:20240620T171500
DTEND;TZID=UTC:20240620T180000
DTSTAMP:20260426T031105
CREATED:20240619T155009Z
LAST-MODIFIED:20240619T160431Z
UID:10001271-1718903700-1718906400@www.andersoncountysc.org
SUMMARY:County Council's Public Safety Committee Meeting
DESCRIPTION:The Anderson County Council’s Public Safety Committee will meet on Thursday\, June 20\, 2024\, at 5:15 pm\, at the Historic Courthouse\, 101 South Main Street\, Anderson\, SC. AGENDA
URL:https://www.andersoncountysc.org/event/councils-public-safety-committee-meeting/
LOCATION:Historic Courthouse\, 101 S. Main Street\, Anderson\, SC\, 29624\, United States
CATEGORIES:Council Committee Meeting
ATTACH;FMTTYPE=image/jpeg:https://www.andersoncountysc.org/wp-content/uploads/2022/01/AC-Seal-Color-e1675270283402.jpg
ORGANIZER;CN="Renee Watts":MAILTO:rdwatts@andersoncountysc.org
END:VEVENT
BEGIN:VEVENT
DTSTART;TZID=UTC:20240620T180000
DTEND;TZID=UTC:20240620T183000
DTSTAMP:20260426T031105
CREATED:20240619T154912Z
LAST-MODIFIED:20240619T154912Z
UID:10001272-1718906400-1718908200@www.andersoncountysc.org
SUMMARY:County Council Special Called Meeting
DESCRIPTION:The Anderson County Council Special Called meeting is on Thursday\, June 20\, 2024\, at 6 o’clock in the evening at the Historic Courthouse\, 101 South Main Street\, Anderson\, SC. AGENDA
URL:https://www.andersoncountysc.org/event/county-council-special-called-meeting-4/
LOCATION:SC
CATEGORIES:County Council Meeting
ATTACH;FMTTYPE=image/jpeg:https://www.andersoncountysc.org/wp-content/uploads/2022/01/AC-Seal-Color-e1675270283402.jpg
ORGANIZER;CN="Renee Watts":MAILTO:rdwatts@andersoncountysc.org
END:VEVENT
END:VCALENDAR