BEGIN:VCALENDAR
VERSION:2.0
PRODID:-//Anderson County - ECPv6.15.20//NONSGML v1.0//EN
CALSCALE:GREGORIAN
METHOD:PUBLISH
X-WR-CALNAME:Anderson County
X-ORIGINAL-URL:https://www.andersoncountysc.org
X-WR-CALDESC:Events for Anderson County
REFRESH-INTERVAL;VALUE=DURATION:PT1H
X-Robots-Tag:noindex
X-PUBLISHED-TTL:PT1H
BEGIN:VTIMEZONE
TZID:UTC
BEGIN:STANDARD
TZOFFSETFROM:+0000
TZOFFSETTO:+0000
TZNAME:UTC
DTSTART:20240101T000000
END:STANDARD
END:VTIMEZONE
BEGIN:VEVENT
DTSTART;TZID=UTC:20250401T183000
DTEND;TZID=UTC:20250401T200000
DTSTAMP:20260425T103855
CREATED:20250204T034945Z
LAST-MODIFIED:20250331T134818Z
UID:10001344-1743532200-1743537600@www.andersoncountysc.org
SUMMARY:County Council Meeting
DESCRIPTION:The Anderson County Council will meet on April 1\, 2025\, at 6:30 p.m. at the Anderson County Historic Courthouse\, 101 South Main Street\,  Anderson\, SC 29624. \nAMENDED AGENDA\nAGENDA \nParking is limited at the Historic Courthouse due to repairs; however\, the parking garage is available. E-Merge at the Garage Parking\, 102 N Murray Ave\, Anderson\, SC 29625.
URL:https://www.andersoncountysc.org/event/county-council-meeting-65/
LOCATION:Historic Courthouse\, 101 S. Main Street\, Anderson\, SC\, 29624\, United States
CATEGORIES:County Council Meeting
ORGANIZER;CN="Renee Watts":MAILTO:rdwatts@andersoncountysc.org
END:VEVENT
BEGIN:VEVENT
DTSTART;TZID=UTC:20250410T180000
DTEND;TZID=UTC:20250410T193000
DTSTAMP:20260425T103855
CREATED:20250407T213114Z
LAST-MODIFIED:20250407T213214Z
UID:10001386-1744308000-1744313400@www.andersoncountysc.org
SUMMARY:County Council Informational Meeting
DESCRIPTION:Anderson County Council will host an informational meeting on Thursday\, April 10th\, at 6:00 PM. The meeting will be held at the Civic Center of Anderson\, 3027 Martin Luther King Jr. Boulevard\, Anderson. \nThe meeting’s purpose is to gain input from Anderson County School Districts 1 – 5 regarding growth in Anderson County. No votes will be taken. \nThe public is invited to attend. \nFor further information\, please call 864.260.1036. \nAGENDA
URL:https://www.andersoncountysc.org/event/county-council-information-meeting/
LOCATION:Civic Center\, 3027 Martin Luther King Jr Blvd\, Anderson\, SC\, 29625\, United States
CATEGORIES:County Council Meeting
ORGANIZER;CN="Renee Watts":MAILTO:rdwatts@andersoncountysc.org
END:VEVENT
BEGIN:VEVENT
DTSTART;TZID=UTC:20250411T120000
DTEND;TZID=UTC:20250411T170000
DTSTAMP:20260425T103855
CREATED:20250409T210410Z
LAST-MODIFIED:20250409T210410Z
UID:10001387-1744372800-1744390800@www.andersoncountysc.org
SUMMARY:Planning & Public Works Committee Meeting
DESCRIPTION:The Council’s Planning and Public Works Committee will meet at Noon on Friday\, April 11\, 2025\, at the Anderson County Historic Courthouse\, 101 South Main Street\, Anderson\, S.C.\n\nParking is limited at the Historic Courthouse due to repairs; however\, the parking garage is available. E-Merge at the Garage Parking\, 102 N Murray Ave\, Anderson\, SC 29625.\n\nAGENDA
URL:https://www.andersoncountysc.org/event/planning-public-works-committee-meeting-9/
LOCATION:Historic Courthouse\, 101 S. Main Street\, Anderson\, SC\, 29624\, United States
CATEGORIES:Council Committee Meeting
ORGANIZER;CN="Renee Watts":MAILTO:rdwatts@andersoncountysc.org
END:VEVENT
BEGIN:VEVENT
DTSTART;TZID=UTC:20250415T180000
DTEND;TZID=UTC:20250415T200000
DTSTAMP:20260425T103855
CREATED:20250204T035018Z
LAST-MODIFIED:20250411T200212Z
UID:10001345-1744740000-1744747200@www.andersoncountysc.org
SUMMARY:County Council Meeting
DESCRIPTION:The Anderson County Council will meet on April 15\, 2025\, at 6:00 p.m. at the Anderson County Historic Courthouse\, 101 South Main Street\,  Anderson\, SC 29624. \nAGENDA \nParking is limited at the Historic Courthouse due to repairs; however\, the parking garage is available. E-Merge at the Garage Parking\, 102 N Murray Ave\, Anderson\, SC 29625. \n 
URL:https://www.andersoncountysc.org/event/county-council-meeting-66/
LOCATION:Historic Courthouse\, 101 S. Main Street\, Anderson\, SC\, 29624\, United States
CATEGORIES:County Council Meeting
ORGANIZER;CN="Renee Watts":MAILTO:rdwatts@andersoncountysc.org
END:VEVENT
END:VCALENDAR