BEGIN:VCALENDAR
VERSION:2.0
PRODID:-//Anderson County - ECPv6.15.20//NONSGML v1.0//EN
CALSCALE:GREGORIAN
METHOD:PUBLISH
X-ORIGINAL-URL:https://www.andersoncountysc.org
X-WR-CALDESC:Events for Anderson County
REFRESH-INTERVAL;VALUE=DURATION:PT1H
X-Robots-Tag:noindex
X-PUBLISHED-TTL:PT1H
BEGIN:VTIMEZONE
TZID:UTC
BEGIN:STANDARD
TZOFFSETFROM:+0000
TZOFFSETTO:+0000
TZNAME:UTC
DTSTART:20220101T000000
END:STANDARD
END:VTIMEZONE
BEGIN:VEVENT
DTSTART;TZID=UTC:20230411T090000
DTEND;TZID=UTC:20230411T100000
DTSTAMP:20260420T205234
CREATED:20230410T083648Z
LAST-MODIFIED:20230410T154455Z
UID:10000837-1681203600-1681207200@www.andersoncountysc.org
SUMMARY:Detention Facilities Corporation Meeting
DESCRIPTION:The Anderson County Detention Facilities Corporation will meet on Tuesday\, April 11\, 2023 at 9:00 A.M. in the Historic Courthouse\, 101 South Main Street\, Anderson\, SC 29624. \nAGENDA
URL:https://www.andersoncountysc.org/event/detention-facilities-corporation-meeting/
LOCATION:Historic Courthouse\, 101 S. Main Street\, Anderson\, SC\, 29624\, United States
CATEGORIES:Council Committee Meeting
ATTACH;FMTTYPE=image/jpeg:https://www.andersoncountysc.org/wp-content/uploads/2023/04/No-Date-Notice-Detention-Facilities_Meeting-1.jpg
ORGANIZER;CN="Renee Watts":MAILTO:rdwatts@andersoncountysc.org
END:VEVENT
END:VCALENDAR