BEGIN:VCALENDAR
VERSION:2.0
PRODID:-//Anderson County - ECPv6.15.20//NONSGML v1.0//EN
CALSCALE:GREGORIAN
METHOD:PUBLISH
X-WR-CALNAME:Anderson County
X-ORIGINAL-URL:https://www.andersoncountysc.org
X-WR-CALDESC:Events for Anderson County
REFRESH-INTERVAL;VALUE=DURATION:PT1H
X-Robots-Tag:noindex
X-PUBLISHED-TTL:PT1H
BEGIN:VTIMEZONE
TZID:UTC
BEGIN:STANDARD
TZOFFSETFROM:+0000
TZOFFSETTO:+0000
TZNAME:UTC
DTSTART:20200101T000000
END:STANDARD
END:VTIMEZONE
BEGIN:VEVENT
DTSTART;TZID=UTC:20210429T143000
DTEND;TZID=UTC:20210429T143000
DTSTAMP:20260422T161423
CREATED:20210428T121929Z
LAST-MODIFIED:20210428T162132Z
UID:10000559-1619706600-1619706600@www.andersoncountysc.org
SUMMARY:Finance Committee Meeting
DESCRIPTION:The Anderson County Council Finance Committee will meet at the Historic Courthouse on Thursday\, April 29\, 2021 at 2:30 p.m. \n4.29.2021 Finance Committee Agenda
URL:https://www.andersoncountysc.org/event/finance-committee-meeting-4/
LOCATION:Historic Courthouse\, 101 S. Main Street\, Anderson\, SC\, 29624\, United States
CATEGORIES:Committee Meetings
ATTACH;FMTTYPE=image/jpeg:https://www.andersoncountysc.org/wp-content/uploads/2021/03/Drone_Historic-Courthouse1Rev.jpg
END:VEVENT
END:VCALENDAR