BEGIN:VCALENDAR
VERSION:2.0
PRODID:-//Anderson County - ECPv6.15.20//NONSGML v1.0//EN
CALSCALE:GREGORIAN
METHOD:PUBLISH
X-ORIGINAL-URL:https://www.andersoncountysc.org
X-WR-CALDESC:Events for Anderson County
REFRESH-INTERVAL;VALUE=DURATION:PT1H
X-Robots-Tag:noindex
X-PUBLISHED-TTL:PT1H
BEGIN:VTIMEZONE
TZID:UTC
BEGIN:STANDARD
TZOFFSETFROM:+0000
TZOFFSETTO:+0000
TZNAME:UTC
DTSTART:20240101T000000
END:STANDARD
END:VTIMEZONE
BEGIN:VEVENT
DTSTART;TZID=UTC:20251031T160000
DTEND;TZID=UTC:20251031T200000
DTSTAMP:20260425T001744
CREATED:20251006T125920Z
LAST-MODIFIED:20251006T125951Z
UID:10001479-1761926400-1761940800@www.andersoncountysc.org
SUMMARY:Halls of PAWS: Trick-or-Treat Event
DESCRIPTION:Join us for tons of candy\, games\, vendors and food trucks! SHELTER CLOSED\, no services available that day.
URL:https://www.andersoncountysc.org/event/halls-of-paws-trick-or-treat-event/
LOCATION:PAWS\, 1320 Hwy. 29 South\, Anderson\, SC\, 29626\, United States
CATEGORIES:PAWS
ORGANIZER;CN="Meg Greenway":MAILTO:megreenway@andersoncountysc.org
END:VEVENT
END:VCALENDAR