BEGIN:VCALENDAR
VERSION:2.0
PRODID:-//Anderson County - ECPv6.15.20//NONSGML v1.0//EN
CALSCALE:GREGORIAN
METHOD:PUBLISH
X-ORIGINAL-URL:https://www.andersoncountysc.org
X-WR-CALDESC:Events for Anderson County
REFRESH-INTERVAL;VALUE=DURATION:PT1H
X-Robots-Tag:noindex
X-PUBLISHED-TTL:PT1H
BEGIN:VTIMEZONE
TZID:UTC
BEGIN:STANDARD
TZOFFSETFROM:+0000
TZOFFSETTO:+0000
TZNAME:UTC
DTSTART:20240101T000000
END:STANDARD
END:VTIMEZONE
BEGIN:VEVENT
DTSTART;TZID=UTC:20251216T170000
DTEND;TZID=UTC:20251216T200000
DTSTAMP:20260424T200751
CREATED:20251215T142314Z
LAST-MODIFIED:20251215T145237Z
UID:10001517-1765904400-1765915200@www.andersoncountysc.org
SUMMARY:Holiday Market
DESCRIPTION:Join us for a festive season filled with 50+ local vendors\, unique gifts\, holiday produce\, local honey\, handmade jewelry\, handcrafted soaps and lotions\, woodcrafts\, homemade baked goods\, live music\, and more. Support local. Shop local. \n\n\n\n\nNOTE: We have scammers posting comments that vendors are still being excepted – Do Not respond to this comments it is a SCAM. If you wish to know anything about the Holiday Market\, please contact Anderson County Farmers Market directly.
URL:https://www.andersoncountysc.org/event/holiday-market/
LOCATION:Farmers Market\, 402 N. Murray Avenue\, Anderson\, SC\, 29625\, United States
ATTACH;FMTTYPE=image/jpeg:https://www.andersoncountysc.org/wp-content/uploads/2025/08/TEMPLATE_Farmers-Market-Event-Cover.jpg
END:VEVENT
BEGIN:VEVENT
DTSTART;TZID=UTC:20251220T100000
DTEND;TZID=UTC:20251220T140000
DTSTAMP:20260424T200751
CREATED:20251215T142548Z
LAST-MODIFIED:20251215T145114Z
UID:10001518-1766224800-1766239200@www.andersoncountysc.org
SUMMARY:Holiday Market
DESCRIPTION:Join us for a festive season filled with 50+ local vendors\, unique gifts\, holiday produce\, local honey\, handmade jewelry\, handcrafted soaps and lotions\, woodcrafts\, homemade baked goods\, live music\, and more. Support local. Shop local. \n\n\n\n\nNOTE: We have scammers posting comments that vendors are still being excepted – Do Not respond to this comments it is a SCAM. If you wish to know anything about the Holiday Market\, please contact Anderson County Farmers Market directly.
URL:https://www.andersoncountysc.org/event/holiday-market-2/
LOCATION:Farmers Market\, 402 N. Murray Avenue\, Anderson\, SC\, 29625\, United States
ATTACH;FMTTYPE=image/jpeg:https://www.andersoncountysc.org/wp-content/uploads/2025/08/TEMPLATE_Farmers-Market-Event-Cover.jpg
END:VEVENT
END:VCALENDAR