BEGIN:VCALENDAR
VERSION:2.0
PRODID:-//Anderson County - ECPv6.15.20//NONSGML v1.0//EN
CALSCALE:GREGORIAN
METHOD:PUBLISH
X-ORIGINAL-URL:https://www.andersoncountysc.org
X-WR-CALDESC:Events for Anderson County
REFRESH-INTERVAL;VALUE=DURATION:PT1H
X-Robots-Tag:noindex
X-PUBLISHED-TTL:PT1H
BEGIN:VTIMEZONE
TZID:UTC
BEGIN:STANDARD
TZOFFSETFROM:+0000
TZOFFSETTO:+0000
TZNAME:UTC
DTSTART:20220101T000000
END:STANDARD
END:VTIMEZONE
BEGIN:VEVENT
DTSTART;TZID=UTC:20231017T170000
DTEND;TZID=UTC:20231017T183000
DTSTAMP:20260421T023224
CREATED:20231013T213228Z
LAST-MODIFIED:20231013T213855Z
UID:10001125-1697562000-1697567400@www.andersoncountysc.org
SUMMARY:Public Meeting: Town of Honea Path – Chiquola Mill Cleanup Project
DESCRIPTION:Town of Honea Path\, SC – Chiquola Mill Cleanup Project\nPublic Notice: Submission of EPA Brownfields Cleanup Grant Application and Analysis of Brownfields Cleanup Alternatives \nThe Town of Honea Path is submitting a Brownfields Cleanup Grant Application to the USEPA to conduct cleanup activities at the former Chiquola Mill site\, located at 410 Chiquola Ave. in Honea Path. The property is identified as TMS 275-09-11-003-000. The cleanup work will be performed in accordance with one of the alternatives outlined in the Analysis of Brownfields Cleanup Alternatives (ABCA). The purpose of the ABCA is to evaluate various cleanup/management alternatives for asbestos containing materials (ACM) and contaminated soils. This notice is to\ninform the community of the preparation of the grant application\, the draft ABCA\, and a Public Meeting. \nThe ABCA is available for public comment for 30 days starting October 18\, 2023\, and ending November 17\, 2023. A draft copy of the ABCA will be available at the Town Hall located at 204 South Main St. Also\, the draft grant application is available for review and comment at the Town office\, 204 S. Main St\, from October 18 until November 3\, before the grant is submitted on November 13\, 2023. Both the draft ABCA and grant application are available electronically by requesting them from Mandy Porter at aporter@honeapathsc.com. \nCommunity input is an integral and meaningful part of this type of project\, and public and community-based organizations are encouraged to review the draft grant application and ABCA and provide comments. This matter will be discussed in a public meeting on Tuesday\, October 17\, 2023\, at 5:00 pm at Town Hall\, 204 S. Main St.\, Honea Path. If you desire a virtual option for attending the meeting\, please contact Mandy Porter – contact information is below. \nPlease contact or send any comments about the grant application and/or draft ABCA to the following: \nAmanda Porter – Honea Path\n(864)369-2466\naporter@honeapathsc.com \nGail Rawls Jeter – Stantec\n(803)210-6080\nGail.Jeter@Stantec.com
URL:https://www.andersoncountysc.org/event/public-meeting-town-of-honea-path-chiquola-mill-cleanup-project/
LOCATION:Town of Honea Path | Town Hall\, 204 S. Main St.\, Honea Path\, SC\, 29654
CATEGORIES:Community Meeting
ATTACH;FMTTYPE=image/jpeg:https://www.andersoncountysc.org/wp-content/uploads/2023/10/Honea-Path_TEMPLATE_FB_Box.jpg
END:VEVENT
END:VCALENDAR