BEGIN:VCALENDAR
VERSION:2.0
PRODID:-//Anderson County - ECPv6.15.20//NONSGML v1.0//EN
CALSCALE:GREGORIAN
METHOD:PUBLISH
X-WR-CALNAME:Anderson County
X-ORIGINAL-URL:https://www.andersoncountysc.org
X-WR-CALDESC:Events for Anderson County
REFRESH-INTERVAL;VALUE=DURATION:PT1H
X-Robots-Tag:noindex
X-PUBLISHED-TTL:PT1H
BEGIN:VTIMEZONE
TZID:UTC
BEGIN:STANDARD
TZOFFSETFROM:+0000
TZOFFSETTO:+0000
TZNAME:UTC
DTSTART:20210101T000000
END:STANDARD
END:VTIMEZONE
BEGIN:VEVENT
DTSTART;TZID=UTC:20221107T173000
DTEND;TZID=UTC:20221107T190000
DTSTAMP:20260422T231010
CREATED:20221017T164440Z
LAST-MODIFIED:20221024T181843Z
UID:10000763-1667842200-1667847600@www.andersoncountysc.org
SUMMARY:Nancy Basket: Native American Storyteller & Artist
DESCRIPTION:Anderson County Human Relations Council presents Nancy Basket\n\nJoin us in honoring Native American/Indigenous People Heritage Month with a unique opportunity to experience the talents of Nancy Basket\, a renowned creator and artist gifted in crafting sculptures/lampshades/baskets made from kudzu\, designing wall panels and folk-art pieces\, and educating children and adults on the past and current historical value of Native Americans through Storytelling.\n\nNancy Basket has served as an Artist in Residence with the SC Arts Commission and provides workshops to K-12 and university students. Nancy’s works of art have been featured in movies\, restaurants\, events\, and locations across the United States.\n\nEvent Flyer \n\n\nHRC Event 11.7.2022
URL:https://www.andersoncountysc.org/event/nancy-basket-native-american-storyteller-artist/
LOCATION:Anderson Main Library\, 300 N. McDuffie St\, Anderson\, SC\, 29621
CATEGORIES:Community Meeting
ATTACH;FMTTYPE=image/png:https://www.andersoncountysc.org/wp-content/uploads/2021/06/HRC-Logo_Website-1440x600-2-e1664202440957.png
END:VEVENT
END:VCALENDAR