BEGIN:VCALENDAR
VERSION:2.0
PRODID:-//Anderson County - ECPv6.15.20//NONSGML v1.0//EN
CALSCALE:GREGORIAN
METHOD:PUBLISH
X-WR-CALNAME:Anderson County
X-ORIGINAL-URL:https://www.andersoncountysc.org
X-WR-CALDESC:Events for Anderson County
REFRESH-INTERVAL;VALUE=DURATION:PT1H
X-Robots-Tag:noindex
X-PUBLISHED-TTL:PT1H
BEGIN:VTIMEZONE
TZID:UTC
BEGIN:STANDARD
TZOFFSETFROM:+0000
TZOFFSETTO:+0000
TZNAME:UTC
DTSTART:20230101T000000
END:STANDARD
END:VTIMEZONE
BEGIN:VEVENT
DTSTART;TZID=UTC:20240314T170000
DTEND;TZID=UTC:20240314T190000
DTSTAMP:20260420T200652
CREATED:20240311T194108Z
LAST-MODIFIED:20240311T195532Z
UID:10001177-1710435600-1710442800@www.andersoncountysc.org
SUMMARY:Public Workshop: Hwy 29 Corridor
DESCRIPTION:A Corridor Study of U.S. 29 in South Carolina between I-85 to U.S. 178/76 (East River St) is being conducted by the Appalachian Council of Governments (ACOG) in partnership with the S.C. Department of Transportation\, Anderson County\, and the Anderson Clemson Area Transportation Study (ACATS). Attend the Public Workshop \nThursday\, MARCH 14\, 2024 | Drop-In Between 5 pm – 7 pm\n\nAnderson County Main Library\, 300 N McDuffie Street\, Anderson\, SC 29621 \nMembers of the public can drop in at any time to talk with the planning team. Information shared at the workshop will be posted on the website for those unable to attend. \nLearn more at our website: www.us29study.com\nTake the Online Survey Today! \nProvide your comments about:\n– Where current issues along the corridor are.\n– What kind of improvements do you want to see?\n– How you want U.S. 29 to look in the future. \nThe survey will be available until March 22.  \nMore information here
URL:https://www.andersoncountysc.org/event/public-workshop-hwy-29-corridor/
LOCATION:Anderson Main Library\, 300 N. McDuffie St\, Anderson\, SC\, 29621
CATEGORIES:Community Event
ATTACH;FMTTYPE=image/jpeg:https://www.andersoncountysc.org/wp-content/uploads/2024/03/TEMPLATE_FB_Box.jpg
END:VEVENT
END:VCALENDAR