BEGIN:VCALENDAR
VERSION:2.0
PRODID:-//Anderson County - ECPv6.15.20//NONSGML v1.0//EN
CALSCALE:GREGORIAN
METHOD:PUBLISH
X-WR-CALNAME:Anderson County
X-ORIGINAL-URL:https://www.andersoncountysc.org
X-WR-CALDESC:Events for Anderson County
REFRESH-INTERVAL;VALUE=DURATION:PT1H
X-Robots-Tag:noindex
X-PUBLISHED-TTL:PT1H
BEGIN:VTIMEZONE
TZID:UTC
BEGIN:STANDARD
TZOFFSETFROM:+0000
TZOFFSETTO:+0000
TZNAME:UTC
DTSTART:20220101T000000
END:STANDARD
END:VTIMEZONE
BEGIN:VEVENT
DTSTART;TZID=UTC:20230902T100000
DTEND;TZID=UTC:20230902T103000
DTSTAMP:20260422T112512
CREATED:20230828T133723Z
LAST-MODIFIED:20230831T133848Z
UID:10000719-1693648800-1693650600@www.andersoncountysc.org
SUMMARY:Storywalk at KidVenture & Chris Taylor Park
DESCRIPTION:Join us for an exciting unveiling! In partnership with Anderson County Library System\, we are adding a special Storywalk and fun\, educational signs to KidVenture 2.0 Playground and Chris Taylor Memorial Park. Join us on September 2 at 10 AM at the KidVenture 2.0 Playground to see the new Storywalk\, explore the Bookmobile\, and hear remarks from county officials. It’s sure to be a fun morning! \nINVITATION
URL:https://www.andersoncountysc.org/event/storywalk-at-kidventure-chris-taylor-park/
LOCATION:ASEC | Anderson Sports & Entertainment Center\, 3027 Martin Luther King Jr. Boulevard\, Anderson\, SC\, 29625\, United States
CATEGORIES:Community Event
ATTACH;FMTTYPE=image/jpeg:https://www.andersoncountysc.org/wp-content/uploads/2023/08/StoryWalk-at-KidVenture-e1693236318217.jpeg
END:VEVENT
END:VCALENDAR