BEGIN:VCALENDAR
VERSION:2.0
PRODID:-//Anderson County - ECPv6.15.20//NONSGML v1.0//EN
CALSCALE:GREGORIAN
METHOD:PUBLISH
X-WR-CALNAME:Anderson County
X-ORIGINAL-URL:https://www.andersoncountysc.org
X-WR-CALDESC:Events for Anderson County
REFRESH-INTERVAL;VALUE=DURATION:PT1H
X-Robots-Tag:noindex
X-PUBLISHED-TTL:PT1H
BEGIN:VTIMEZONE
TZID:UTC
BEGIN:STANDARD
TZOFFSETFROM:+0000
TZOFFSETTO:+0000
TZNAME:UTC
DTSTART:20240101T000000
END:STANDARD
END:VTIMEZONE
BEGIN:VEVENT
DTSTART;TZID=UTC:20250930T160000
DTEND;TZID=UTC:20250930T200000
DTSTAMP:20260425T112511
CREATED:20250915T145838Z
LAST-MODIFIED:20250915T150005Z
UID:10001474-1759248000-1759262400@www.andersoncountysc.org
SUMMARY:Neal’s Creek Precinct: Community Zoning Meeting
DESCRIPTION:Mark your calendars for the upcoming community meeting to review the proposed zoning map and make recommendations prior to the zoning referendum on November 4. \nThe Neal’s Creek Precinct Zoning Meeting is being held Tuesday\, September 30th\, 2025\, from 4:00 to 8:00 p.m. at Neal’s Creek Baptist Church (3204 Amity Road Ext Anderson\, SC 29621). \nPlease contact the Planning & Development Office at 864-260-4720 for questions and concerns. \nNeal’s Creek Precinct Map \n 
URL:https://www.andersoncountysc.org/event/neals-creek-precinct-community-zoning-meeting/
CATEGORIES:Community Event
END:VEVENT
END:VCALENDAR