BEGIN:VCALENDAR
VERSION:2.0
PRODID:-//Anderson County - ECPv6.15.20//NONSGML v1.0//EN
CALSCALE:GREGORIAN
METHOD:PUBLISH
X-WR-CALNAME:Anderson County
X-ORIGINAL-URL:https://www.andersoncountysc.org
X-WR-CALDESC:Events for Anderson County
REFRESH-INTERVAL;VALUE=DURATION:PT1H
X-Robots-Tag:noindex
X-PUBLISHED-TTL:PT1H
BEGIN:VTIMEZONE
TZID:UTC
BEGIN:STANDARD
TZOFFSETFROM:+0000
TZOFFSETTO:+0000
TZNAME:UTC
DTSTART:20250101T000000
END:STANDARD
END:VTIMEZONE
BEGIN:VEVENT
DTSTART;TZID=UTC:20260509T080000
DTEND;TZID=UTC:20260509T120000
DTSTAMP:20260424T172450
CREATED:20260317T011116Z
LAST-MODIFIED:20260317T011116Z
UID:10001557-1778313600-1778328000@www.andersoncountysc.org
SUMMARY:FREE Paper Shredding Event
DESCRIPTION:Join us for a FREE Paper Shredding Event on May 9th from 8:00 AM–12:00 PM at Honea Path Town Hall. Safely dispose of sensitive documents and protect your personal information—quick\, easy\, and free! \nEVENT FLYER
URL:https://www.andersoncountysc.org/event/free-paper-shredding-event-4/
LOCATION:Town of Honea Path | Town Hall\, 204 S. Main St.\, Honea Path\, SC\, 29654
ORGANIZER;CN="Samantha Porter":MAILTO:sbporter@andersoncountysc.org
END:VEVENT
END:VCALENDAR