BEGIN:VCALENDAR
VERSION:2.0
PRODID:-//Anderson County - ECPv6.15.20//NONSGML v1.0//EN
CALSCALE:GREGORIAN
METHOD:PUBLISH
X-ORIGINAL-URL:https://www.andersoncountysc.org
X-WR-CALDESC:Events for Anderson County
REFRESH-INTERVAL;VALUE=DURATION:PT1H
X-Robots-Tag:noindex
X-PUBLISHED-TTL:PT1H
BEGIN:VTIMEZONE
TZID:UTC
BEGIN:STANDARD
TZOFFSETFROM:+0000
TZOFFSETTO:+0000
TZNAME:UTC
DTSTART:20250101T000000
END:STANDARD
END:VTIMEZONE
BEGIN:VEVENT
DTSTART;TZID=UTC:20260425T080000
DTEND;TZID=UTC:20260425T120000
DTSTAMP:20260424T155356
CREATED:20260210T044541Z
LAST-MODIFIED:20260210T044643Z
UID:10001550-1777104000-1777118400@www.andersoncountysc.org
SUMMARY:Free Paper Shredding
DESCRIPTION:Join us for a FREE Paper Shredding Event on April 25th from 8:00 AM–12:00 PM at Anderson County Complex\, 1428 Pearman Dairy Road in Anderson. Safely dispose of sensitive documents and protect your personal information—quick\, easy\, and free! \nEVENT FLYER \n 
URL:https://www.andersoncountysc.org/event/free-paper-shredding/
LOCATION:1428 County Complex\, 1428 Pearman Dairy Road\, Anderson\, 29625\, United States
ORGANIZER;CN="Samantha Porter":MAILTO:sbporter@andersoncountysc.org
END:VEVENT
END:VCALENDAR