BEGIN:VCALENDAR
VERSION:2.0
PRODID:-//Anderson County - ECPv6.15.20//NONSGML v1.0//EN
CALSCALE:GREGORIAN
METHOD:PUBLISH
X-ORIGINAL-URL:https://www.andersoncountysc.org
X-WR-CALDESC:Events for Anderson County
REFRESH-INTERVAL;VALUE=DURATION:PT1H
X-Robots-Tag:noindex
X-PUBLISHED-TTL:PT1H
BEGIN:VTIMEZONE
TZID:UTC
BEGIN:STANDARD
TZOFFSETFROM:+0000
TZOFFSETTO:+0000
TZNAME:UTC
DTSTART:20240101T000000
END:STANDARD
END:VTIMEZONE
BEGIN:VEVENT
DTSTART;TZID=UTC:20250201T120000
DTEND;TZID=UTC:20250201T150000
DTSTAMP:20260425T114456
CREATED:20241230T215325Z
LAST-MODIFIED:20241230T215325Z
UID:10001327-1738411200-1738422000@www.andersoncountysc.org
SUMMARY:Adoption Event
DESCRIPTION:Sorry\, but you do not have permission to view this content.
URL:https://www.andersoncountysc.org/event/adoption-event-3/
LOCATION:Tractor Supply\, 3719 Clemson Blvd\, Anderson\, SC\, 29621\, United States
CATEGORIES:PAWS
END:VEVENT
BEGIN:VEVENT
DTSTART;VALUE=DATE:20250206
DTEND;VALUE=DATE:20250207
DTSTAMP:20260425T114456
CREATED:20250204T200815Z
LAST-MODIFIED:20250206T152819Z
UID:10001348-1738800000-1738886399@www.andersoncountysc.org
SUMMARY:PAWS No Surgeries
DESCRIPTION:Sorry\, but you do not have permission to view this content.
URL:https://www.andersoncountysc.org/event/no-surgeries/
LOCATION:PAWS\, 1320 Hwy. 29 South\, Anderson\, SC\, 29626\, United States
CATEGORIES:PAWS
ORGANIZER;CN="Meg Greenway":MAILTO:megreenway@andersoncountysc.org
END:VEVENT
BEGIN:VEVENT
DTSTART;TZID=UTC:20250206T173000
DTEND;TZID=UTC:20250206T183000
DTSTAMP:20260425T114456
CREATED:20250107T195549Z
LAST-MODIFIED:20250206T152902Z
UID:10001332-1738863000-1738866600@www.andersoncountysc.org
SUMMARY:PAWS Foster Orientation
DESCRIPTION:Sorry\, but you do not have permission to view this content.
URL:https://www.andersoncountysc.org/event/foster-orientation/
LOCATION:PAWS\, 1320 Hwy. 29 South\, Anderson\, SC\, 29626\, United States
CATEGORIES:PAWS
ORGANIZER;CN="Meg Greenway":MAILTO:megreenway@andersoncountysc.org
END:VEVENT
BEGIN:VEVENT
DTSTART;VALUE=DATE:20250217
DTEND;VALUE=DATE:20250218
DTSTAMP:20260425T114456
CREATED:20250204T200505Z
LAST-MODIFIED:20250205T181156Z
UID:10001347-1739750400-1739836799@www.andersoncountysc.org
SUMMARY:PAWS Closed
DESCRIPTION:Sorry\, but you do not have permission to view this content.
URL:https://www.andersoncountysc.org/event/shelter-closed/
LOCATION:PAWS\, 1320 Hwy. 29 South\, Anderson\, SC\, 29626\, United States
CATEGORIES:PAWS
ORGANIZER;CN="Meg Greenway":MAILTO:megreenway@andersoncountysc.org
END:VEVENT
END:VCALENDAR