BEGIN:VCALENDAR
VERSION:2.0
PRODID:-//Anderson County - ECPv6.15.20//NONSGML v1.0//EN
CALSCALE:GREGORIAN
METHOD:PUBLISH
X-ORIGINAL-URL:https://www.andersoncountysc.org
X-WR-CALDESC:Events for Anderson County
REFRESH-INTERVAL;VALUE=DURATION:PT1H
X-Robots-Tag:noindex
X-PUBLISHED-TTL:PT1H
BEGIN:VTIMEZONE
TZID:UTC
BEGIN:STANDARD
TZOFFSETFROM:+0000
TZOFFSETTO:+0000
TZNAME:UTC
DTSTART:20250101T000000
END:STANDARD
END:VTIMEZONE
BEGIN:VEVENT
DTSTART;TZID=UTC:20260314T120000
DTEND;TZID=UTC:20260314T160000
DTSTAMP:20260424T155045
CREATED:20260308T182025Z
LAST-MODIFIED:20260308T182945Z
UID:10001554-1773489600-1773504000@www.andersoncountysc.org
SUMMARY:Anderson County PAWS Lucky Paws Adoption Event
DESCRIPTION:Sorry\, but you do not have permission to view this content.
URL:https://www.andersoncountysc.org/event/anderson-county-paws-lucky-paws-adoption-event/
LOCATION:PAWS\, 1320 Hwy. 29 South\, Anderson\, SC\, 29626\, United States
CATEGORIES:Community Event,PAWS
END:VEVENT
END:VCALENDAR