BEGIN:VCALENDAR
VERSION:2.0
PRODID:-//Anderson County - ECPv6.15.20//NONSGML v1.0//EN
CALSCALE:GREGORIAN
METHOD:PUBLISH
X-WR-CALNAME:Anderson County
X-ORIGINAL-URL:https://www.andersoncountysc.org
X-WR-CALDESC:Events for Anderson County
REFRESH-INTERVAL;VALUE=DURATION:PT1H
X-Robots-Tag:noindex
X-PUBLISHED-TTL:PT1H
BEGIN:VTIMEZONE
TZID:UTC
BEGIN:STANDARD
TZOFFSETFROM:+0000
TZOFFSETTO:+0000
TZNAME:UTC
DTSTART:20220101T000000
END:STANDARD
END:VTIMEZONE
BEGIN:VEVENT
DTSTART;TZID=UTC:20230424T120000
DTEND;TZID=UTC:20230424T130000
DTSTAMP:20260420T194017
CREATED:20230421T141108Z
LAST-MODIFIED:20230421T142853Z
UID:10000846-1682337600-1682341200@www.andersoncountysc.org
SUMMARY: Planning & Public Works Meeting 
DESCRIPTION: The Planning and Public Works Committee will meet on Monday\, April 24\, 2023\, at 12:00 pm. Meeting will be held at the Historic Courthouse\, 101 South Main Street\, Anderson. \nAGENDA \n  \n 
URL:https://www.andersoncountysc.org/event/planning-public-works-meeting/
LOCATION:Historic Courthouse\, 101 S. Main Street\, Anderson\, SC\, 29624\, United States
CATEGORIES:Council Committee Meeting
ATTACH;FMTTYPE=image/jpeg:https://www.andersoncountysc.org/wp-content/uploads/2023/04/4.24.23_Planning_Public-Works_Committee_Meeting.jpg
ORGANIZER;CN="Renee Watts":MAILTO:rdwatts@andersoncountysc.org
END:VEVENT
END:VCALENDAR