BEGIN:VCALENDAR
VERSION:2.0
PRODID:-//Anderson County - ECPv6.15.20//NONSGML v1.0//EN
CALSCALE:GREGORIAN
METHOD:PUBLISH
X-WR-CALNAME:Anderson County
X-ORIGINAL-URL:https://www.andersoncountysc.org
X-WR-CALDESC:Events for Anderson County
REFRESH-INTERVAL;VALUE=DURATION:PT1H
X-Robots-Tag:noindex
X-PUBLISHED-TTL:PT1H
BEGIN:VTIMEZONE
TZID:UTC
BEGIN:STANDARD
TZOFFSETFROM:+0000
TZOFFSETTO:+0000
TZNAME:UTC
DTSTART:20220101T000000
END:STANDARD
END:VTIMEZONE
BEGIN:VEVENT
DTSTART;TZID=UTC:20230914T170000
DTEND;TZID=UTC:20230914T190000
DTSTAMP:20260421T092758
CREATED:20230831T134024Z
LAST-MODIFIED:20230831T134024Z
UID:10000874-1694710800-1694718000@www.andersoncountysc.org
SUMMARY:Public Drop-In Meeting: Hwy 81 Corridor|Wren School Rd/Lake Road
DESCRIPTION:Anderson County and GPATS is conducting a study of the Highway 81 corridor from the Wren School Rd/Lake Rd intersection to the Powdersville Main/ Piedmont Rd intersection. Anderson County requests comments along this section of Highway 81. To make a comment\, please visit the wiki map here: https://wikimapping.com/SC-Highway-81-Corridor-Study.html. \nA public drop-in meeting is scheduled to be held on Thursday\, September 14\, 2023 from 5 pm to 7pm at Wren Middle School\, located at 1010 Wren School Rd\, Piedmont\, SC 29673. \nInfographic Map
URL:https://www.andersoncountysc.org/event/public-drop-in-meeting-hwy-81-corridorwren-school-rd-lake-road/
LOCATION:SC
CATEGORIES:Community Meeting
ATTACH;FMTTYPE=image/png:https://www.andersoncountysc.org/wp-content/uploads/2023/08/Screenshot-2023-08-28-at-10.58.56-AM-e1693234843163.png
ORGANIZER;CN="Brittany McAbee":MAILTO:bdmcabee@andersoncountysc.org
END:VEVENT
END:VCALENDAR