BEGIN:VCALENDAR
VERSION:2.0
PRODID:-//Anderson County - ECPv6.15.20//NONSGML v1.0//EN
CALSCALE:GREGORIAN
METHOD:PUBLISH
X-WR-CALNAME:Anderson County
X-ORIGINAL-URL:https://www.andersoncountysc.org
X-WR-CALDESC:Events for Anderson County
REFRESH-INTERVAL;VALUE=DURATION:PT1H
X-Robots-Tag:noindex
X-PUBLISHED-TTL:PT1H
BEGIN:VTIMEZONE
TZID:UTC
BEGIN:STANDARD
TZOFFSETFROM:+0000
TZOFFSETTO:+0000
TZNAME:UTC
DTSTART:20240101T000000
END:STANDARD
END:VTIMEZONE
BEGIN:VEVENT
DTSTART;TZID=UTC:20250114T083000
DTEND;TZID=UTC:20250114T130000
DTSTAMP:20260419T161153
CREATED:20250110T213644Z
LAST-MODIFIED:20250110T220008Z
UID:10001335-1736843400-1736859600@www.andersoncountysc.org
SUMMARY:County Council Retreat
DESCRIPTION:County Council Retreat is scheduled for Tuesday\, January 14\, 2025\, at 8:30 a.m. | Civic Center at Anderson County Sports & Entertainment Center\, 3027 Martin Luther King Jr. Boulevard\, Anderson. \n1.14.2025 Retreat Agenda
URL:https://www.andersoncountysc.org/event/county-council-retreat-2/
LOCATION:Civic Center\, 3027 Martin Luther King Jr Blvd\, Anderson\, SC\, 29625\, United States
CATEGORIES:County Council Meeting
ATTACH;FMTTYPE=image/jpeg:https://www.andersoncountysc.org/wp-content/uploads/2022/01/AC-Seal-Color-e1675270283402.jpg
ORGANIZER;CN="Renee Watts":MAILTO:rdwatts@andersoncountysc.org
END:VEVENT
END:VCALENDAR