BEGIN:VCALENDAR
VERSION:2.0
PRODID:-//Anderson County - ECPv6.15.20//NONSGML v1.0//EN
CALSCALE:GREGORIAN
METHOD:PUBLISH
X-WR-CALNAME:Anderson County
X-ORIGINAL-URL:https://www.andersoncountysc.org
X-WR-CALDESC:Events for Anderson County
REFRESH-INTERVAL;VALUE=DURATION:PT1H
X-Robots-Tag:noindex
X-PUBLISHED-TTL:PT1H
BEGIN:VTIMEZONE
TZID:UTC
BEGIN:STANDARD
TZOFFSETFROM:+0000
TZOFFSETTO:+0000
TZNAME:UTC
DTSTART:20250101T000000
END:STANDARD
END:VTIMEZONE
BEGIN:VEVENT
DTSTART;TZID=UTC:20260502T140000
DTEND;TZID=UTC:20260503T000000
DTSTAMP:20260424T155053
CREATED:20251119T004853Z
LAST-MODIFIED:20260316T143735Z
UID:10001505-1777730400-1777766400@www.andersoncountysc.org
SUMMARY:Rhythm on the River
DESCRIPTION:🎶 Get ready for Powdersville’s biggest day of the year!\nJoin us for the 5th Annual AnMed Rhythm on the River 2026—a FREE family-friendly outdoor festival at the beautiful Dolly Cooper Park! \n🏃‍➡️AnMed Rhythm on the River 5K and 1-Mile Fun Run (all-ages)\n🕐 11 AM – 8 PM: Festivities begin with:\n• 🎸 Live music all day long!\n• Food\, dessert and beer trucks serving up your favorites\n• Local artisan makers market\n• The ever-popular KidsZone loaded with fun \n🎉 Admission & Parking are FREE!\nSponsored By: AnMed Health \nFollow the event page on Facebook for band announcements\, vendor features\, schedules\, and more updates as we countdown to May 2nd! \n\n###\n\nThe 5th annual AnMed Rhythm on the River festival returns to Powdersville’s Dolly Cooper Park on Saturday\, May 2\, with live music\, food trucks\, local arts-and-crafts vendors and more.\n\nThe free\, family-friendly festival showcases Powdersville’s picturesque recreation destination on the Saluda River.\n\n🏃‍♀️‍➡️The day kicks of at 10 a.m. with an all-ages AnMed Rhythm on the River 5K and 1-Mile Fun Run along the scenic riverside course. The run\, with timing services provided by Upstate Race Series\, is open to all levels of runners\, joggers and walkers\, with prizes awarded in several age categories and for best river-themed costumes. Register at the link here.\n\nThis year’s festival also includes new opportunities for friendly competitions as the Upstate Disc Golf Club hosts clinics and hole-in-one shootouts for prizes.\n\nLocal\, regional and national artists will perform bluegrass and Americana all day. Performers include The Travelin’ McCourys\, Steve Ray Ladson\, Tobacco Road\, Jackson Truluck\, and Buddha Libre.\n\nThe Kids Zone will offer children plenty to do at “Sal’s Sandlot\,” named for Powdersville’s new mascot\, Saluda Sal\, a spotted salamander and South Carolina’s official state amphibian. The Kids Zone will feature interactive and educational activities and hands-on games and roving entertainment.\n\nMore than 50 local artisans and craftspeople will be on hand to show and sell their handmade wares.\n \nAdmission and parking are free and open to the public\, but tickets are required. Register for free tickets at the link here at etix.com.\n\nFor more information\, including race registration\, vendor opportunities and entertainment updates\, visit rythmontheriver.org and follow ROTRPVL on Instagram and Facebook.\n\n\n\nFree Festival Tickets: \nhttps://www.etix.com/ticket/p/78785497/anmed-rhythm-on-the-river-2026-anderson-community-events\n\n5K + 1 Mile Fun Run Presented by AnMed Registration:\nhttps://runsignup.com/Race/SC/Greenville/RhythmOnTheRiver5k
URL:https://www.andersoncountysc.org/event/save-the-date-rhythm-on-the-river-2026/
LOCATION:MJ “Dolly” Cooper Park\, 170 Spearman Circle\, Greenville\, SC\, 29611\, United States
CATEGORIES:Community Event
ATTACH;FMTTYPE=image/jpeg:https://www.andersoncountysc.org/wp-content/uploads/2025/11/ROTR_Website_Event-e1773671828690.jpg
END:VEVENT
END:VCALENDAR