BEGIN:VCALENDAR
VERSION:2.0
PRODID:-//Anderson County - ECPv6.15.20//NONSGML v1.0//EN
CALSCALE:GREGORIAN
METHOD:PUBLISH
X-ORIGINAL-URL:https://www.andersoncountysc.org
X-WR-CALDESC:Events for Anderson County
REFRESH-INTERVAL;VALUE=DURATION:PT1H
X-Robots-Tag:noindex
X-PUBLISHED-TTL:PT1H
BEGIN:VTIMEZONE
TZID:UTC
BEGIN:STANDARD
TZOFFSETFROM:+0000
TZOFFSETTO:+0000
TZNAME:UTC
DTSTART:20230101T000000
END:STANDARD
END:VTIMEZONE
BEGIN:VEVENT
DTSTART;TZID=UTC:20241029T170000
DTEND;TZID=UTC:20241029T190000
DTSTAMP:20260420T132819
CREATED:20241023T202650Z
LAST-MODIFIED:20241025T225109Z
UID:10001311-1730221200-1730228400@www.andersoncountysc.org
SUMMARY:US 29 Corridor Study | Recommendations
DESCRIPTION:The Appalachian Council of Governments (ACOG) wants to hear from you! ACOG has taken your feedback to create Recommended Improvements for the U.S. 29 Corridor Study in Anderson County between I-85 and U.S. 178/76. \nACOG invites you to a public meeting to discuss how you would like transportation funds spent. Would you prefer minor intersection modifications\, like adding turning lanes\, or major modifications\, like widening intersections? \nWilliamston Municipal Center\n12 W Main St\, Williamston\, SC 29697\nTuesday\, October 29\, 2024\n5:00 pm to 7:00 pm \nYou can meet with the study team and give ACOG your feedback in person. There will be no formal presentation; you can drop in anytime between 5 p.m. and 7 p.m. If you cannot make the public meeting\, visit the project website to view all the information shared. \nAn online survey is also available to collect additional feedback at: https://metroquestsurvey.com/gf5v5c \nTo learn more\, visit the study website at www.US29study.com
URL:https://www.andersoncountysc.org/event/recommended-improvements-for-the-u-s-29-corridor-study/
LOCATION:Williamston Municipal Center\, 12 W Main St\, Williamston\, SC\, 29697
CATEGORIES:Community Meeting
ATTACH;FMTTYPE=image/jpeg:https://www.andersoncountysc.org/wp-content/uploads/2024/10/TEMPLATE_FB_Box-1.jpg
ORGANIZER;CN="Brittany McAbee":MAILTO:bdmcabee@andersoncountysc.org
END:VEVENT
END:VCALENDAR