BEGIN:VCALENDAR
VERSION:2.0
PRODID:-//Anderson County - ECPv6.15.20//NONSGML v1.0//EN
CALSCALE:GREGORIAN
METHOD:PUBLISH
X-WR-CALNAME:Anderson County
X-ORIGINAL-URL:https://www.andersoncountysc.org
X-WR-CALDESC:Events for Anderson County
REFRESH-INTERVAL;VALUE=DURATION:PT1H
X-Robots-Tag:noindex
X-PUBLISHED-TTL:PT1H
BEGIN:VTIMEZONE
TZID:UTC
BEGIN:STANDARD
TZOFFSETFROM:+0000
TZOFFSETTO:+0000
TZNAME:UTC
DTSTART:20230101T000000
END:STANDARD
END:VTIMEZONE
BEGIN:VEVENT
DTSTART;TZID=UTC:20240528T090000
DTEND;TZID=UTC:20240528T150000
DTSTAMP:20260420T205120
CREATED:20240515T213035Z
LAST-MODIFIED:20240523T144123Z
UID:10001261-1716886800-1716908400@www.andersoncountysc.org
SUMMARY:Veterans Workshop and Claims Clinic
DESCRIPTION:Connecting our veterans with local resources in Anderson County: healthcare\, Senior Services\, Financial Assistance\, Claims Assistance\, and more. Tuesday\, May 28th\, 2024\, from 9 a.m. to 3 p.m. at the Anderson Civic Center. Call Anderson County Veterans Affairs at 864.260.4036 for more info.\n\n\n\nAny veteran needing a Will or Power Attorney should contact the Anderson County Veterans Affairs Office at 864.260.4036 to schedule a meeting with an attorney at the Veterans Clinic.\n\n  \n 
URL:https://www.andersoncountysc.org/event/veterans-workshop-and-claims-clinic/
LOCATION:Civic Center\, 3027 Martin Luther King Jr Blvd\, Anderson\, SC\, 29625\, United States
CATEGORIES:Community Event
ATTACH;FMTTYPE=image/png:https://www.andersoncountysc.org/wp-content/uploads/2024/05/Vets-Clinic-e1716475275571.png
ORGANIZER;CN="Veterans Affairs Office":MAILTO:camartin@andersoncountysc.org
END:VEVENT
END:VCALENDAR