BEGIN:VCALENDAR
VERSION:2.0
PRODID:-//Anderson County - ECPv6.15.20//NONSGML v1.0//EN
CALSCALE:GREGORIAN
METHOD:PUBLISH
X-ORIGINAL-URL:https://www.andersoncountysc.org
X-WR-CALDESC:Events for Anderson County
REFRESH-INTERVAL;VALUE=DURATION:PT1H
X-Robots-Tag:noindex
X-PUBLISHED-TTL:PT1H
BEGIN:VTIMEZONE
TZID:UTC
BEGIN:STANDARD
TZOFFSETFROM:+0000
TZOFFSETTO:+0000
TZNAME:UTC
DTSTART:20220101T000000
END:STANDARD
END:VTIMEZONE
BEGIN:VEVENT
DTSTART;TZID=UTC:20230607T080000
DTEND;TZID=UTC:20230607T100000
DTSTAMP:20260421T010417
CREATED:20230512T205137Z
LAST-MODIFIED:20230515T164827Z
UID:10000867-1686124800-1686132000@www.andersoncountysc.org
SUMMARY:IVA | SENIOR FARMERS' MARKET NUTRITION PROGRAM VOUCHERS
DESCRIPTION:You may qualify to receive coupons to buy fresh fruits and vegetables from authorized farmers this summer! \n\nHOW TO QUALIFY:\n• Must be age 60 or older with a low income\n• Provide proof of identity and (drivers license or ID card)\n• Provide proof that you live in this county\n• You MUST APPLY in person to receive these benefits at one of the below markets.\n\nWednesday\, June 7\, 2023 at Iva Farmer’s Market\nThursday\, June 8\, 2023 at Belton Senior Center beside Belton Farmer’s Market\nFriday\, June 9\, 2023 at Anderson Farmer’s Market\n\n\nWe will honor first come first served & begin each morning at 8am!
URL:https://www.andersoncountysc.org/event/iva-senior-farmers-market-nutrition-program-vouchers/
CATEGORIES:Community Event
END:VEVENT
BEGIN:VEVENT
DTSTART;TZID=UTC:20230608T080000
DTEND;TZID=UTC:20230608T100000
DTSTAMP:20260421T010417
CREATED:20230512T205422Z
LAST-MODIFIED:20230515T164902Z
UID:10000868-1686211200-1686218400@www.andersoncountysc.org
SUMMARY:BELTON | SENIOR FARMERS' MARKET NUTRITION PROGRAM VOUCHERS
DESCRIPTION:You may qualify to receive coupons to buy fresh fruits and vegetables from authorized farmers this summer!\nHOW TO QUALIFY: \n• Must be age 60 or older with a low income\n• Provide proof of identity and (drivers license or ID card)\n• Provide proof that you live in this county\n• You MUST APPLY in person to receive these benefits at one of the below markets.\n\nWednesday\, June 7\, 2023 at Iva Farmer’s Market\nThursday\, June 8\, 2023 at Belton Senior Center beside Belton Farmer’s Market\nFriday\, June 9\, 2023 at Anderson Farmer’s Market\n\n\nWe will honor first come first served & begin each morning at 8am!
URL:https://www.andersoncountysc.org/event/belton-senior-farmers-market-nutrition-program-vouchers/
CATEGORIES:Community Event
END:VEVENT
BEGIN:VEVENT
DTSTART;TZID=UTC:20230609T080000
DTEND;TZID=UTC:20230609T100000
DTSTAMP:20260421T010417
CREATED:20230512T205633Z
LAST-MODIFIED:20230515T164935Z
UID:10000869-1686297600-1686304800@www.andersoncountysc.org
SUMMARY:ANDERSON | SENIOR FARMERS' MARKET NUTRITION PROGRAM VOUCHERS
DESCRIPTION:You may qualify to receive coupons to buy fresh fruits and vegetables from authorized farmers this summer!HOW TO QUALIFY: \n\n• Must be age 60 or older with a low income\n• Provide proof of identity and (drivers license or ID card)\n• Provide proof that you live in this county\n• You MUST APPLY in person to receive these benefits at one of the below markets.\n\nWednesday\, June 7\, 2023 at Iva Farmer’s Market\nThursday\, June 8\, 2023 at Belton Senior Center beside Belton Farmer’s Market\nFriday\, June 9\, 2023 at Anderson Farmer’s Market\n\nWe will honor first come first served & begin each morning at 8am!
URL:https://www.andersoncountysc.org/event/anderson-senior-farmers-market-nutrition-program-vouchers/
CATEGORIES:Community Event
END:VEVENT
END:VCALENDAR